BEGIN:VCALENDAR
PRODID:NingEventWidget-v1
VERSION:2.0
METHOD:PUBLISH
BEGIN:VTIMEZONE
TZID:America/New_York
X-LIC-LOCATION:America/New_York
BEGIN:DAYLIGHT
TZOFFSETFROM:-0500
TZOFFSETTO:-0400
TZNAME:EDT
DTSTART:19700308T020000
RRULE:FREQ=YEARLY;BYMONTH=3;BYDAY=2SU
END:DAYLIGHT
BEGIN:STANDARD
TZOFFSETFROM:-0400
TZOFFSETTO:-0500
TZNAME:EST
DTSTART:19701101T020000
RRULE:FREQ=YEARLY;BYMONTH=11;BYDAY=1SU
END:STANDARD
END:VTIMEZONE
BEGIN:VEVENT
UID:2938326:Event:352131
DTSTAMP:20260419T225628Z
SUMMARY:Spanish Speakers: Happy Hour
DESCRIPTION:Come speak Spanish with us! All levels are encouraged to j
 oin us for a Thursday night Happy Hour. There will be drink specials t
 hat end at 7pm and sometimes they even put out some free tapas.  Who C
 an Attend: This will be a Members only event, aka you paid your Member
 ship Dues. Please do not bring non-member friends or co-workers to thi
 s event.  Host: Greg will be hosting this event.  How to Find the Grou
 p: We will hang signs or you can ask staff. Meet us in the bar area.  
 Directions: http://www.cervantesofspain.com/ Lots of parking at the tr
 ain station.\n\nFor more information visit http://njyp.org/events/span
 ish-speakers-happy-hour-13
DTSTART;TZID=America/New_York:20120606T180000
DTEND;TZID=America/New_York:20120606T200000
CATEGORIES:"union county", social
LOCATION:Cervantes of Spain
WEBSITE:http://www.cervantesofspain.com/
URL:http://www.cervantesofspain.com/
CONTACT:
ORGANIZER;CN="Brian and Mike":http://njyp.org/profile/BrianMike
ATTACH;FMTTYPE="image/jpeg":http://storage.ning.com/topology/rest/1.0/
 file/get/1088666870?profile=original
ATTENDEE;ROLE=REQ-PARTICIPANT;PARTSTAT=ACCEPTED;RSVP=TRUE;CN=Willy:htt
 p://njyp.org/profile/Willy
ATTENDEE;ROLE=REQ-PARTICIPANT;PARTSTAT=ACCEPTED;RSVP=TRUE;CN=Abraham:h
 ttp://njyp.org/profile/AbrahamAlvarez
ATTENDEE;ROLE=REQ-PARTICIPANT;PARTSTAT=ACCEPTED;RSVP=TRUE;CN="james mi
 kusi":http://njyp.org/profile/jimbox
ATTENDEE;ROLE=REQ-PARTICIPANT;PARTSTAT=ACCEPTED;RSVP=TRUE;CN=Jennifer:
 http://njyp.org/profile/Jennifer468
ATTENDEE;ROLE=REQ-PARTICIPANT;PARTSTAT=ACCEPTED;RSVP=TRUE;CN=Elizabeth
 :http://njyp.org/profile/Elizabeth495
ATTENDEE;ROLE=REQ-PARTICIPANT;PARTSTAT=ACCEPTED;RSVP=TRUE;CN=Nidhi:htt
 p://njyp.org/profile/Nidhi
ATTENDEE;ROLE=REQ-PARTICIPANT;PARTSTAT=ACCEPTED;RSVP=TRUE;CN="Cindy Li
 n":http://njyp.org/profile/CindyLin
ATTENDEE;ROLE=REQ-PARTICIPANT;PARTSTAT=ACCEPTED;RSVP=TRUE;CN=Susan:htt
 p://njyp.org/profile/SusanIngraffea
ATTENDEE;ROLE=REQ-PARTICIPANT;PARTSTAT=ACCEPTED;RSVP=TRUE;CN="Brian an
 d Mike":http://njyp.org/profile/BrianMike
ATTENDEE;ROLE=REQ-PARTICIPANT;PARTSTAT=TENTATIVE;RSVP=TRUE;CN=Melodie:
 http://njyp.org/profile/Melodie
ATTENDEE;ROLE=REQ-PARTICIPANT;PARTSTAT=TENTATIVE;RSVP=TRUE;CN=Auki:htt
 p://njyp.org/profile/Auki
ATTENDEE;ROLE=REQ-PARTICIPANT;PARTSTAT=TENTATIVE;RSVP=TRUE;CN="Rachel 
 O!":http://njyp.org/profile/RachelOrtiga
END:VEVENT
END:VCALENDAR
