BEGIN:VCALENDAR
PRODID:NingEventWidget-v1
VERSION:2.0
METHOD:PUBLISH
BEGIN:VTIMEZONE
TZID:America/New_York
X-LIC-LOCATION:America/New_York
BEGIN:DAYLIGHT
TZOFFSETFROM:-0500
TZOFFSETTO:-0400
TZNAME:EDT
DTSTART:19700308T020000
RRULE:FREQ=YEARLY;BYMONTH=3;BYDAY=2SU
END:DAYLIGHT
BEGIN:STANDARD
TZOFFSETFROM:-0400
TZOFFSETTO:-0500
TZNAME:EST
DTSTART:19701101T020000
RRULE:FREQ=YEARLY;BYMONTH=11;BYDAY=1SU
END:STANDARD
END:VTIMEZONE
BEGIN:VEVENT
UID:2938326:Event:364886
DTSTAMP:20260420T002143Z
SUMMARY:Spanish Speakers: Happy Hour
DESCRIPTION:Come speak Spanish with us! All levels are encouraged to j
 oin us for a Thursday night Happy Hour. There will be drink specials t
 hat end at 7pm and if you stick around there will be live, acoustic Bo
 ssa Nova.  Who Can Attend: This will be a Members only event, aka you 
 paid your Membership Dues. Please do not bring non-member friends or c
 o-worker to this event.  Host: Greg will be hosting this event.  How t
 o Find the Group: We will hang signs or you can ask staff.  Directions
 : http://www.mompoutapas.com/\n\nFor more information visit http://njy
 p.org/events/spanish-speakers-happy-hour-14
DTSTART;TZID=America/New_York:20120711T180000
DTEND;TZID=America/New_York:20120711T200000
CATEGORIES:"essex county", social
LOCATION:Mompou Tapas
WEBSITE:http://www.mompoutapas.com/
URL:http://www.mompoutapas.com/
CONTACT:
ORGANIZER;CN="Brian and Mike":http://njyp.org/profile/BrianMike
ATTACH;FMTTYPE="image/jpeg":http://storage.ning.com/topology/rest/1.0/
 file/get/1088655996?profile=original
ATTENDEE;ROLE=REQ-PARTICIPANT;PARTSTAT=ACCEPTED;RSVP=TRUE;CN=Robert:ht
 tp://njyp.org/profile/Robert67
ATTENDEE;ROLE=REQ-PARTICIPANT;PARTSTAT=ACCEPTED;RSVP=TRUE;CN=Solangee:
 http://njyp.org/profile/Solangee
ATTENDEE;ROLE=REQ-PARTICIPANT;PARTSTAT=ACCEPTED;RSVP=TRUE;CN=Ivan:http
 ://njyp.org/profile/Ivan
ATTENDEE;ROLE=REQ-PARTICIPANT;PARTSTAT=ACCEPTED;RSVP=TRUE;CN="Gio Wall
 s":http://njyp.org/profile/GioWalls
ATTENDEE;ROLE=REQ-PARTICIPANT;PARTSTAT=ACCEPTED;RSVP=TRUE;CN=mary:http
 ://njyp.org/profile/m_a_r_y
ATTENDEE;ROLE=REQ-PARTICIPANT;PARTSTAT=ACCEPTED;RSVP=TRUE;CN=Susan:htt
 p://njyp.org/profile/SusanIngraffea
ATTENDEE;ROLE=REQ-PARTICIPANT;PARTSTAT=TENTATIVE;RSVP=TRUE;CN=Gail:htt
 p://njyp.org/profile/Gail715
ATTENDEE;ROLE=REQ-PARTICIPANT;PARTSTAT=TENTATIVE;RSVP=TRUE;CN=Willy:ht
 tp://njyp.org/profile/Willy
ATTENDEE;ROLE=REQ-PARTICIPANT;PARTSTAT=TENTATIVE;RSVP=TRUE;CN=Victoria
 :http://njyp.org/profile/Victoria727
END:VEVENT
END:VCALENDAR
