BEGIN:VCALENDAR
PRODID:NingEventWidget-v1
VERSION:2.0
METHOD:PUBLISH
BEGIN:VTIMEZONE
TZID:America/New_York
X-LIC-LOCATION:America/New_York
BEGIN:DAYLIGHT
TZOFFSETFROM:-0500
TZOFFSETTO:-0400
TZNAME:EDT
DTSTART:19700308T020000
RRULE:FREQ=YEARLY;BYMONTH=3;BYDAY=2SU
END:DAYLIGHT
BEGIN:STANDARD
TZOFFSETFROM:-0400
TZOFFSETTO:-0500
TZNAME:EST
DTSTART:19701101T020000
RRULE:FREQ=YEARLY;BYMONTH=11;BYDAY=1SU
END:STANDARD
END:VTIMEZONE
BEGIN:VEVENT
UID:2938326:Event:372439
DTSTAMP:20260419T205201Z
SUMMARY:Spanish Speakers: Happy Hour
DESCRIPTION:Hable español con NJYP! Join us at this month’s local h
 ot spot as we sip sangria and enjoy tasty tapas. Like Happy Hours, the
 re’s no cover for this event and you must be a Member, but you also 
 pay for what you order. Not fluent? No worries! All levels are welcome
 , from brand-new beginners to hablantes nativos. So don’t be shy and
  strike up conversations with a small group of other YPs looking to ha
 ve a good time in another language.\n Who Can Attend: This will be a M
 embers only event, aka you paid your Membership Dues. Please do not br
 ing non-member friends or co-workers to this event.  Host: Greg will b
 e hosting this event.  How to Find the Group: We will hang signs or yo
 u can ask staff. In general look for us in the bar area.  Directions: 
 http://citybistrohoboken.com/\n\nFor more information visit http://njy
 p.org/events/spanish-speakers-happy-hour-15
DTSTART;TZID=America/New_York:20120912T183000
DTEND;TZID=America/New_York:20120912T203000
CATEGORIES:"hudson county", social, members
LOCATION:City Bistro
WEBSITE:http://citybistrohoboken.com/parking-and-directions/
URL:http://citybistrohoboken.com/parking-and-directions/
CONTACT:
ORGANIZER;CN="Brian and Mike":http://njyp.org/profile/BrianMike
ATTACH;FMTTYPE="image/jpeg":http://storage.ning.com/topology/rest/1.0/
 file/get/1088795449?profile=original
ATTENDEE;ROLE=REQ-PARTICIPANT;PARTSTAT=ACCEPTED;RSVP=TRUE;CN=Justin:ht
 tp://njyp.org/profile/Justin88
ATTENDEE;ROLE=REQ-PARTICIPANT;PARTSTAT=ACCEPTED;RSVP=TRUE;CN=Paula:htt
 p://njyp.org/profile/Paula666
ATTENDEE;ROLE=REQ-PARTICIPANT;PARTSTAT=ACCEPTED;RSVP=TRUE;CN=Solangee:
 http://njyp.org/profile/Solangee
ATTENDEE;ROLE=REQ-PARTICIPANT;PARTSTAT=ACCEPTED;RSVP=TRUE;CN=Yuriko:ht
 tp://njyp.org/profile/Yuriko
ATTENDEE;ROLE=REQ-PARTICIPANT;PARTSTAT=ACCEPTED;RSVP=TRUE;CN=Anita:htt
 p://njyp.org/profile/Anita
ATTENDEE;ROLE=REQ-PARTICIPANT;PARTSTAT=ACCEPTED;RSVP=TRUE;CN="james mi
 kusi":http://njyp.org/profile/jimbox
ATTENDEE;ROLE=REQ-PARTICIPANT;PARTSTAT=ACCEPTED;RSVP=TRUE;CN=Karla:htt
 p://njyp.org/profile/Karla
ATTENDEE;ROLE=REQ-PARTICIPANT;PARTSTAT=ACCEPTED;RSVP=TRUE;CN=Susan:htt
 p://njyp.org/profile/SusanIngraffea
ATTENDEE;ROLE=REQ-PARTICIPANT;PARTSTAT=ACCEPTED;RSVP=TRUE;CN=Alexandra
 :http://njyp.org/profile/Alexandra689
ATTENDEE;ROLE=REQ-PARTICIPANT;PARTSTAT=TENTATIVE;RSVP=TRUE;CN="Brian a
 nd Mike":http://njyp.org/profile/BrianMike
ATTENDEE;ROLE=REQ-PARTICIPANT;PARTSTAT=TENTATIVE;RSVP=TRUE;CN=Joselin:
 http://njyp.org/profile/Joselin
ATTENDEE;ROLE=REQ-PARTICIPANT;PARTSTAT=TENTATIVE;RSVP=TRUE;CN="Cindy L
 in":http://njyp.org/profile/CindyLin
ATTENDEE;ROLE=REQ-PARTICIPANT;PARTSTAT=TENTATIVE;RSVP=TRUE;CN=Fernando
 :http://njyp.org/profile/Fernando457
ATTENDEE;ROLE=REQ-PARTICIPANT;PARTSTAT=TENTATIVE;RSVP=TRUE;CN=Nina:htt
 p://njyp.org/profile/Nina187
END:VEVENT
END:VCALENDAR
