BEGIN:VCALENDAR
PRODID:NingEventWidget-v1
VERSION:2.0
METHOD:PUBLISH
BEGIN:VTIMEZONE
TZID:America/New_York
X-LIC-LOCATION:America/New_York
BEGIN:DAYLIGHT
TZOFFSETFROM:-0500
TZOFFSETTO:-0400
TZNAME:EDT
DTSTART:19700308T020000
RRULE:FREQ=YEARLY;BYMONTH=3;BYDAY=2SU
END:DAYLIGHT
BEGIN:STANDARD
TZOFFSETFROM:-0400
TZOFFSETTO:-0500
TZNAME:EST
DTSTART:19701101T020000
RRULE:FREQ=YEARLY;BYMONTH=11;BYDAY=1SU
END:STANDARD
END:VTIMEZONE
BEGIN:VEVENT
UID:2938326:Event:519209
DTSTAMP:20260420T042810Z
SUMMARY:Spanish Speakers: Happy Hour
DESCRIPTION:Hablen español con NJYP! Join us at this month’s local 
 hot spot as we sip cool drinks and enjoy tasty appetizers. Like non-Sp
 anish Happy Hours, there’s no cover for this event and you must be a
  Member, but you also pay for what you order. Not fluent? No worries! 
 All levels are welcome, from members learning to hold a basic conversa
 tion in Spanish to hablantes nativos. So don’t be shy and strike up
  conversations with a small group of other YPs looking to have a good 
 time in another language.\n Who Can Attend: This will be a Members onl
 y event, aka you paid your Membership Dues. Please do not bring non-me
 mber friends or co-workers to this event.  Host: Greg will be hosting 
 this event.\n Drink Specials Until 7PM:$1 off all drafts and discounts
  on various bottled beers. They offer many beers from Mexico and Spain
 !  How to Find the Group: We will hang signs or you can ask staff. Mee
 t us in the bar area.  Directions: http://wobusa.com/locations/New-Bru
 nswick\n\nFor more information visit http://njyp.org/events/spanish-sp
 eakers-happy-hour-23
DTSTART;TZID=America/New_York:20140219T180000
DTEND;TZID=America/New_York:20140219T200000
CATEGORIES:"middlesex county", social, spanish
LOCATION:World of Beer
WEBSITE:http://wobusa.com/locations/New-Brunswick
URL:http://wobusa.com/locations/New-Brunswick
CONTACT:
ORGANIZER:Admin
ATTACH;FMTTYPE="image/jpeg":http://storage.ning.com/topology/rest/1.0/
 file/get/1088811073?profile=original
ATTENDEE;ROLE=REQ-PARTICIPANT;PARTSTAT=ACCEPTED;RSVP=TRUE;CN=Sergio:ht
 tp://njyp.org/profile/Sergio666
ATTENDEE;ROLE=REQ-PARTICIPANT;PARTSTAT=ACCEPTED;RSVP=TRUE;CN=Ash:http:
 //njyp.org/profile/Ash
ATTENDEE;ROLE=REQ-PARTICIPANT;PARTSTAT=ACCEPTED;RSVP=TRUE;CN=Uri:http:
 //njyp.org/profile/Uri
ATTENDEE;ROLE=REQ-PARTICIPANT;PARTSTAT=ACCEPTED;RSVP=TRUE;CN=Susan:htt
 p://njyp.org/profile/SusanIngraffea
ATTENDEE;ROLE=REQ-PARTICIPANT;PARTSTAT=ACCEPTED;RSVP=TRUE;CN=Erica:htt
 p://njyp.org/profile/Erica105
ATTENDEE;ROLE=REQ-PARTICIPANT;PARTSTAT=ACCEPTED;RSVP=TRUE;CN=Vanessa:h
 ttp://njyp.org/profile/Vanessa505
ATTENDEE;ROLE=REQ-PARTICIPANT;PARTSTAT=TENTATIVE;RSVP=TRUE;CN="Ed H":h
 ttp://njyp.org/profile/EdH
ATTENDEE;ROLE=REQ-PARTICIPANT;PARTSTAT=TENTATIVE;RSVP=TRUE;CN=Gabriela
 :http://njyp.org/profile/Gabriela
END:VEVENT
END:VCALENDAR
