BEGIN:VCALENDAR
PRODID:NingEventWidget-v1
VERSION:2.0
METHOD:PUBLISH
BEGIN:VTIMEZONE
TZID:America/New_York
X-LIC-LOCATION:America/New_York
BEGIN:DAYLIGHT
TZOFFSETFROM:-0500
TZOFFSETTO:-0400
TZNAME:EDT
DTSTART:19700308T020000
RRULE:FREQ=YEARLY;BYMONTH=3;BYDAY=2SU
END:DAYLIGHT
BEGIN:STANDARD
TZOFFSETFROM:-0400
TZOFFSETTO:-0500
TZNAME:EST
DTSTART:19701101T020000
RRULE:FREQ=YEARLY;BYMONTH=11;BYDAY=1SU
END:STANDARD
END:VTIMEZONE
BEGIN:VEVENT
UID:2938326:Event:533167
DTSTAMP:20260420T144225Z
SUMMARY:Spanish Speakers: Happy Hour
DESCRIPTION:Hablen español con NJYP! Join us at this month’s local 
 hot spot as we sip cool drinks and enjoy tasty appetizers. Like non-Sp
 anish Happy Hours, there’s no cover for this event and you must be a
  Member, but you also pay for what you order. Not fluent? No worries! 
 All levels are welcome, from members learning to hold a basic conversa
 tion in Spanish to hablantes nativos. So don’t be shy and strike up
  conversations with a small group of other YPs looking to have a good 
 time in another language.\n Who Can Attend: This will be a Members onl
 y event, aka you paid your Membership Dues. Please do not bring non-me
 mber friends or co-workers to this event.  Host: Greg will be hosting 
 this event.\n How to Find the Group: We will hang signs or you can ask
  staff. Meet us in the bar area.  Directions: http://pigandprince.com/
  Easy parking lot parking.\n\nFor more information visit http://njyp.o
 rg/events/spanish-speakers-happy-hour-24
DTSTART;TZID=America/New_York:20140416T180000
DTEND;TZID=America/New_York:20140416T200000
CATEGORIES:"essex county", social, spanish
LOCATION:Pig and Prince
WEBSITE:http://pigandprince.com/
URL:http://pigandprince.com/
CONTACT:
ORGANIZER:Admin
ATTACH;FMTTYPE="image/jpeg":http://storage.ning.com/topology/rest/1.0/
 file/get/1088811073?profile=original
ATTENDEE;ROLE=REQ-PARTICIPANT;PARTSTAT=ACCEPTED;RSVP=TRUE;CN=Erica:htt
 p://njyp.org/profile/Erica105
ATTENDEE;ROLE=REQ-PARTICIPANT;PARTSTAT=ACCEPTED;RSVP=TRUE;CN=Fernando:
 http://njyp.org/profile/Fernando457
ATTENDEE;ROLE=REQ-PARTICIPANT;PARTSTAT=ACCEPTED;RSVP=TRUE;CN=Miguel:ht
 tp://njyp.org/profile/Miguel70
ATTENDEE;ROLE=REQ-PARTICIPANT;PARTSTAT=ACCEPTED;RSVP=TRUE;CN=Jennifer:
 http://njyp.org/profile/JenniferGates
ATTENDEE;ROLE=REQ-PARTICIPANT;PARTSTAT=ACCEPTED;RSVP=TRUE;CN=Vanessa:h
 ttp://njyp.org/profile/Vanessa505
ATTENDEE;ROLE=REQ-PARTICIPANT;PARTSTAT=ACCEPTED;RSVP=TRUE;CN=Nelson:ht
 tp://njyp.org/profile/Nelson
ATTENDEE;ROLE=REQ-PARTICIPANT;PARTSTAT=TENTATIVE;RSVP=TRUE;CN=Maxine:h
 ttp://njyp.org/profile/Maxine
ATTENDEE;ROLE=REQ-PARTICIPANT;PARTSTAT=TENTATIVE;RSVP=TRUE;CN=Kari:htt
 p://njyp.org/profile/Kari
ATTENDEE;ROLE=REQ-PARTICIPANT;PARTSTAT=TENTATIVE;RSVP=TRUE;CN=Leah:htt
 p://njyp.org/profile/LeahZ
ATTENDEE;ROLE=REQ-PARTICIPANT;PARTSTAT=TENTATIVE;RSVP=TRUE;CN="Gina An
 drade":http://njyp.org/profile/Gina900
END:VEVENT
END:VCALENDAR
