BEGIN:VCALENDAR
PRODID:NingEventWidget-v1
VERSION:2.0
METHOD:PUBLISH
BEGIN:VTIMEZONE
TZID:America/New_York
X-LIC-LOCATION:America/New_York
BEGIN:DAYLIGHT
TZOFFSETFROM:-0500
TZOFFSETTO:-0400
TZNAME:EDT
DTSTART:19700308T020000
RRULE:FREQ=YEARLY;BYMONTH=3;BYDAY=2SU
END:DAYLIGHT
BEGIN:STANDARD
TZOFFSETFROM:-0400
TZOFFSETTO:-0500
TZNAME:EST
DTSTART:19701101T020000
RRULE:FREQ=YEARLY;BYMONTH=11;BYDAY=1SU
END:STANDARD
END:VTIMEZONE
BEGIN:VEVENT
UID:2938326:Event:66151
DTSTAMP:20260419T122205Z
SUMMARY:Spanish Speakers: Happy Hour
DESCRIPTION:So sorry but this will be canceled due to lack of interest
 .\n\nYou vote with your RSVPs.\n\n\n***************\nCome speak Spanis
 h with us! We will be meeting up at Lounge 46 for their \"Mambo Tuesda
 ys\" which means a Fre* Latin Buffet as well as fabulous drink special
 s. They also feature an outdoor bar and if you stick around long enoug
 h you will get to enjoy the Latin Rhythms of Salsa, Merengue & Bachata
 .\n\nWho Can Attend:\nThis will be a Members only event, aka you paid 
 your Membership Dues.\nTickets are NOT required but you must RSVP by 3
 pm the day of the event. If you RSVP after 3pm you MUST print out a co
 py of your NJYP profile page as proof that you paid your dues. In lieu
  of printing you can also pull up your profile on your smart phone (bo
 okmark your URL).\n\nSpecials Unntil 10pm:\nFre* Latin Buffet\n$5 Spec
 ialty Martinis & Cocktails\n$3 All Imported & Domestic Beers\n$5 Mojit
 os, Apple Martinis & Cosmos\n\nHost:\nGreg will be hosting this event.
 \n\nHow to Find the Group:\nWe will hang signs or you can ask for staf
 f. If it is nice we will be meeting up outside.\n\nParking:\nLots of p
 arking at this venue.\n\nDirections:\nhttp://www.46lounge.com\n\nFor m
 ore information visit http://njyp.org/events/spanish-speakers-happy-ho
 ur
DTSTART;TZID=America/New_York:20100525T183000
DTEND;TZID=America/New_York:20100525T203000
CATEGORIES:"passaic county", social
LOCATION:46 Lounge
WEBSITE:http://www.46lounge.com
URL:http://www.46lounge.com
CONTACT:
ORGANIZER;CN="Brian and Mike":http://njyp.org/profile/BrianMike
ATTACH;FMTTYPE="image/jpeg":http://storage.ning.com/topology/rest/1.0/
 file/get/1088614847?profile=original
ATTENDEE;ROLE=REQ-PARTICIPANT;PARTSTAT=ACCEPTED;RSVP=TRUE;CN="Deya Mat
 os":http://njyp.org/profile/DeyaMatos
ATTENDEE;ROLE=REQ-PARTICIPANT;PARTSTAT=TENTATIVE;RSVP=TRUE;CN=Diego:ht
 tp://njyp.org/profile/Diego
ATTENDEE;ROLE=REQ-PARTICIPANT;PARTSTAT=TENTATIVE;RSVP=TRUE;CN="james m
 ikusi":http://njyp.org/profile/jimbox
ATTENDEE;ROLE=REQ-PARTICIPANT;PARTSTAT=TENTATIVE;RSVP=TRUE;CN=Leah:htt
 p://njyp.org/profile/LeahZ
ATTENDEE;ROLE=REQ-PARTICIPANT;PARTSTAT=TENTATIVE;RSVP=TRUE;CN=Solangee
 :http://njyp.org/profile/Solangee
ATTENDEE;ROLE=REQ-PARTICIPANT;PARTSTAT=TENTATIVE;RSVP=TRUE;CN=Rebecca:
 http://njyp.org/profile/Rebecca
ATTENDEE;ROLE=REQ-PARTICIPANT;PARTSTAT=TENTATIVE;RSVP=TRUE;CN=John:htt
 p://njyp.org/profile/JohnCastro
END:VEVENT
END:VCALENDAR
