BEGIN:VCALENDAR
PRODID:NingEventWidget-v1
VERSION:2.0
METHOD:PUBLISH
BEGIN:VTIMEZONE
TZID:America/New_York
X-LIC-LOCATION:America/New_York
BEGIN:DAYLIGHT
TZOFFSETFROM:-0500
TZOFFSETTO:-0400
TZNAME:EDT
DTSTART:19700308T020000
RRULE:FREQ=YEARLY;BYMONTH=3;BYDAY=2SU
END:DAYLIGHT
BEGIN:STANDARD
TZOFFSETFROM:-0400
TZOFFSETTO:-0500
TZNAME:EST
DTSTART:19701101T020000
RRULE:FREQ=YEARLY;BYMONTH=11;BYDAY=1SU
END:STANDARD
END:VTIMEZONE
BEGIN:VEVENT
UID:2938326:Event:32021
DTSTAMP:20260420T165103Z
SUMMARY:Spanish Speakers: Movie Night
DESCRIPTION:Join the \"Spanish Speakers\" of NJYP for their first movi
 e night! This event will begin with a quick Meet and Greet in the lobb
 y of the theatre (BEFORE YOU BUY TIX). After the movie the group may g
 o to Cuban Pete's for a snack and to discuss the film. Expect friendly
  young professionals whose skills range from beginners to advanced.\n\
 nTrailer for Broken Embraces\n\n\nNJYP Host:\nGreg will be hosting thi
 s event. Gracias Greg!\n\nATTENTION:\nPlease meet the group at 6:15 on
  the benches inside that are outside the ticket box office. The group 
 will meet there from 6:15 until 6:30 only. If you arrive late you may 
 have trouble finding everyone inside the theatre.\n\nWho Can Attend:\n
 You must be a Member (aka paid dues) to attend.\nThis event is open to
  ALL levels (the movie will have subtitles).\n\nCost:\nYou will be res
 ponsible for buying your movie ticket and food/drinks.\n\nDirections/P
 arking:\nParking can be difficult so please try to leave extra early.\
 n\nFor more information visit http://njyp.org/events/spanish-speakers-
 movie-night
DTSTART;TZID=America/New_York:20091230T181500
DTEND;TZID=America/New_York:20091230T220000
CATEGORIES:"essex county", social
LOCATION:Clearview's Claridge Cinema
WEBSITE:http://www.yelp.com/biz/clearviews-claridge-cinema-montclair
URL:http://www.yelp.com/biz/clearviews-claridge-cinema-montclair
CONTACT:
ORGANIZER;CN="Brian and Mike":http://njyp.org/profile/BrianMike
ATTACH;FMTTYPE="image/jpeg":http://storage.ning.com/topology/rest/1.0/
 file/get/1088577574?profile=original
ATTENDEE;ROLE=REQ-PARTICIPANT;PARTSTAT=ACCEPTED;RSVP=TRUE;CN="Jose G."
 :http://njyp.org/profile/MrG
ATTENDEE;ROLE=REQ-PARTICIPANT;PARTSTAT=ACCEPTED;RSVP=TRUE;CN="Niraj Ch
 habra":http://njyp.org/profile/nirajchhabra
ATTENDEE;ROLE=REQ-PARTICIPANT;PARTSTAT=ACCEPTED;RSVP=TRUE;CN="james mi
 kusi":http://njyp.org/profile/jimbox
ATTENDEE;ROLE=REQ-PARTICIPANT;PARTSTAT=ACCEPTED;RSVP=TRUE;CN=Laura:htt
 p://njyp.org/profile/Laura663
ATTENDEE;ROLE=REQ-PARTICIPANT;PARTSTAT=ACCEPTED;RSVP=TRUE;CN=Anita:htt
 p://njyp.org/profile/Anita
ATTENDEE;ROLE=REQ-PARTICIPANT;PARTSTAT=ACCEPTED;RSVP=TRUE;CN=Kathleen:
 http://njyp.org/profile/Kathleen463
ATTENDEE;ROLE=REQ-PARTICIPANT;PARTSTAT=ACCEPTED;RSVP=TRUE;CN="Chip Rob
 inson":http://njyp.org/profile/ChipRobinson
ATTENDEE;ROLE=REQ-PARTICIPANT;PARTSTAT=TENTATIVE;RSVP=TRUE;CN="Joanna 
 N. Garcia":http://njyp.org/profile/JoannaNGarcia
ATTENDEE;ROLE=REQ-PARTICIPANT;PARTSTAT=TENTATIVE;RSVP=TRUE;CN="Dominic
 k Velardo":http://njyp.org/profile/DominickVelardo
ATTENDEE;ROLE=REQ-PARTICIPANT;PARTSTAT=TENTATIVE;RSVP=TRUE;CN="Kristen
  Ann":http://njyp.org/profile/KristenAnn
ATTENDEE;ROLE=REQ-PARTICIPANT;PARTSTAT=TENTATIVE;RSVP=TRUE;CN=Rebecca:
 http://njyp.org/profile/Rebecca
ATTENDEE;ROLE=REQ-PARTICIPANT;PARTSTAT=TENTATIVE;RSVP=TRUE;CN="Ed H":h
 ttp://njyp.org/profile/EdH
ATTENDEE;ROLE=REQ-PARTICIPANT;PARTSTAT=TENTATIVE;RSVP=TRUE;CN="Michael
  Serico":http://njyp.org/profile/MichaelSerico
ATTENDEE;ROLE=REQ-PARTICIPANT;PARTSTAT=TENTATIVE;RSVP=TRUE;CN="Wendy R
 eyes":http://njyp.org/profile/WendyReyes
END:VEVENT
END:VCALENDAR
