BEGIN:VCALENDAR
PRODID:NingEventWidget-v1
VERSION:2.0
METHOD:PUBLISH
BEGIN:VTIMEZONE
TZID:America/New_York
X-LIC-LOCATION:America/New_York
BEGIN:DAYLIGHT
TZOFFSETFROM:-0500
TZOFFSETTO:-0400
TZNAME:EDT
DTSTART:19700308T020000
RRULE:FREQ=YEARLY;BYMONTH=3;BYDAY=2SU
END:DAYLIGHT
BEGIN:STANDARD
TZOFFSETFROM:-0400
TZOFFSETTO:-0500
TZNAME:EST
DTSTART:19701101T020000
RRULE:FREQ=YEARLY;BYMONTH=11;BYDAY=1SU
END:STANDARD
END:VTIMEZONE
BEGIN:VEVENT
UID:2938326:Event:316064
DTSTAMP:20260420T021605Z
SUMMARY:Spanish Speakers: Night Out
DESCRIPTION:Join NJYP for a Spanish Speakers Night Out at Tapastry in 
 Monclair.  All levels are encouraged to come for great conversation a
 nd ‘tapas clasicas de Espana’.   Plus, if you bring a bottle of 
 wine, the folks at Tapastry will stir up a batch of Sangria – perfec
 t to sip while you practice a new language or chat in  a familiar one
 .   Who Can Attend: This will be a Members only event, aka you paid yo
 ur Membership Dues. Please do not bring non-member friends or co-worke
 r to this event.  Host: Greg will be hosting this event.  How to Find 
 the Group: We will hang signs or you can ask staff.  Directions: http:
 //www.tapastryrestaurant.com/\n\nFor more information visit http://njy
 p.org/events/spanish-speakers-night-out-1
DTSTART;TZID=America/New_York:20120223T183000
DTEND;TZID=America/New_York:20120223T203000
CATEGORIES:"essex county", social, members
LOCATION:Tapastry
WEBSITE:http://www.tapastryrestaurant.com/
URL:http://www.tapastryrestaurant.com/
CONTACT:
ORGANIZER;CN="Brian and Mike":http://njyp.org/profile/BrianMike
ATTACH;FMTTYPE="image/jpeg":http://storage.ning.com/topology/rest/1.0/
 file/get/1088655996?profile=original
ATTENDEE;ROLE=REQ-PARTICIPANT;PARTSTAT=ACCEPTED;RSVP=TRUE;CN=Tiffanny:
 http://njyp.org/profile/Tiffanny
ATTENDEE;ROLE=REQ-PARTICIPANT;PARTSTAT=ACCEPTED;RSVP=TRUE;CN=mary:http
 ://njyp.org/profile/m_a_r_y
ATTENDEE;ROLE=REQ-PARTICIPANT;PARTSTAT=ACCEPTED;RSVP=TRUE;CN=Sergio:ht
 tp://njyp.org/profile/Sergio666
ATTENDEE;ROLE=REQ-PARTICIPANT;PARTSTAT=ACCEPTED;RSVP=TRUE;CN=Emelyn:ht
 tp://njyp.org/profile/Emelyn
ATTENDEE;ROLE=REQ-PARTICIPANT;PARTSTAT=ACCEPTED;RSVP=TRUE;CN=Carol:htt
 p://njyp.org/profile/Carol431
ATTENDEE;ROLE=REQ-PARTICIPANT;PARTSTAT=ACCEPTED;RSVP=TRUE;CN=John:http
 ://njyp.org/profile/JohnCastro
ATTENDEE;ROLE=REQ-PARTICIPANT;PARTSTAT=ACCEPTED;RSVP=TRUE;CN=Lissa:htt
 p://njyp.org/profile/Lissa
ATTENDEE;ROLE=REQ-PARTICIPANT;PARTSTAT=TENTATIVE;RSVP=TRUE;CN=Jennifer
 :http://njyp.org/profile/JenniferGates
ATTENDEE;ROLE=REQ-PARTICIPANT;PARTSTAT=TENTATIVE;RSVP=TRUE;CN=Brenda:h
 ttp://njyp.org/profile/Brenda6
ATTENDEE;ROLE=REQ-PARTICIPANT;PARTSTAT=TENTATIVE;RSVP=TRUE;CN=Lyssete:
 http://njyp.org/profile/Lyssete
ATTENDEE;ROLE=REQ-PARTICIPANT;PARTSTAT=TENTATIVE;RSVP=TRUE;CN=Gail:htt
 p://njyp.org/profile/Gail715
ATTENDEE;ROLE=REQ-PARTICIPANT;PARTSTAT=TENTATIVE;RSVP=TRUE;CN=Judy:htt
 p://njyp.org/profile/Judy319
ATTENDEE;ROLE=REQ-PARTICIPANT;PARTSTAT=TENTATIVE;RSVP=TRUE;CN=Patricia
 :http://njyp.org/profile/Patricia685
ATTENDEE;ROLE=REQ-PARTICIPANT;PARTSTAT=TENTATIVE;RSVP=TRUE;CN=Fernando
 :http://njyp.org/profile/Fernando457
ATTENDEE;ROLE=REQ-PARTICIPANT;PARTSTAT=TENTATIVE;RSVP=TRUE;CN="james m
 ikusi":http://njyp.org/profile/jimbox
ATTENDEE;ROLE=REQ-PARTICIPANT;PARTSTAT=TENTATIVE;RSVP=TRUE;CN="Audrey 
 Grier":http://njyp.org/profile/AudreyGrier
ATTENDEE;ROLE=REQ-PARTICIPANT;PARTSTAT=TENTATIVE;RSVP=TRUE;CN=Carlos:h
 ttp://njyp.org/profile/Carlos557
END:VEVENT
END:VCALENDAR
