BEGIN:VCALENDAR
PRODID:NingEventWidget-v1
VERSION:2.0
METHOD:PUBLISH
BEGIN:VTIMEZONE
TZID:America/New_York
X-LIC-LOCATION:America/New_York
BEGIN:DAYLIGHT
TZOFFSETFROM:-0500
TZOFFSETTO:-0400
TZNAME:EDT
DTSTART:19700308T020000
RRULE:FREQ=YEARLY;BYMONTH=3;BYDAY=2SU
END:DAYLIGHT
BEGIN:STANDARD
TZOFFSETFROM:-0400
TZOFFSETTO:-0500
TZNAME:EST
DTSTART:19701101T020000
RRULE:FREQ=YEARLY;BYMONTH=11;BYDAY=1SU
END:STANDARD
END:VTIMEZONE
BEGIN:VEVENT
UID:2938326:Event:16143
DTSTAMP:20260422T232517Z
SUMMARY:Spanish Speakers Night Out
DESCRIPTION:Do you speak Spanish? Whether you are a native speaker or 
 just learning the language you will want to join us for this Friday ni
 ght in Jersey City. We will start with a meet and greet at The Westin 
 then move over to Azucar for some Latin dancing. RSVP if you plan to a
 ttend and get ready to turn your Spanish speaking skills on.\n\nCost:\
 nThis is a “Members Only” FREE event.\nYou must be a Member (aka p
 aid the $9.99) of NJYP to attend.\nPlease RSVP so we know to expect yo
 u.\n\nSchedule:\nCharlar 8-10pm\nMeet and Greet en español at the Hal
 f Moon Lobby Lounge in The Westin Jersey City Newport. 479 Washington 
 Boulevard, Jersey City.\n\nBailar 10pm - ?\nWe'll head over to Azucar 
 (next door) at around 10pm or so.\n495 Washington Blvd, Jersey City\n\
 nDrink Specials until 9pm:\n$3 beers\n$5 house glasses of wine\n$5 bas
 ic mix drinks\n\nAzucar’s Dress Code:\nMen- No shorts, flip flops, o
 r hats\nWomen- Azucar does not state a dress code for women\n\nNJYP Ho
 st:\nGreg will be planning and hosting this event. Thanks Greg!\n\nHow
  to find the group:\nWe will meet in the Half Moon Lobby Lounge. Ask f
 or NJYP at the host stand and they will show you where we are.\n\nPark
 ing:\nBoth places are located on the same side of Washington Boulevard
 . In between The Westin and Azucar is a Parking Deck that is convenien
 t to both and inexpensive.\n\nDirections by Greg:\n<<From Routes 1&9 (
 Pulaski Skyway) or the Turnpike Extension (Route 78 East), turn right 
 at the Traffic Light for Jersey Avenue as you approach the Holland Tun
 nel. It's one of the first traffic lights as either highways end. Make
  an almost immediate left turn on to 11th Street and follow it for abo
 ut 6 blocks to the next traffic light. This will be the intersection f
 or Washington Boulevard. Turn right, drive about 1/4 mile, and watch f
 or the yellow patio umbrellas on sidewalk to your right which belong t
 o the outdoor dining section of Azucar at 495 Washington Boulevard. Th
 e entrance for the parking lot for the Westin is the next right immedi
 ately after Azucar.\n\nOnce you have parked, walk back towards Washing
 ton Boulevard and enter the Westin's Main Lobby on your right. Once in
 side, be sure to go left towards the Concierge Desk. The entrance to t
 he Half Moon Lounge will be directly across from the Concierge. You wi
 ll also see an easle with an NJYP sign posted. Nos vemos alli!>>\n\nTh
 is is the link for Bing Maps\n\nFor more information visit http://njyp
 .org/events/spanish-speakers-night-out
DTSTART;TZID=America/New_York:20090918T200000
DTEND;TZID=America/New_York:20090918T234500
CATEGORIES:"hudson county", social
LOCATION:Half Moon Lobby Lounge
WEBSITE:http://www.starwoodhotels.com/westin/property/dining/index.htm
 l?propertyID=3049
URL:http://www.starwoodhotels.com/westin/property/dining/index.html?pr
 opertyID=3049
CONTACT:
ORGANIZER;CN="Brian and Mike":http://njyp.org/profile/BrianMike
ATTACH;FMTTYPE="image/jpeg":http://storage.ning.com/topology/rest/1.0/
 file/get/1088555740?profile=original
ATTENDEE;ROLE=REQ-PARTICIPANT;PARTSTAT=ACCEPTED;RSVP=TRUE;CN="Brenda E
 unice":http://njyp.org/profile/BrendaEunice
ATTENDEE;ROLE=REQ-PARTICIPANT;PARTSTAT=ACCEPTED;RSVP=TRUE;CN="Ruth Flo
 res":http://njyp.org/profile/RuthFlores
ATTENDEE;ROLE=REQ-PARTICIPANT;PARTSTAT=ACCEPTED;RSVP=TRUE;CN=Vero:http
 ://njyp.org/profile/Vero
ATTENDEE;ROLE=REQ-PARTICIPANT;PARTSTAT=ACCEPTED;RSVP=TRUE;CN=Anita:htt
 p://njyp.org/profile/Anita
ATTENDEE;ROLE=REQ-PARTICIPANT;PARTSTAT=TENTATIVE;RSVP=TRUE;CN=akhtar:h
 ttp://njyp.org/profile/nasser
ATTENDEE;ROLE=REQ-PARTICIPANT;PARTSTAT=TENTATIVE;RSVP=TRUE;CN="Hugo X 
 Carvajal":http://njyp.org/profile/HugoXCarvajal
END:VEVENT
END:VCALENDAR
