BEGIN:VCALENDAR
PRODID:NingEventWidget-v1
VERSION:2.0
METHOD:PUBLISH
BEGIN:VTIMEZONE
TZID:America/New_York
X-LIC-LOCATION:America/New_York
BEGIN:DAYLIGHT
TZOFFSETFROM:-0500
TZOFFSETTO:-0400
TZNAME:EDT
DTSTART:19700308T020000
RRULE:FREQ=YEARLY;BYMONTH=3;BYDAY=2SU
END:DAYLIGHT
BEGIN:STANDARD
TZOFFSETFROM:-0400
TZOFFSETTO:-0500
TZNAME:EST
DTSTART:19701101T020000
RRULE:FREQ=YEARLY;BYMONTH=11;BYDAY=1SU
END:STANDARD
END:VTIMEZONE
BEGIN:VEVENT
UID:2938326:Event:433487
DTSTAMP:20260421T120330Z
SUMMARY:Speed Dating: 20-Somethings in Jersey City
DESCRIPTION:CANCELED DUE TO lack of interest.\n10 to 15 dates in one n
 ight! That is what you will get at any of our Speed Dating events. You
  will meet one-on-one for 4 minutes with other single Young Profession
 als. At the end of each date you will privately circle Yes or No on yo
 ur scorecard; noting if you would want to see your date again. At the 
 end of the night you will return home and enter your results online. 
  Within 24 hours you will receive your mutual matches. Setting up real
  dates is then up to you!  Age Range: Women and Men who are 21 to 31. 
 Bring ID and make sure you are in our targeted age range. We host thes
 e events monthly and we do mix up the age range.  \n Member Cost: $10 
 for the first 20 to register $15 for the next 21 to 40 to register $20
  for walk-ins if there is space  Non-Member Cost: $20 online and at th
 e door if there is space  2 Item Minimum: Everyone must purchase 2 ite
 ms during this event; food and/or any drink but soda. Bottled water, j
 uice, virgin drinks do count toward the minimum.  Tickets: There are a
  limited number of Tickets for sale. Tickets are not mailed, but your 
 name will be kept at the door. All sales are final.  Finding the Group
 : Please meet the group upstairs.\n Directions/Parking: http://www.blu
 emoonmexicancafe.com/locations\n \n\nFor more information visit http:
 //njyp.org/events/speed-dating-20-somethings-in-jersey-city
DTSTART;TZID=America/New_York:20130416T190000
DTEND;TZID=America/New_York:20130416T210000
CATEGORIES:"hudson county", social, singles
LOCATION:Blue Moon Mexican Cafe
WEBSITE:http://Please meet the group upstairs.
URL:http://Please meet the group upstairs.
CONTACT:
ORGANIZER;CN="Brian and Mike":http://njyp.org/profile/BrianMike
ATTACH;FMTTYPE="image/jpeg":http://storage.ning.com/topology/rest/1.0/
 file/get/1088789543?profile=original
ATTENDEE;ROLE=REQ-PARTICIPANT;PARTSTAT=ACCEPTED;RSVP=TRUE;CN=Nataliya:
 http://njyp.org/profile/Nataliya129
ATTENDEE;ROLE=REQ-PARTICIPANT;PARTSTAT=ACCEPTED;RSVP=TRUE;CN=Marie:htt
 p://njyp.org/profile/Marie810
ATTENDEE;ROLE=REQ-PARTICIPANT;PARTSTAT=ACCEPTED;RSVP=TRUE;CN=Ven:http:
 //njyp.org/profile/Ven
ATTENDEE;ROLE=REQ-PARTICIPANT;PARTSTAT=ACCEPTED;RSVP=TRUE;CN="Laura La
 briola":http://njyp.org/profile/LauraLabriola
ATTENDEE;ROLE=REQ-PARTICIPANT;PARTSTAT=ACCEPTED;RSVP=TRUE;CN="Brian an
 d Mike":http://njyp.org/profile/BrianMike
ATTENDEE;ROLE=REQ-PARTICIPANT;PARTSTAT=TENTATIVE;RSVP=TRUE;CN=Austin:h
 ttp://njyp.org/profile/Austin
ATTENDEE;ROLE=REQ-PARTICIPANT;PARTSTAT=TENTATIVE;RSVP=TRUE;CN=Janene:h
 ttp://njyp.org/profile/Janene
ATTENDEE;ROLE=REQ-PARTICIPANT;PARTSTAT=TENTATIVE;RSVP=TRUE;CN=Candido:
 http://njyp.org/profile/Candido
ATTENDEE;ROLE=REQ-PARTICIPANT;PARTSTAT=TENTATIVE;RSVP=TRUE;CN=Jennifer
 :http://njyp.org/profile/Jennifer448
ATTENDEE;ROLE=REQ-PARTICIPANT;PARTSTAT=TENTATIVE;RSVP=TRUE;CN=Jeffrey:
 http://njyp.org/profile/Jeffrey176
END:VEVENT
END:VCALENDAR
