BEGIN:VCALENDAR
PRODID:NingEventWidget-v1
VERSION:2.0
METHOD:PUBLISH
BEGIN:VTIMEZONE
TZID:America/New_York
X-LIC-LOCATION:America/New_York
BEGIN:DAYLIGHT
TZOFFSETFROM:-0500
TZOFFSETTO:-0400
TZNAME:EDT
DTSTART:19700308T020000
RRULE:FREQ=YEARLY;BYMONTH=3;BYDAY=2SU
END:DAYLIGHT
BEGIN:STANDARD
TZOFFSETFROM:-0400
TZOFFSETTO:-0500
TZNAME:EST
DTSTART:19701101T020000
RRULE:FREQ=YEARLY;BYMONTH=11;BYDAY=1SU
END:STANDARD
END:VTIMEZONE
BEGIN:VEVENT
UID:2938326:Event:424738
DTSTAMP:20260421T040358Z
SUMMARY:Speed Dating: 20-Somethings in Montclair
DESCRIPTION:10 to 15 dates in one night! That is what you will get at 
 any of our Speed Dating events. You will meet one-on-one for 4 minutes
  with other single Young Professionals. At the end of each date you wi
 ll privately circle Yes or No on your scorecard; noting if you would w
 ant to see your date again. At the end of the night you will return ho
 me and enter your results online.  Within 24 hours you will receive y
 our mutual matches. Setting up real dates is then up to you!  Age Rang
 e: Women and Men who are 21 to 31. Bring ID and make sure you are in o
 ur targeted age range. We host these events monthly and we do mix up t
 he age range.  \n Member Cost: $10 for the first 20 to register $15 fo
 r the next 21 to 40 to register $20 for walk-ins if there is space  No
 n-Member Cost: $20 online and at the door if there is space  2 Item Mi
 nimum: Everyone must purchase 2 items during this event; food and/or a
 ny drink but soda. Bottled water, juice, virgin drinks do count toward
  the minimum.  Tickets: There are a limited number of Tickets for sale
 . Tickets are not mailed, but your name will be kept at the door. All 
 sales are final.  Finding the Group: We will meet in the back party ro
 om for registration.  Directions/Parking: http://www.justjakes.com/ T
 here is parking behind the restaurant.\n \n\nFor more information vis
 it http://njyp.org/events/speed-dating-20-somethings-in-montclair
DTSTART;TZID=America/New_York:20130409T190000
DTEND;TZID=America/New_York:20130409T210000
CATEGORIES:"essex county", social, singles
LOCATION:Just Jakes (private party room)
WEBSITE:http://www.justjakes.com/
URL:http://www.justjakes.com/
CONTACT:
ORGANIZER;CN="Brian and Mike":http://njyp.org/profile/BrianMike
ATTACH;FMTTYPE="image/jpeg":http://storage.ning.com/topology/rest/1.0/
 file/get/1088789543?profile=original
ATTENDEE;ROLE=REQ-PARTICIPANT;PARTSTAT=ACCEPTED;RSVP=TRUE;CN=JAMAL:htt
 p://njyp.org/profile/JAMAL
ATTENDEE;ROLE=REQ-PARTICIPANT;PARTSTAT=ACCEPTED;RSVP=TRUE;CN=Sara:http
 ://njyp.org/profile/Sara409
ATTENDEE;ROLE=REQ-PARTICIPANT;PARTSTAT=ACCEPTED;RSVP=TRUE;CN="Margot G
 alant Levinson":http://njyp.org/profile/MargotGalantLevinson
ATTENDEE;ROLE=REQ-PARTICIPANT;PARTSTAT=ACCEPTED;RSVP=TRUE;CN=Cesarina:
 http://njyp.org/profile/Cesarina
ATTENDEE;ROLE=REQ-PARTICIPANT;PARTSTAT=ACCEPTED;RSVP=TRUE;CN=Liz:http:
 //njyp.org/profile/Liz316
ATTENDEE;ROLE=REQ-PARTICIPANT;PARTSTAT=ACCEPTED;RSVP=TRUE;CN=Marie:htt
 p://njyp.org/profile/Marie810
ATTENDEE;ROLE=REQ-PARTICIPANT;PARTSTAT=ACCEPTED;RSVP=TRUE;CN="Brian an
 d Mike":http://njyp.org/profile/BrianMike
ATTENDEE;ROLE=REQ-PARTICIPANT;PARTSTAT=TENTATIVE;RSVP=TRUE;CN=Jennifer
 :http://njyp.org/profile/Jennifer448
ATTENDEE;ROLE=REQ-PARTICIPANT;PARTSTAT=TENTATIVE;RSVP=TRUE;CN=Chris:ht
 tp://njyp.org/profile/Chris6
ATTENDEE;ROLE=REQ-PARTICIPANT;PARTSTAT=TENTATIVE;RSVP=TRUE;CN=Frankie:
 http://njyp.org/profile/FRANKIE232
ATTENDEE;ROLE=REQ-PARTICIPANT;PARTSTAT=TENTATIVE;RSVP=TRUE;CN=Julie:ht
 tp://njyp.org/profile/Julie942
ATTENDEE;ROLE=REQ-PARTICIPANT;PARTSTAT=TENTATIVE;RSVP=TRUE;CN=Jeffrey:
 http://njyp.org/profile/Jeffrey176
ATTENDEE;ROLE=REQ-PARTICIPANT;PARTSTAT=TENTATIVE;RSVP=TRUE;CN=Carina:h
 ttp://njyp.org/profile/Carina
END:VEVENT
END:VCALENDAR
