BEGIN:VCALENDAR
PRODID:NingEventWidget-v1
VERSION:2.0
METHOD:PUBLISH
BEGIN:VTIMEZONE
TZID:America/New_York
X-LIC-LOCATION:America/New_York
BEGIN:DAYLIGHT
TZOFFSETFROM:-0500
TZOFFSETTO:-0400
TZNAME:EDT
DTSTART:19700308T020000
RRULE:FREQ=YEARLY;BYMONTH=3;BYDAY=2SU
END:DAYLIGHT
BEGIN:STANDARD
TZOFFSETFROM:-0400
TZOFFSETTO:-0500
TZNAME:EST
DTSTART:19701101T020000
RRULE:FREQ=YEARLY;BYMONTH=11;BYDAY=1SU
END:STANDARD
END:VTIMEZONE
BEGIN:VEVENT
UID:2938326:Event:35023
DTSTAMP:20260420T153242Z
SUMMARY:Speed Dating, 21 to 31
DESCRIPTION:10 to 15 dates in one night! That is what you will get at 
 any of our Speed Dating events. You will meet one-on-one for 4 minutes
  with other single Young Professionals. At the end of each date you wi
 ll privately circle Yes or No on your scorecard; letting us know if yo
 u would want to see your date again. At the end of the night we collec
 t your scorecards and within 24 hours we will send you the contact inf
 ormation of your mutual matches. Setting up real dates is then up to y
 ou!\n\nAge Range:\nSingles who 21-31.\nBring ID and make sure you are 
 in our targeted age range.\nWe host these events monthly and we do mix
  up the age range.\n\n2 Item Minimum:\nThere is a 2 item minimum purch
 ase during this event. You can buy beer, wine, soda, bottled water, ap
 petizers, etc.\n\n\nRSVP (to the right) and we will let you know when 
 tix are almost gone, when prices are going up, if there are any change
 s, etc.\n\nMember Cost:\n$5 for the first 5 to register\n$10 for the n
 ext 6 to 20 to register\n$15 for the next 21 to 40 to register\n$20 fo
 r walk-ins\n\nNon-Member Cost:\n$20 online and at the door\n\nTickets:
 \nThere are a limited number of Tickets for sale.\nTickets are not mai
 led, but your name will be kept at the door.\nAll sales are final.\n\n
 Host:\nBibi will be hosting.\n\nFinding the Group:\nAsk staff for NJYP
 /Speed Dating. We will be in the bar lounge area or upstairs.\n\nFor m
 ore information visit http://njyp.org/events/speed-dating-21-to-31-1
DTSTART;TZID=America/New_York:20100128T190000
DTEND;TZID=America/New_York:20100128T210000
CATEGORIES:"middlesex county", social
LOCATION:Hotoke Lounge
WEBSITE:http://www.hotokerestaurant.com/
URL:http://www.hotokerestaurant.com/
CONTACT:
ORGANIZER;CN="Brian and Mike":http://njyp.org/profile/BrianMike
ATTACH;FMTTYPE="image/jpeg":http://storage.ning.com/topology/rest/1.0/
 file/get/1088581328?profile=original
ATTENDEE;ROLE=REQ-PARTICIPANT;PARTSTAT=ACCEPTED;RSVP=TRUE;CN=Kunal:htt
 p://njyp.org/profile/KunalAgarwal
ATTENDEE;ROLE=REQ-PARTICIPANT;PARTSTAT=ACCEPTED;RSVP=TRUE;CN=Sheena:ht
 tp://njyp.org/profile/NaSheenaPorter
ATTENDEE;ROLE=REQ-PARTICIPANT;PARTSTAT=ACCEPTED;RSVP=TRUE;CN="Steven G
 ":http://njyp.org/profile/StevenG
ATTENDEE;ROLE=REQ-PARTICIPANT;PARTSTAT=ACCEPTED;RSVP=TRUE;CN="Jennifer
  Huey":http://njyp.org/profile/JenniferHuey
ATTENDEE;ROLE=REQ-PARTICIPANT;PARTSTAT=ACCEPTED;RSVP=TRUE;CN="Kimberly
  Spinelli":http://njyp.org/profile/KimberlySpinelli
ATTENDEE;ROLE=REQ-PARTICIPANT;PARTSTAT=ACCEPTED;RSVP=TRUE;CN="Christop
 her Totaro":http://njyp.org/profile/ChristopherTotaro
ATTENDEE;ROLE=REQ-PARTICIPANT;PARTSTAT=ACCEPTED;RSVP=TRUE;CN="Marc Sem
 enta":http://njyp.org/profile/MarcSementa
ATTENDEE;ROLE=REQ-PARTICIPANT;PARTSTAT=ACCEPTED;RSVP=TRUE;CN="Janet Lo
 ":http://njyp.org/profile/JanetLo
ATTENDEE;ROLE=REQ-PARTICIPANT;PARTSTAT=ACCEPTED;RSVP=TRUE;CN="Dave Che
 snick":http://njyp.org/profile/DaveChesnick
ATTENDEE;ROLE=REQ-PARTICIPANT;PARTSTAT=ACCEPTED;RSVP=TRUE;CN=Rena:http
 ://njyp.org/profile/RenaSinha
ATTENDEE;ROLE=REQ-PARTICIPANT;PARTSTAT=ACCEPTED;RSVP=TRUE;CN=Atul:http
 ://njyp.org/profile/Atul
ATTENDEE;ROLE=REQ-PARTICIPANT;PARTSTAT=ACCEPTED;RSVP=TRUE;CN="Ilya Soy
 fer":http://njyp.org/profile/IlyaSoyfer
ATTENDEE;ROLE=REQ-PARTICIPANT;PARTSTAT=ACCEPTED;RSVP=TRUE;CN="Jen Bell
 ":http://njyp.org/profile/jb73
ATTENDEE;ROLE=REQ-PARTICIPANT;PARTSTAT=ACCEPTED;RSVP=TRUE;CN="Jacquely
 n Price":http://njyp.org/profile/JacquelynPrice
ATTENDEE;ROLE=REQ-PARTICIPANT;PARTSTAT=ACCEPTED;RSVP=TRUE;CN=Juli:http
 ://njyp.org/profile/Juli
ATTENDEE;ROLE=REQ-PARTICIPANT;PARTSTAT=ACCEPTED;RSVP=TRUE;CN=Julia:htt
 p://njyp.org/profile/jcm908
ATTENDEE;ROLE=REQ-PARTICIPANT;PARTSTAT=ACCEPTED;RSVP=TRUE;CN="Brian an
 d Mike":http://njyp.org/profile/BrianMike
ATTENDEE;ROLE=REQ-PARTICIPANT;PARTSTAT=TENTATIVE;RSVP=TRUE;CN="Keith J
 ames Menchin":http://njyp.org/profile/KeithJamesMenchin
ATTENDEE;ROLE=REQ-PARTICIPANT;PARTSTAT=TENTATIVE;RSVP=TRUE;CN=Seema:ht
 tp://njyp.org/profile/SeemaRaykar
ATTENDEE;ROLE=REQ-PARTICIPANT;PARTSTAT=TENTATIVE;RSVP=TRUE;CN="Ed Mako
 wski":http://njyp.org/profile/EdMakowski
ATTENDEE;ROLE=REQ-PARTICIPANT;PARTSTAT=TENTATIVE;RSVP=TRUE;CN=Rebecca:
 http://njyp.org/profile/Rebecca
ATTENDEE;ROLE=REQ-PARTICIPANT;PARTSTAT=TENTATIVE;RSVP=TRUE;CN="Stephan
 ie Coutros":http://njyp.org/profile/StephanieCoutros
ATTENDEE;ROLE=REQ-PARTICIPANT;PARTSTAT=TENTATIVE;RSVP=TRUE;CN=Will:htt
 p://njyp.org/profile/William
ATTENDEE;ROLE=REQ-PARTICIPANT;PARTSTAT=TENTATIVE;RSVP=TRUE;CN="Rebecca
  Mann":http://njyp.org/profile/RebeccaMann
ATTENDEE;ROLE=REQ-PARTICIPANT;PARTSTAT=TENTATIVE;RSVP=TRUE;CN=Jon:http
 ://njyp.org/profile/Jon
ATTENDEE;ROLE=REQ-PARTICIPANT;PARTSTAT=TENTATIVE;RSVP=TRUE;CN="Michael
  Park":http://njyp.org/profile/MichaelPark
ATTENDEE;ROLE=REQ-PARTICIPANT;PARTSTAT=TENTATIVE;RSVP=TRUE;CN="Craig W
 all":http://njyp.org/profile/CraigWall
ATTENDEE;ROLE=REQ-PARTICIPANT;PARTSTAT=TENTATIVE;RSVP=TRUE;CN=Benita:h
 ttp://njyp.org/profile/Benita
END:VEVENT
END:VCALENDAR
