BEGIN:VCALENDAR
PRODID:NingEventWidget-v1
VERSION:2.0
METHOD:PUBLISH
BEGIN:VTIMEZONE
TZID:America/New_York
X-LIC-LOCATION:America/New_York
BEGIN:DAYLIGHT
TZOFFSETFROM:-0500
TZOFFSETTO:-0400
TZNAME:EDT
DTSTART:19700308T020000
RRULE:FREQ=YEARLY;BYMONTH=3;BYDAY=2SU
END:DAYLIGHT
BEGIN:STANDARD
TZOFFSETFROM:-0400
TZOFFSETTO:-0500
TZNAME:EST
DTSTART:19701101T020000
RRULE:FREQ=YEARLY;BYMONTH=11;BYDAY=1SU
END:STANDARD
END:VTIMEZONE
BEGIN:VEVENT
UID:2938326:Event:363170
DTSTAMP:20260419T223735Z
SUMMARY:Speed Dating: 21 to 31 in Bloomfield
DESCRIPTION:10 to 15 dates in one night! That is what you will get at 
 any of our Speed Dating events. You will meet one-on-one for 4 minutes
  with other single Young Professionals. At the end of each date you wi
 ll privately circle Yes or No on your scorecard; noting if you would w
 ant to see your date again. At the end of the night you will return ho
 me and enter your results online.  Within 24 hours you will receive y
 our mutual matches. Setting up real dates is then up to you! \nAge Ran
 ge:\nWomen and men who are 21 to 31\nBring ID and make sure you are in
  our targeted age range.\nWe host these events monthly and we do mix u
 p the age range.\n\n\n\n\nMember Cost:\n$10 for the first 20 to regist
 er online\n$15 for the next 21 to 40 to register online\n$20 for walk-
 ins\n\nNon-Member Cost:\n$20 online and at the door\n\n2 Item Minimum:
 \nEveryone must purchase 2 items during this event; food and/or any dr
 ink but soda. Bottled water, juice, virgin drinks do count toward the 
 minimum.\n\nTickets:\nThere are a limited number of Tickets for sale.\
 nTickets are not mailed, but your name will be kept at the door. All s
 ales are final.\n\nFinding the Group:\nWe will meet upstairs for regis
 tration.  Ask staff if you cannot find us.\n\nDirections:\nhttp://www
 .senoritasmexicangrill.com/ - Bloomfield location\nVarious street park
 ing and train station lot.\n\nFor more information visit http://njyp.o
 rg/events/speed-dating-21-to-31-in-bloomfield
DTSTART;TZID=America/New_York:20120710T190000
DTEND;TZID=America/New_York:20120710T210000
CATEGORIES:"essex county", social, singles
LOCATION:Senorita's Mexican Restaurant
WEBSITE:http://www.senoritasmexicangrill.com/
URL:http://www.senoritasmexicangrill.com/
CONTACT:
ORGANIZER;CN="Brian and Mike":http://njyp.org/profile/BrianMike
ATTACH;FMTTYPE="image/jpeg":http://storage.ning.com/topology/rest/1.0/
 file/get/1088709076?profile=original
ATTENDEE;ROLE=REQ-PARTICIPANT;PARTSTAT=ACCEPTED;RSVP=TRUE;CN=Rishi:htt
 p://njyp.org/profile/Rishi419
ATTENDEE;ROLE=REQ-PARTICIPANT;PARTSTAT=ACCEPTED;RSVP=TRUE;CN=Katie:htt
 p://njyp.org/profile/Katie563
ATTENDEE;ROLE=REQ-PARTICIPANT;PARTSTAT=ACCEPTED;RSVP=TRUE;CN=Vince:htt
 p://njyp.org/profile/Vince640
ATTENDEE;ROLE=REQ-PARTICIPANT;PARTSTAT=ACCEPTED;RSVP=TRUE;CN="Isaac Be
 arg":http://njyp.org/profile/IsaacBearg
ATTENDEE;ROLE=REQ-PARTICIPANT;PARTSTAT=ACCEPTED;RSVP=TRUE;CN=Heather:h
 ttp://njyp.org/profile/Heather717
ATTENDEE;ROLE=REQ-PARTICIPANT;PARTSTAT=ACCEPTED;RSVP=TRUE;CN=Faris:htt
 p://njyp.org/profile/Faris
ATTENDEE;ROLE=REQ-PARTICIPANT;PARTSTAT=ACCEPTED;RSVP=TRUE;CN=Nick:http
 ://njyp.org/profile/Nicholas286
ATTENDEE;ROLE=REQ-PARTICIPANT;PARTSTAT=ACCEPTED;RSVP=TRUE;CN=Michael:h
 ttp://njyp.org/profile/mkon86
ATTENDEE;ROLE=REQ-PARTICIPANT;PARTSTAT=ACCEPTED;RSVP=TRUE;CN=Steven:ht
 tp://njyp.org/profile/Steven66
ATTENDEE;ROLE=REQ-PARTICIPANT;PARTSTAT=ACCEPTED;RSVP=TRUE;CN=Vicki:htt
 p://njyp.org/profile/Victoria
ATTENDEE;ROLE=REQ-PARTICIPANT;PARTSTAT=ACCEPTED;RSVP=TRUE;CN=Melissa:h
 ttp://njyp.org/profile/Melissa591
ATTENDEE;ROLE=REQ-PARTICIPANT;PARTSTAT=ACCEPTED;RSVP=TRUE;CN=Zachary:h
 ttp://njyp.org/profile/Zachary
ATTENDEE;ROLE=REQ-PARTICIPANT;PARTSTAT=ACCEPTED;RSVP=TRUE;CN="Brian an
 d Mike":http://njyp.org/profile/BrianMike
ATTENDEE;ROLE=REQ-PARTICIPANT;PARTSTAT=TENTATIVE;RSVP=TRUE;CN=Gianna:h
 ttp://njyp.org/profile/Gianna
ATTENDEE;ROLE=REQ-PARTICIPANT;PARTSTAT=TENTATIVE;RSVP=TRUE;CN=Victoria
 :http://njyp.org/profile/Victoria727
ATTENDEE;ROLE=REQ-PARTICIPANT;PARTSTAT=TENTATIVE;RSVP=TRUE;CN=Leah:htt
 p://njyp.org/profile/LeahZ
ATTENDEE;ROLE=REQ-PARTICIPANT;PARTSTAT=TENTATIVE;RSVP=TRUE;CN=Janene:h
 ttp://njyp.org/profile/Janene
END:VEVENT
END:VCALENDAR
