BEGIN:VCALENDAR
PRODID:NingEventWidget-v1
VERSION:2.0
METHOD:PUBLISH
BEGIN:VTIMEZONE
TZID:America/New_York
X-LIC-LOCATION:America/New_York
BEGIN:DAYLIGHT
TZOFFSETFROM:-0500
TZOFFSETTO:-0400
TZNAME:EDT
DTSTART:19700308T020000
RRULE:FREQ=YEARLY;BYMONTH=3;BYDAY=2SU
END:DAYLIGHT
BEGIN:STANDARD
TZOFFSETFROM:-0400
TZOFFSETTO:-0500
TZNAME:EST
DTSTART:19701101T020000
RRULE:FREQ=YEARLY;BYMONTH=11;BYDAY=1SU
END:STANDARD
END:VTIMEZONE
BEGIN:VEVENT
UID:2938326:Event:42706
DTSTAMP:20260421T062134Z
SUMMARY:Speed Dating, 21 to 31 Year Olds
DESCRIPTION:10 to 15 dates in one night! That is what you will get at 
 any of our Speed Dating events. You will meet one-on-one for 4 minutes
  with other single Young Professionals. At the end of each date you wi
 ll privately circle Yes or No on your scorecard; letting us know if yo
 u would want to see your date again. At the end of the night we collec
 t your scorecards and within 24 hours we will send you the contact inf
 ormation of your mutual matches. Setting up real dates is then up to y
 ou!\n\nAge Range:\nSingles who are 21 to 31 may attend.\nBring ID and 
 make sure you are in our targeted age range.\nWe host these events mon
 thly and we do mix up the age range.\n\n\nRSVP (to the right) and we w
 ill let you know when tix are almost gone, when prices are going up, i
 f there are any changes, etc.\n\nMember Cost:\n$5 for the first 5 to r
 egister\n$10 for the next 6 to 15 to register\n$15 for the next 16 to 
 36 to register\n$20 for walk-ins\n\nNon-Member Cost:\n$20 online and a
 t the door\n\n2 Item Minimum:\nEveryone must purchase 2 times. You can
  get a soda and an appetizer, 2 beers, etc. Ask the bartender if there
  are any drink specials going on.\n\nTickets:\nThere are a limited num
 ber of Tickets for sale.\nTickets are not mailed, but your name will b
 e kept at the door. All sales are final.\n\nDirections:\nWe will be in
  the private room or in the sports lounge.\nThe Bonefish Grill is conn
 ected to the Crowne Plaza Hotel. You can see the restaurant from the P
 arkway. You can also see the restaurant from the Paramus Park Mall if 
 you are on the Macy’s side.\n\nFor more information visit http://njy
 p.org/events/speed-dating-21-to-31-year
DTSTART;TZID=America/New_York:20100302T190000
DTEND;TZID=America/New_York:20100302T210000
CATEGORIES:"bergen county", social
LOCATION:Bonefish Grill at the Crowne Plaza Hotel
WEBSITE:http://maps.google.com/maps?hl=en&ie=UTF8&q=bonefish+grill+par
 amus,+nj&fb=1&split=1&gl=us&ei=HvSLSsbaGeSStgeq9KjkBg&cid=526910694398
 1907511&li=lmd&ll=40.957377,-74.063129&spn=0.016885,0.034161&z=15
URL:http://maps.google.com/maps?hl=en&ie=UTF8&q=bonefish+grill+paramus
 ,+nj&fb=1&split=1&gl=us&ei=HvSLSsbaGeSStgeq9KjkBg&cid=5269106943981907
 511&li=lmd&ll=40.957377,-74.063129&spn=0.016885,0.034161&z=15
CONTACT:
ORGANIZER;CN="Brian and Mike":http://njyp.org/profile/BrianMike
ATTACH;FMTTYPE="image/jpeg":http://storage.ning.com/topology/rest/1.0/
 file/get/1088596065?profile=original
ATTENDEE;ROLE=REQ-PARTICIPANT;PARTSTAT=ACCEPTED;RSVP=TRUE;CN="Rachel S
 ":http://njyp.org/profile/Rs
ATTENDEE;ROLE=REQ-PARTICIPANT;PARTSTAT=ACCEPTED;RSVP=TRUE;CN="Joseph L
 ewis":http://njyp.org/profile/JosephLewis
ATTENDEE;ROLE=REQ-PARTICIPANT;PARTSTAT=ACCEPTED;RSVP=TRUE;CN="Tara Bur
 ns":http://njyp.org/profile/TaraBurns
ATTENDEE;ROLE=REQ-PARTICIPANT;PARTSTAT=ACCEPTED;RSVP=TRUE;CN=Pete:http
 ://njyp.org/profile/PeterVarricchio
ATTENDEE;ROLE=REQ-PARTICIPANT;PARTSTAT=ACCEPTED;RSVP=TRUE;CN="Leigh An
 n":http://njyp.org/profile/LeighAnnZangara
ATTENDEE;ROLE=REQ-PARTICIPANT;PARTSTAT=ACCEPTED;RSVP=TRUE;CN="Claudia 
 Ferro":http://njyp.org/profile/ClaudiaFerro
ATTENDEE;ROLE=REQ-PARTICIPANT;PARTSTAT=ACCEPTED;RSVP=TRUE;CN="Mark Kin
 gsley":http://njyp.org/profile/MarkKingsley
ATTENDEE;ROLE=REQ-PARTICIPANT;PARTSTAT=ACCEPTED;RSVP=TRUE;CN="Abby Ale
 xander":http://njyp.org/profile/AbbyAlexander
ATTENDEE;ROLE=REQ-PARTICIPANT;PARTSTAT=ACCEPTED;RSVP=TRUE;CN=Rebecca:h
 ttp://njyp.org/profile/Rebecca
ATTENDEE;ROLE=REQ-PARTICIPANT;PARTSTAT=ACCEPTED;RSVP=TRUE;CN="Katrina 
 Musa":http://njyp.org/profile/KatrinaMusa
ATTENDEE;ROLE=REQ-PARTICIPANT;PARTSTAT=ACCEPTED;RSVP=TRUE;CN="Shane Bi
 ason":http://njyp.org/profile/ShaneBiason
ATTENDEE;ROLE=REQ-PARTICIPANT;PARTSTAT=ACCEPTED;RSVP=TRUE;CN="Marie Ti
 zon":http://njyp.org/profile/MarieTizon
ATTENDEE;ROLE=REQ-PARTICIPANT;PARTSTAT=ACCEPTED;RSVP=TRUE;CN="Joanna V
 ogel":http://njyp.org/profile/JoannaVogel
ATTENDEE;ROLE=REQ-PARTICIPANT;PARTSTAT=ACCEPTED;RSVP=TRUE;CN="Brittany
  Burke":http://njyp.org/profile/BrittanyBurke
ATTENDEE;ROLE=REQ-PARTICIPANT;PARTSTAT=ACCEPTED;RSVP=TRUE;CN="Brian an
 d Mike":http://njyp.org/profile/BrianMike
ATTENDEE;ROLE=REQ-PARTICIPANT;PARTSTAT=TENTATIVE;RSVP=TRUE;CN="Gloria 
 Giraldo":http://njyp.org/profile/GloriaGiraldo
ATTENDEE;ROLE=REQ-PARTICIPANT;PARTSTAT=TENTATIVE;RSVP=TRUE;CN=Jon:http
 ://njyp.org/profile/Jon
ATTENDEE;ROLE=REQ-PARTICIPANT;PARTSTAT=TENTATIVE;RSVP=TRUE;CN="Ed Mako
 wski":http://njyp.org/profile/EdMakowski
ATTENDEE;ROLE=REQ-PARTICIPANT;PARTSTAT=TENTATIVE;RSVP=TRUE;CN=Edward:h
 ttp://njyp.org/profile/EKotwica
ATTENDEE;ROLE=REQ-PARTICIPANT;PARTSTAT=TENTATIVE;RSVP=TRUE;CN=Leah:htt
 p://njyp.org/profile/LeahZ
END:VEVENT
END:VCALENDAR
