BEGIN:VCALENDAR
PRODID:NingEventWidget-v1
VERSION:2.0
METHOD:PUBLISH
BEGIN:VTIMEZONE
TZID:America/New_York
X-LIC-LOCATION:America/New_York
BEGIN:DAYLIGHT
TZOFFSETFROM:-0500
TZOFFSETTO:-0400
TZNAME:EDT
DTSTART:19700308T020000
RRULE:FREQ=YEARLY;BYMONTH=3;BYDAY=2SU
END:DAYLIGHT
BEGIN:STANDARD
TZOFFSETFROM:-0400
TZOFFSETTO:-0500
TZNAME:EST
DTSTART:19701101T020000
RRULE:FREQ=YEARLY;BYMONTH=11;BYDAY=1SU
END:STANDARD
END:VTIMEZONE
BEGIN:VEVENT
UID:2938326:Event:30996
DTSTAMP:20260421T053928Z
SUMMARY:Speed Dating, 21 to 31
DESCRIPTION:Sorry, this event has SOLD OUT.\n\n10 to 15 dates in one n
 ight! That is what you will get at any of our Speed Dating events. You
  will meet one-on-one for 4 minutes with other single Young Profession
 als. At the end of each date you will privately circle Yes or No on yo
 ur scorecard; letting us know if you would want to see your date again
 . At the end of the night we collect your scorecards and within 24 hou
 rs we will send you the contact information of your mutual matches. Se
 tting up real dates is then up to you!\n\nAge Range:\nSingles who 21-3
 1.\nBring ID and make sure you are in our targeted age range.\nWe host
  these events monthly and we do mix up the age range.\n\n2 Item Minimu
 m:\nThere is a 2 item minimum purchase during this event. You can buy 
 beer, wine, soda, bottled water, appetizers, etc.\n\n\nRSVP (to the ri
 ght) and we will let you know when tix are almost gone, when prices ar
 e going up, if there are any changes, etc.\n\nMember Cost:\n$5 for the
  first 5 to register\n$10 for the next 6 to 20 to register\n$15 for th
 e next 21 to 40 to register\n$20 for walk-ins\n\nNon-Member Cost:\n$20
  online and at the door\n\nTickets:\nThere are a limited number of Tic
 kets for sale.\nTickets are not mailed, but your name will be kept at 
 the door.\nAll sales are final.\n\nFinding the Group:\nAsk staff for N
 JYP/Speed Dating. We will be in the bar lounge area.\n\nFor more infor
 mation visit http://njyp.org/events/speed-dating-21-to-31
DTSTART;TZID=America/New_York:20100119T190000
DTEND;TZID=America/New_York:20100119T210000
CATEGORIES:"hudson county", social
LOCATION:3Forty Grill
WEBSITE:http://www.3fortygrill.com/
URL:http://www.3fortygrill.com/
CONTACT:
ORGANIZER;CN="Brian and Mike":http://njyp.org/profile/BrianMike
ATTACH;FMTTYPE="image/jpeg":http://storage.ning.com/topology/rest/1.0/
 file/get/1088578950?profile=original
ATTENDEE;ROLE=REQ-PARTICIPANT;PARTSTAT=ACCEPTED;RSVP=TRUE;CN="George M
 orcos":http://njyp.org/profile/GeorgeMorcos
ATTENDEE;ROLE=REQ-PARTICIPANT;PARTSTAT=ACCEPTED;RSVP=TRUE;CN="Hugo X C
 arvajal":http://njyp.org/profile/HugoXCarvajal
ATTENDEE;ROLE=REQ-PARTICIPANT;PARTSTAT=ACCEPTED;RSVP=TRUE;CN="Frank D'
 Amelio":http://njyp.org/profile/FrankDAmelio
ATTENDEE;ROLE=REQ-PARTICIPANT;PARTSTAT=ACCEPTED;RSVP=TRUE;CN="Kerry We
 instein":http://njyp.org/profile/KerryWeinstein
ATTENDEE;ROLE=REQ-PARTICIPANT;PARTSTAT=ACCEPTED;RSVP=TRUE;CN="Jon E":h
 ttp://njyp.org/profile/JonE
ATTENDEE;ROLE=REQ-PARTICIPANT;PARTSTAT=ACCEPTED;RSVP=TRUE;CN=Rebecca:h
 ttp://njyp.org/profile/Rebecca
ATTENDEE;ROLE=REQ-PARTICIPANT;PARTSTAT=ACCEPTED;RSVP=TRUE;CN="Sarah Mi
 ddleton":http://njyp.org/profile/SarahM
ATTENDEE;ROLE=REQ-PARTICIPANT;PARTSTAT=ACCEPTED;RSVP=TRUE;CN=Pete:http
 ://njyp.org/profile/PeterVarricchio
ATTENDEE;ROLE=REQ-PARTICIPANT;PARTSTAT=ACCEPTED;RSVP=TRUE;CN="Jesse Bl
 ondin":http://njyp.org/profile/JesseBlondin
ATTENDEE;ROLE=REQ-PARTICIPANT;PARTSTAT=ACCEPTED;RSVP=TRUE;CN="sunny pr
 asad":http://njyp.org/profile/sunnyprasad
ATTENDEE;ROLE=REQ-PARTICIPANT;PARTSTAT=ACCEPTED;RSVP=TRUE;CN=Danielle:
 http://njyp.org/profile/DanielleM
ATTENDEE;ROLE=REQ-PARTICIPANT;PARTSTAT=ACCEPTED;RSVP=TRUE;CN="Laura La
 briola":http://njyp.org/profile/LauraLabriola
ATTENDEE;ROLE=REQ-PARTICIPANT;PARTSTAT=ACCEPTED;RSVP=TRUE;CN="Ilya Soy
 fer":http://njyp.org/profile/IlyaSoyfer
ATTENDEE;ROLE=REQ-PARTICIPANT;PARTSTAT=ACCEPTED;RSVP=TRUE;CN="Brittany
  Burke":http://njyp.org/profile/BrittanyBurke
ATTENDEE;ROLE=REQ-PARTICIPANT;PARTSTAT=ACCEPTED;RSVP=TRUE;CN="Devika B
 akhshi":http://njyp.org/profile/Devika
ATTENDEE;ROLE=REQ-PARTICIPANT;PARTSTAT=ACCEPTED;RSVP=TRUE;CN="Caroline
   Ramos":http://njyp.org/profile/CarolineRamos
ATTENDEE;ROLE=REQ-PARTICIPANT;PARTSTAT=ACCEPTED;RSVP=TRUE;CN="Brian an
 d Mike":http://njyp.org/profile/BrianMike
ATTENDEE;ROLE=REQ-PARTICIPANT;PARTSTAT=TENTATIVE;RSVP=TRUE;CN=Will:htt
 p://njyp.org/profile/William
ATTENDEE;ROLE=REQ-PARTICIPANT;PARTSTAT=TENTATIVE;RSVP=TRUE;CN="Al B.":
 http://njyp.org/profile/AlbertNicholBahia
ATTENDEE;ROLE=REQ-PARTICIPANT;PARTSTAT=TENTATIVE;RSVP=TRUE;CN=Jon:http
 ://njyp.org/profile/Jon
ATTENDEE;ROLE=REQ-PARTICIPANT;PARTSTAT=TENTATIVE;RSVP=TRUE;CN="Ayana C
 .":http://njyp.org/profile/AyanaCJoseph
ATTENDEE;ROLE=REQ-PARTICIPANT;PARTSTAT=TENTATIVE;RSVP=TRUE;CN="Stephan
 ie Coutros":http://njyp.org/profile/StephanieCoutros
ATTENDEE;ROLE=REQ-PARTICIPANT;PARTSTAT=TENTATIVE;RSVP=TRUE;CN=MK:http:
 //njyp.org/profile/MK
END:VEVENT
END:VCALENDAR
