BEGIN:VCALENDAR
PRODID:NingEventWidget-v1
VERSION:2.0
METHOD:PUBLISH
BEGIN:VTIMEZONE
TZID:America/New_York
X-LIC-LOCATION:America/New_York
BEGIN:DAYLIGHT
TZOFFSETFROM:-0500
TZOFFSETTO:-0400
TZNAME:EDT
DTSTART:19700308T020000
RRULE:FREQ=YEARLY;BYMONTH=3;BYDAY=2SU
END:DAYLIGHT
BEGIN:STANDARD
TZOFFSETFROM:-0400
TZOFFSETTO:-0500
TZNAME:EST
DTSTART:19701101T020000
RRULE:FREQ=YEARLY;BYMONTH=11;BYDAY=1SU
END:STANDARD
END:VTIMEZONE
BEGIN:VEVENT
UID:2938326:Event:158126
DTSTAMP:20260420T021745Z
SUMMARY:Speed Dating: 25 to 35
DESCRIPTION:So sorry but this event has been canceled.\nÂ \n10 to 15 d
 ates in one night! That is what you will get at any of our Speed Datin
 g events. You will meet one-on-one for 4 minutes with other single You
 ng Professionals. At the end of each date you will privately circle Ye
 s or No on your scorecard; noting if you would want to see your date a
 gain. At the end of the night you will return home and enter your resu
 lts online.Â  Within 24 hours you will receive your mutual matches. Se
 tting up real dates is then up to you!\n  Age Range:Women and Men who 
 are 25 to 35 Years Old.Bring ID and make sure you are in our targeted 
 age range.We host these events monthly and we do mix up the age range.
 Member Cost:$10 for the first 20 to register$15 for the next 21 to 40 
 to register$20 for walk-insNon-Member Cost:$20 online and at the door2
  Item Minimum:Everyone must purchase 2 items during this event; food a
 nd/or any drink but soda. Bottled water, juice, virgin drinks do count
  toward the minimum.Tickets:There are a limited number of Tickets for 
 sale.Tickets are not mailed, but your name will be kept at the door. A
 ll sales are final.Finding the Group:Ask staff for NJYP/Speed Dating.Â
   Directions:Big parking lot but there is also street parking if the l
 ot fills up. http://www.381main.com/\n\nFor more information visit htt
 p://njyp.org/events/speed-dating-25-to-35-2
DTSTART;TZID=America/New_York:20110405T190000
DTEND;TZID=America/New_York:20110405T210000
CATEGORIES:"passaic county", singles
LOCATION:381 Main Bar and Grill
WEBSITE:http://www.381main.com/
URL:http://www.381main.com/
CONTACT:
ORGANIZER;CN="Brian and Mike":http://njyp.org/profile/BrianMike
ATTACH;FMTTYPE="image/jpeg":http://storage.ning.com/topology/rest/1.0/
 file/get/1088686813?profile=original
ATTENDEE;ROLE=REQ-PARTICIPANT;PARTSTAT=ACCEPTED;RSVP=TRUE;CN=Jessica:h
 ttp://njyp.org/profile/upsidedownhotel
ATTENDEE;ROLE=REQ-PARTICIPANT;PARTSTAT=ACCEPTED;RSVP=TRUE;CN=Cherry:ht
 tp://njyp.org/profile/Cherry
ATTENDEE;ROLE=REQ-PARTICIPANT;PARTSTAT=ACCEPTED;RSVP=TRUE;CN="Brian an
 d Mike":http://njyp.org/profile/BrianMike
ATTENDEE;ROLE=REQ-PARTICIPANT;PARTSTAT=TENTATIVE;RSVP=TRUE;CN=Eileen:h
 ttp://njyp.org/profile/Eileen703
ATTENDEE;ROLE=REQ-PARTICIPANT;PARTSTAT=TENTATIVE;RSVP=TRUE;CN=Anthony:
 http://njyp.org/profile/Anthony491
ATTENDEE;ROLE=REQ-PARTICIPANT;PARTSTAT=TENTATIVE;RSVP=TRUE;CN=Chase:ht
 tp://njyp.org/profile/Chase
ATTENDEE;ROLE=REQ-PARTICIPANT;PARTSTAT=TENTATIVE;RSVP=TRUE;CN="Amy D O
 rtiz":http://njyp.org/profile/AmyDi
ATTENDEE;ROLE=REQ-PARTICIPANT;PARTSTAT=TENTATIVE;RSVP=TRUE;CN="Kevin H
 aughwout":http://njyp.org/profile/KevinHaughwout
ATTENDEE;ROLE=REQ-PARTICIPANT;PARTSTAT=TENTATIVE;RSVP=TRUE;CN=Vincenza
 :http://njyp.org/profile/Vincenza
ATTENDEE;ROLE=REQ-PARTICIPANT;PARTSTAT=TENTATIVE;RSVP=TRUE;CN="Anne Ma
 rie":http://njyp.org/profile/AnneMarie376
ATTENDEE;ROLE=REQ-PARTICIPANT;PARTSTAT=TENTATIVE;RSVP=TRUE;CN="Joanna 
 Vogel":http://njyp.org/profile/JoannaVogel
END:VEVENT
END:VCALENDAR
