BEGIN:VCALENDAR
PRODID:NingEventWidget-v1
VERSION:2.0
METHOD:PUBLISH
BEGIN:VTIMEZONE
TZID:America/New_York
X-LIC-LOCATION:America/New_York
BEGIN:DAYLIGHT
TZOFFSETFROM:-0500
TZOFFSETTO:-0400
TZNAME:EDT
DTSTART:19700308T020000
RRULE:FREQ=YEARLY;BYMONTH=3;BYDAY=2SU
END:DAYLIGHT
BEGIN:STANDARD
TZOFFSETFROM:-0400
TZOFFSETTO:-0500
TZNAME:EST
DTSTART:19701101T020000
RRULE:FREQ=YEARLY;BYMONTH=11;BYDAY=1SU
END:STANDARD
END:VTIMEZONE
BEGIN:VEVENT
UID:2938326:Event:258289
DTSTAMP:20260422T083416Z
SUMMARY:Speed Dating: 25 to 35 in Glen Rock
DESCRIPTION:10 to 15 dates in one night! That is what you will get at 
 any of our Speed Dating events. You will meet one-on-one for 4 minutes
  with other single Young Professionals. At the end of each date you wi
 ll privately circle Yes or No on your scorecard; noting if you would w
 ant to see your date again. At the end of the night you will return ho
 me and enter your results online.  Within 24 hours you will receive y
 our mutual matches. Setting up real dates is then up to you!Age Range:
 Women and Men who are 25 to 35 Years Old.Bring ID and make sure you ar
 e in our targeted age range.We host these events monthly and we do mix
  up the age range.\nMember Cost:$10 for the first 20 to register$15 fo
 r the next 21 to 40 to register$20 for walk-insNon-Member Cost:$20 onl
 ine and at the door2 Item Minimum:Everyone must purchase 2 drink items
  during this event; any drink but soda counts toward the minimum. Bott
 led water, juice, virgin drinks, wine, beer, mixed drinks, do count to
 ward the minimum. Tickets:There are a limited number of Tickets for sa
 le.Tickets are not mailed, but your name will be kept at the door. All
  sales are final.Directions:We will in the upstairs, private loft. Ple
 nty of parking right at the restaurant or park across the street at th
 e train station.\n\nFor more information visit http://njyp.org/events/
 speed-dating-25-to-35-in-glen-rock
DTSTART;TZID=America/New_York:20110922T190000
DTEND;TZID=America/New_York:20110922T210000
CATEGORIES:"bergen county", singles
LOCATION:Greek Taverna
WEBSITE:http://greektavernausa.com/
URL:http://greektavernausa.com/
CONTACT:
ORGANIZER;CN="Brian and Mike":http://njyp.org/profile/BrianMike
ATTACH;FMTTYPE="image/jpeg":http://storage.ning.com/topology/rest/1.0/
 file/get/1088707619?profile=original
ATTENDEE;ROLE=REQ-PARTICIPANT;PARTSTAT=ACCEPTED;RSVP=TRUE;CN=Matt:http
 ://njyp.org/profile/Matt661
ATTENDEE;ROLE=REQ-PARTICIPANT;PARTSTAT=ACCEPTED;RSVP=TRUE;CN=Lesley:ht
 tp://njyp.org/profile/Lesley
ATTENDEE;ROLE=REQ-PARTICIPANT;PARTSTAT=ACCEPTED;RSVP=TRUE;CN=Tiffany:h
 ttp://njyp.org/profile/TLM
ATTENDEE;ROLE=REQ-PARTICIPANT;PARTSTAT=ACCEPTED;RSVP=TRUE;CN="Laura Ma
 rie":http://njyp.org/profile/LauraMarie
ATTENDEE;ROLE=REQ-PARTICIPANT;PARTSTAT=ACCEPTED;RSVP=TRUE;CN=Zakkiyya:
 http://njyp.org/profile/ZakkiyyaTaylor
ATTENDEE;ROLE=REQ-PARTICIPANT;PARTSTAT=ACCEPTED;RSVP=TRUE;CN=Tom:http:
 //njyp.org/profile/GraphicDesignerIllustrator
ATTENDEE;ROLE=REQ-PARTICIPANT;PARTSTAT=ACCEPTED;RSVP=TRUE;CN=Rosalyn:h
 ttp://njyp.org/profile/Rosalyn
ATTENDEE;ROLE=REQ-PARTICIPANT;PARTSTAT=ACCEPTED;RSVP=TRUE;CN=Anup:http
 ://njyp.org/profile/Anup
ATTENDEE;ROLE=REQ-PARTICIPANT;PARTSTAT=ACCEPTED;RSVP=TRUE;CN="Brian an
 d Mike":http://njyp.org/profile/BrianMike
ATTENDEE;ROLE=REQ-PARTICIPANT;PARTSTAT=TENTATIVE;RSVP=TRUE;CN=Maurice:
 http://njyp.org/profile/Maurice
ATTENDEE;ROLE=REQ-PARTICIPANT;PARTSTAT=TENTATIVE;RSVP=TRUE;CN=Digant:h
 ttp://njyp.org/profile/Digant
ATTENDEE;ROLE=REQ-PARTICIPANT;PARTSTAT=TENTATIVE;RSVP=TRUE;CN=Fran:htt
 p://njyp.org/profile/Fran
ATTENDEE;ROLE=REQ-PARTICIPANT;PARTSTAT=TENTATIVE;RSVP=TRUE;CN=John:htt
 p://njyp.org/profile/John483
ATTENDEE;ROLE=REQ-PARTICIPANT;PARTSTAT=TENTATIVE;RSVP=TRUE;CN="Anne Ma
 rie":http://njyp.org/profile/AnneMarie376
ATTENDEE;ROLE=REQ-PARTICIPANT;PARTSTAT=TENTATIVE;RSVP=TRUE;CN=Peter:ht
 tp://njyp.org/profile/Peter778
END:VEVENT
END:VCALENDAR
