BEGIN:VCALENDAR
PRODID:NingEventWidget-v1
VERSION:2.0
METHOD:PUBLISH
BEGIN:VTIMEZONE
TZID:America/New_York
X-LIC-LOCATION:America/New_York
BEGIN:DAYLIGHT
TZOFFSETFROM:-0500
TZOFFSETTO:-0400
TZNAME:EDT
DTSTART:19700308T020000
RRULE:FREQ=YEARLY;BYMONTH=3;BYDAY=2SU
END:DAYLIGHT
BEGIN:STANDARD
TZOFFSETFROM:-0400
TZOFFSETTO:-0500
TZNAME:EST
DTSTART:19701101T020000
RRULE:FREQ=YEARLY;BYMONTH=11;BYDAY=1SU
END:STANDARD
END:VTIMEZONE
BEGIN:VEVENT
UID:2938326:Event:356245
DTSTAMP:20260420T141427Z
SUMMARY:Speed Dating: 25 to 35 in Princeton
DESCRIPTION:10 to 15 dates in one night! That is what you will get at 
 any of our Speed Dating events. You will meet one-on-one for 4 minutes
  with other single Young Professionals. At the end of each date you wi
 ll privately circle Yes or No on your scorecard; noting if you would w
 ant to see your date again. At the end of the night you will return ho
 me and enter your results online.  Within 24 hours you will receive y
 our mutual matches. Setting up real dates is then up to you! Age Range
 : Singles who are 25 to 35 years old Bring ID and make sure you are in
  our targeted age range. We host these events monthly and we do mix up
  the age range.\nMember Cost: $10 for the first 20 to register $15 for
  the next 21 to 40 to register $20 for walk-ins Non-Member Cost: $20 o
 nline and at the door 2 Item Minimum: Everyone must purchase 2 items d
 uring this event; food and/or any drink but soda. Bottled water, juice
 , virgin drinks do count toward the minimum. Tickets: There are a limi
 ted number of Tickets for sale. Tickets are not mailed, but your name 
 will be kept at the door. All sales are final. Directions: We will be 
 in a private room so ask staff. PURE is connected to the Clarion Palme
 r Inn. http://www.pureprinceton.com/ Lots of parking!\n\nFor more inf
 ormation visit http://njyp.org/events/speed-dating-25-to-35-in-princet
 on
DTSTART;TZID=America/New_York:20120619T190000
DTEND;TZID=America/New_York:20120619T210000
CATEGORIES:"mercer county", social, singles
LOCATION:PURE at the Clarion Palmer Inn
WEBSITE:http://www.pureprinceton.com/
URL:http://www.pureprinceton.com/
CONTACT:
ORGANIZER;CN="Brian and Mike":http://njyp.org/profile/BrianMike
ATTACH;FMTTYPE="image/jpeg":http://storage.ning.com/topology/rest/1.0/
 file/get/1088675910?profile=original
ATTENDEE;ROLE=REQ-PARTICIPANT;PARTSTAT=ACCEPTED;RSVP=TRUE;CN="Kevin P.
  Hallam":http://njyp.org/profile/KevinPHallam
ATTENDEE;ROLE=REQ-PARTICIPANT;PARTSTAT=ACCEPTED;RSVP=TRUE;CN="eefrin a
 ka \"E\"":http://njyp.org/profile/Eefrin
ATTENDEE;ROLE=REQ-PARTICIPANT;PARTSTAT=ACCEPTED;RSVP=TRUE;CN=Tony:http
 ://njyp.org/profile/Tony532
ATTENDEE;ROLE=REQ-PARTICIPANT;PARTSTAT=ACCEPTED;RSVP=TRUE;CN=Tracy:htt
 p://njyp.org/profile/Tracy746
ATTENDEE;ROLE=REQ-PARTICIPANT;PARTSTAT=ACCEPTED;RSVP=TRUE;CN=Elizabeth
 :http://njyp.org/profile/ElizabethWilliams
ATTENDEE;ROLE=REQ-PARTICIPANT;PARTSTAT=ACCEPTED;RSVP=TRUE;CN=Jennifer:
 http://njyp.org/profile/Jennifer930
ATTENDEE;ROLE=REQ-PARTICIPANT;PARTSTAT=ACCEPTED;RSVP=TRUE;CN="Lisa Vel
 asquez":http://njyp.org/profile/LisaVelasquez
ATTENDEE;ROLE=REQ-PARTICIPANT;PARTSTAT=ACCEPTED;RSVP=TRUE;CN="Monica R
 achel Shine":http://njyp.org/profile/Monica283
ATTENDEE;ROLE=REQ-PARTICIPANT;PARTSTAT=ACCEPTED;RSVP=TRUE;CN="Brian an
 d Mike":http://njyp.org/profile/BrianMike
ATTENDEE;ROLE=REQ-PARTICIPANT;PARTSTAT=TENTATIVE;RSVP=TRUE;CN=Katie:ht
 tp://njyp.org/profile/Katie168
ATTENDEE;ROLE=REQ-PARTICIPANT;PARTSTAT=TENTATIVE;RSVP=TRUE;CN=Daniel:h
 ttp://njyp.org/profile/Daniel
ATTENDEE;ROLE=REQ-PARTICIPANT;PARTSTAT=TENTATIVE;RSVP=TRUE;CN=Rebecca:
 http://njyp.org/profile/Rebecca830
ATTENDEE;ROLE=REQ-PARTICIPANT;PARTSTAT=TENTATIVE;RSVP=TRUE;CN=Shelly:h
 ttp://njyp.org/profile/Shellyt
END:VEVENT
END:VCALENDAR
