BEGIN:VCALENDAR
PRODID:NingEventWidget-v1
VERSION:2.0
METHOD:PUBLISH
BEGIN:VTIMEZONE
TZID:America/New_York
X-LIC-LOCATION:America/New_York
BEGIN:DAYLIGHT
TZOFFSETFROM:-0500
TZOFFSETTO:-0400
TZNAME:EDT
DTSTART:19700308T020000
RRULE:FREQ=YEARLY;BYMONTH=3;BYDAY=2SU
END:DAYLIGHT
BEGIN:STANDARD
TZOFFSETFROM:-0400
TZOFFSETTO:-0500
TZNAME:EST
DTSTART:19701101T020000
RRULE:FREQ=YEARLY;BYMONTH=11;BYDAY=1SU
END:STANDARD
END:VTIMEZONE
BEGIN:VEVENT
UID:2938326:Event:39643
DTSTAMP:20260421T011059Z
SUMMARY:Speed Dating, 25 to 35 Year Olds
DESCRIPTION:10 to 15 dates in one night! That is what you will get at 
 any of our Speed Dating events. You will meet one-on-one for 4 minutes
  with other single Young Professionals. At the end of each date you wi
 ll privately circle Yes or No on your scorecard; letting us know if yo
 u would want to see your date again. At the end of the night we collec
 t your scorecards and within 24 hours we will send you the contact inf
 ormation of your mutual matches. Setting up real dates is then up to y
 ou!\n\nPlease note this is a special Speed Dating event that will incl
 ude many Metromix readers!\n\nAge Range:\nSingles who are 25-35 (+/- o
 ne year is ok).\nBring ID and make sure you are in our targeted age ra
 nge.\nWe host these events monthly and we do mix up the age range.\n\n
 2 Item Minimum:\nThere is a 2 item minimum purchase during this event.
  You can buy beer, wine, soda, bottled water, appetizers, etc.\n\n\nRS
 VP (to the right) and we will let you know when tix are almost gone, w
 hen prices are going up, if there are any changes, etc.\n\nMember Cost
 :\n$5 for the first 5 to register\n$10 for the next 6 to 20 to registe
 r\n$15 for the next 21 to 34 to register\n$20 for walk-ins\n\nNon-Memb
 er Cost:\n$20 online and at the door\n\nTickets:\nThere are a limited 
 number of Tickets for sale.\nTickets are not mailed, but your name wil
 l be kept at the door.\nAll sales are final.\n\nFinding the Group:\nAs
 k staff for NJYP/Speed Dating. We will be in the private lounge that i
 s upstairs.\n\nDirections:\nhttp://www.thewineloftnjpier.com/\n\nFor m
 ore information visit http://njyp.org/events/speed-dating-25-to-35-yea
 r-1
DTSTART;TZID=America/New_York:20100223T190000
DTEND;TZID=America/New_York:20100223T210000
CATEGORIES:"monmouth county", social
LOCATION:The Wine Loft in Pier Village
WEBSITE:http://www.thewineloftnjpier.com/main/
URL:http://www.thewineloftnjpier.com/main/
CONTACT:
ORGANIZER;CN="Brian and Mike":http://njyp.org/profile/BrianMike
ATTACH;FMTTYPE="image/jpeg":http://storage.ning.com/topology/rest/1.0/
 file/get/1088593539?profile=original
ATTENDEE;ROLE=REQ-PARTICIPANT;PARTSTAT=ACCEPTED;RSVP=TRUE;CN="William 
 Rodriguez":http://njyp.org/profile/WilliamRodriguez
ATTENDEE;ROLE=REQ-PARTICIPANT;PARTSTAT=ACCEPTED;RSVP=TRUE;CN=Dale:http
 ://njyp.org/profile/DaleE
ATTENDEE;ROLE=REQ-PARTICIPANT;PARTSTAT=ACCEPTED;RSVP=TRUE;CN="Rachel O
 !":http://njyp.org/profile/RachelOrtiga
ATTENDEE;ROLE=REQ-PARTICIPANT;PARTSTAT=ACCEPTED;RSVP=TRUE;CN="William 
 Askew":http://njyp.org/profile/WilliamAskew
ATTENDEE;ROLE=REQ-PARTICIPANT;PARTSTAT=ACCEPTED;RSVP=TRUE;CN=Jennifer:
 http://njyp.org/profile/Jennifer673
ATTENDEE;ROLE=REQ-PARTICIPANT;PARTSTAT=ACCEPTED;RSVP=TRUE;CN=Steve:htt
 p://njyp.org/profile/SteveTimmerman
ATTENDEE;ROLE=REQ-PARTICIPANT;PARTSTAT=ACCEPTED;RSVP=TRUE;CN="Kimberly
  Spinelli":http://njyp.org/profile/KimberlySpinelli
ATTENDEE;ROLE=REQ-PARTICIPANT;PARTSTAT=ACCEPTED;RSVP=TRUE;CN=Shannon:h
 ttp://njyp.org/profile/Shannon
ATTENDEE;ROLE=REQ-PARTICIPANT;PARTSTAT=ACCEPTED;RSVP=TRUE;CN="Jason S.
 ":http://njyp.org/profile/JasonS
ATTENDEE;ROLE=REQ-PARTICIPANT;PARTSTAT=ACCEPTED;RSVP=TRUE;CN="Gregory 
 Egan":http://njyp.org/profile/GregoryEgan
ATTENDEE;ROLE=REQ-PARTICIPANT;PARTSTAT=ACCEPTED;RSVP=TRUE;CN="Juidth L
 ouis":http://njyp.org/profile/JuidthLouis
ATTENDEE;ROLE=REQ-PARTICIPANT;PARTSTAT=ACCEPTED;RSVP=TRUE;CN=Maren:htt
 p://njyp.org/profile/Maren
ATTENDEE;ROLE=REQ-PARTICIPANT;PARTSTAT=ACCEPTED;RSVP=TRUE;CN="Brian an
 d Mike":http://njyp.org/profile/BrianMike
ATTENDEE;ROLE=REQ-PARTICIPANT;PARTSTAT=TENTATIVE;RSVP=TRUE;CN="Mike Gr
 ossman":http://njyp.org/profile/MikeGrossman
ATTENDEE;ROLE=REQ-PARTICIPANT;PARTSTAT=TENTATIVE;RSVP=TRUE;CN=AnnMarie
 :http://njyp.org/profile/AnnMarieMcDonald
ATTENDEE;ROLE=REQ-PARTICIPANT;PARTSTAT=TENTATIVE;RSVP=TRUE;CN=Beth:htt
 p://njyp.org/profile/Beth
ATTENDEE;ROLE=REQ-PARTICIPANT;PARTSTAT=TENTATIVE;RSVP=TRUE;CN="Craig W
 all":http://njyp.org/profile/CraigWall
ATTENDEE;ROLE=REQ-PARTICIPANT;PARTSTAT=TENTATIVE;RSVP=TRUE;CN=Franco:h
 ttp://njyp.org/profile/Franco
ATTENDEE;ROLE=REQ-PARTICIPANT;PARTSTAT=TENTATIVE;RSVP=TRUE;CN="Ed Mako
 wski":http://njyp.org/profile/EdMakowski
ATTENDEE;ROLE=REQ-PARTICIPANT;PARTSTAT=TENTATIVE;RSVP=TRUE;CN=Dar:http
 ://njyp.org/profile/Darlene
END:VEVENT
END:VCALENDAR
