BEGIN:VCALENDAR
PRODID:NingEventWidget-v1
VERSION:2.0
METHOD:PUBLISH
BEGIN:VTIMEZONE
TZID:America/New_York
X-LIC-LOCATION:America/New_York
BEGIN:DAYLIGHT
TZOFFSETFROM:-0500
TZOFFSETTO:-0400
TZNAME:EDT
DTSTART:19700308T020000
RRULE:FREQ=YEARLY;BYMONTH=3;BYDAY=2SU
END:DAYLIGHT
BEGIN:STANDARD
TZOFFSETFROM:-0400
TZOFFSETTO:-0500
TZNAME:EST
DTSTART:19701101T020000
RRULE:FREQ=YEARLY;BYMONTH=11;BYDAY=1SU
END:STANDARD
END:VTIMEZONE
BEGIN:VEVENT
UID:2938326:Event:570819
DTSTAMP:20260421T051024Z
SUMMARY:Speed Dating: 25 to 35 Year Olds
DESCRIPTION:Cut the agony out of first-dates with Speed Dating! You’
 ll have 10 to 15 dates in one night, each only lasting four minutes, s
 o make the time count. At the end of each mini-rendezvous, privately n
 ote whether you’d like to see your date again – simply circle Yes 
 or No on your scorecard. Enter your results online when you return hom
 e and within 24 hours, you’ll receive your matches from our system. 
 Setting up date number two is up to you!\n Age Range: Women who are 25
  to 35 Men who are 25 to 35 Bring ID and make sure you are in our targ
 eted age range. We host these events monthly and we do mix up the age 
 range.\n\n\n\n\nMember Cost: $15 Online $20 for walk-ins  Non-Member C
 ost: $20 online and at the door  2 Item Minimum: Everyone must purchas
 e 2 items during this event; food and/or any drink but soda. Bottled w
 ater, juice, virgin drinks do count toward the minimum.  Tickets: Ther
 e are a limited number of Tickets for sale. Tickets are not mailed, bu
 t your name will be kept at the door. All sales are final.\n\nDirectio
 ns: http://glonj.com/ Various street parking and big garage down the s
 treet. We will be the ONLY ones at Glo.\n\nPlease note: Glo also has a
  $20 min credit card purchase so please bring cash if you are not goin
 g to spend $20.\n\nFor more information visit http://njyp.org/events/s
 peed-dating-25-to-35-year-olds
DTSTART;TZID=America/New_York:20140717T190000
DTEND;TZID=America/New_York:20140717T210000
CATEGORIES:"middlesex county", social, singles
LOCATION:Glo Lounge
WEBSITE:http://www.glonj.com/
URL:http://www.glonj.com/
CONTACT:
ORGANIZER;CN="Brian and Mike":http://njyp.org/profile/BrianMike
ATTACH;FMTTYPE="image/jpeg":http://storage.ning.com/topology/rest/1.0/
 file/get/1088886142?profile=original
ATTENDEE;ROLE=REQ-PARTICIPANT;PARTSTAT=ACCEPTED;RSVP=TRUE;CN=Jeremy:ht
 tp://njyp.org/profile/Jeremy501
ATTENDEE;ROLE=REQ-PARTICIPANT;PARTSTAT=ACCEPTED;RSVP=TRUE;CN=Kavita:ht
 tp://njyp.org/profile/Kavita
ATTENDEE;ROLE=REQ-PARTICIPANT;PARTSTAT=ACCEPTED;RSVP=TRUE;CN=Jennifer:
 http://njyp.org/profile/Jennifer335
ATTENDEE;ROLE=REQ-PARTICIPANT;PARTSTAT=ACCEPTED;RSVP=TRUE;CN=Keely:htt
 p://njyp.org/profile/Keely
ATTENDEE;ROLE=REQ-PARTICIPANT;PARTSTAT=ACCEPTED;RSVP=TRUE;CN=Michael:h
 ttp://njyp.org/profile/Mike
ATTENDEE;ROLE=REQ-PARTICIPANT;PARTSTAT=ACCEPTED;RSVP=TRUE;CN=Alex:http
 ://njyp.org/profile/Alex140
ATTENDEE;ROLE=REQ-PARTICIPANT;PARTSTAT=ACCEPTED;RSVP=TRUE;CN=Chris:htt
 p://njyp.org/profile/Chris394
ATTENDEE;ROLE=REQ-PARTICIPANT;PARTSTAT=ACCEPTED;RSVP=TRUE;CN=Diana:htt
 p://njyp.org/profile/Diana437
ATTENDEE;ROLE=REQ-PARTICIPANT;PARTSTAT=ACCEPTED;RSVP=TRUE;CN=Scott:htt
 p://njyp.org/profile/Scott320
ATTENDEE;ROLE=REQ-PARTICIPANT;PARTSTAT=ACCEPTED;RSVP=TRUE;CN="Lorraine
  Weitz":http://njyp.org/profile/LorraineWeitz
ATTENDEE;ROLE=REQ-PARTICIPANT;PARTSTAT=ACCEPTED;RSVP=TRUE;CN=Keith:htt
 p://njyp.org/profile/Keith873
ATTENDEE;ROLE=REQ-PARTICIPANT;PARTSTAT=ACCEPTED;RSVP=TRUE;CN="Brian an
 d Mike":http://njyp.org/profile/BrianMike
ATTENDEE;ROLE=REQ-PARTICIPANT;PARTSTAT=TENTATIVE;RSVP=TRUE;CN=Nikita:h
 ttp://njyp.org/profile/NikitaGohel
ATTENDEE;ROLE=REQ-PARTICIPANT;PARTSTAT=TENTATIVE;RSVP=TRUE;CN=Edward:h
 ttp://njyp.org/profile/EKotwica
ATTENDEE;ROLE=REQ-PARTICIPANT;PARTSTAT=TENTATIVE;RSVP=TRUE;CN="Vinnie 
 Romano":http://njyp.org/profile/VinnieRomano
ATTENDEE;ROLE=REQ-PARTICIPANT;PARTSTAT=TENTATIVE;RSVP=TRUE;CN=Katie:ht
 tp://njyp.org/profile/Katie192
ATTENDEE;ROLE=REQ-PARTICIPANT;PARTSTAT=TENTATIVE;RSVP=TRUE;CN="Jenny D
 avid":http://njyp.org/profile/JennyDavid
ATTENDEE;ROLE=REQ-PARTICIPANT;PARTSTAT=TENTATIVE;RSVP=TRUE;CN=Ivan:htt
 p://njyp.org/profile/Ivan236
ATTENDEE;ROLE=REQ-PARTICIPANT;PARTSTAT=TENTATIVE;RSVP=TRUE;CN=Will:htt
 p://njyp.org/profile/William
ATTENDEE;ROLE=REQ-PARTICIPANT;PARTSTAT=TENTATIVE;RSVP=TRUE;CN="Lindsey
  Schneider":http://njyp.org/profile/LindseySchneider
ATTENDEE;ROLE=REQ-PARTICIPANT;PARTSTAT=TENTATIVE;RSVP=TRUE;CN=Dave:htt
 p://njyp.org/profile/Dave791
ATTENDEE;ROLE=REQ-PARTICIPANT;PARTSTAT=TENTATIVE;RSVP=TRUE;CN=Kevin:ht
 tp://njyp.org/profile/Kevin164
END:VEVENT
END:VCALENDAR
