BEGIN:VCALENDAR
PRODID:NingEventWidget-v1
VERSION:2.0
METHOD:PUBLISH
BEGIN:VTIMEZONE
TZID:America/New_York
X-LIC-LOCATION:America/New_York
BEGIN:DAYLIGHT
TZOFFSETFROM:-0500
TZOFFSETTO:-0400
TZNAME:EDT
DTSTART:19700308T020000
RRULE:FREQ=YEARLY;BYMONTH=3;BYDAY=2SU
END:DAYLIGHT
BEGIN:STANDARD
TZOFFSETFROM:-0400
TZOFFSETTO:-0500
TZNAME:EST
DTSTART:19701101T020000
RRULE:FREQ=YEARLY;BYMONTH=11;BYDAY=1SU
END:STANDARD
END:VTIMEZONE
BEGIN:VEVENT
UID:2938326:Event:29479
DTSTAMP:20260421T065911Z
SUMMARY:Speed Dating, 25 to 35
DESCRIPTION:What is Speed Dating? You will meet with someone of the op
 posite gender for a few minutes, then, at the ring of a bell, move to 
 the next person. Keep track of who you want to exchange information wi
 th on a scorecard that we provide and we will make the matches within 
 24 hours of the event! That's right, no awkward moments where you requ
 est digits. If they want to see you again and you want to see them aga
 in, we make the match!\n\nThis is a time sensitive event. If you arriv
 e after 7:30 we cannot seat you nor refund your ticket cost.\n\nAge Ra
 nge:\nSingles who are 25 to 35 may attend (+/- a year is OK).\nBring I
 D and make sure you are in our targeted age range.\nWe host these even
 ts monthly and we do mix up the age range.\n\n\nRSVP (to the right) an
 d we will let you know when tix are almost gone, when prices are going
  up, if there are any changes, etc.\n\nMember Cost:\n$5 for the first 
 5 to register\n$10 for the next 6 to 20 to register\n$15 for the next 
 21 to 40 to register\n$20 for walk-ins\n\nNon-Member Cost:\n$20 online
  and at the door\n\n2 Item Minimum:\nEveryone must purchase 2 times. Y
 ou can get a soda and an appetizer, 2 beers, etc. Ask the bartender if
  there are any drink specials going on.\n\nTickets:\nThere are a limit
 ed number of Tickets for sale.\nTickets are not mailed, but your name 
 will be kept at the door. All sales are final.\n\nDirections:\nWe will
  be in the private room.\nThe Bonefish Grill is connected to the Crown
 e Plaza Hotel. You can see the restaurant from the Parkway. You can al
 so see the restaurant from the Paramus Park Mall if you are on the Mac
 y’s side.\n\nFor more information visit http://njyp.org/events/speed
 -dating-25-to-35
DTSTART;TZID=America/New_York:20100112T190000
DTEND;TZID=America/New_York:20100112T210000
CATEGORIES:"bergen county", social
LOCATION:Bonefish Grill at the Crowne Plaza Hotel
WEBSITE:http://maps.google.com/maps?hl=en&ie=UTF8&q=bonefish+grill+par
 amus,+nj&fb=1&split=1&gl=us&ei=HvSLSsbaGeSStgeq9KjkBg&cid=526910694398
 1907511&li=lmd&ll=40.957377,-74.063129&spn=0.016885,0.034161&z=15
URL:http://maps.google.com/maps?hl=en&ie=UTF8&q=bonefish+grill+paramus
 ,+nj&fb=1&split=1&gl=us&ei=HvSLSsbaGeSStgeq9KjkBg&cid=5269106943981907
 511&li=lmd&ll=40.957377,-74.063129&spn=0.016885,0.034161&z=15
CONTACT:
ORGANIZER;CN="Brian and Mike":http://njyp.org/profile/BrianMike
ATTACH;FMTTYPE="image/jpeg":http://storage.ning.com/topology/rest/1.0/
 file/get/1088578832?profile=original
ATTENDEE;ROLE=REQ-PARTICIPANT;PARTSTAT=ACCEPTED;RSVP=TRUE;CN=Chig:http
 ://njyp.org/profile/ChiragAlmoula
ATTENDEE;ROLE=REQ-PARTICIPANT;PARTSTAT=ACCEPTED;RSVP=TRUE;CN="Al B.":h
 ttp://njyp.org/profile/AlbertNicholBahia
ATTENDEE;ROLE=REQ-PARTICIPANT;PARTSTAT=ACCEPTED;RSVP=TRUE;CN="Mark Kin
 gsley":http://njyp.org/profile/MarkKingsley
ATTENDEE;ROLE=REQ-PARTICIPANT;PARTSTAT=ACCEPTED;RSVP=TRUE;CN="rachel i
 rene":http://njyp.org/profile/rachel_irene
ATTENDEE;ROLE=REQ-PARTICIPANT;PARTSTAT=ACCEPTED;RSVP=TRUE;CN="George M
 orcos":http://njyp.org/profile/GeorgeMorcos
ATTENDEE;ROLE=REQ-PARTICIPANT;PARTSTAT=ACCEPTED;RSVP=TRUE;CN="Tom Mill
 er":http://njyp.org/profile/TomMiller
ATTENDEE;ROLE=REQ-PARTICIPANT;PARTSTAT=ACCEPTED;RSVP=TRUE;CN=Kat:http:
 //njyp.org/profile/KathleenB
ATTENDEE;ROLE=REQ-PARTICIPANT;PARTSTAT=ACCEPTED;RSVP=TRUE;CN=Kristen:h
 ttp://njyp.org/profile/KristenZielenbach
ATTENDEE;ROLE=REQ-PARTICIPANT;PARTSTAT=ACCEPTED;RSVP=TRUE;CN=Meredith:
 http://njyp.org/profile/Meredith18
ATTENDEE;ROLE=REQ-PARTICIPANT;PARTSTAT=ACCEPTED;RSVP=TRUE;CN="Tara Bur
 ns":http://njyp.org/profile/TaraBurns
ATTENDEE;ROLE=REQ-PARTICIPANT;PARTSTAT=ACCEPTED;RSVP=TRUE;CN="David Ei
 senberg":http://njyp.org/profile/DavidEisenberg
ATTENDEE;ROLE=REQ-PARTICIPANT;PARTSTAT=ACCEPTED;RSVP=TRUE;CN="NIcole V
 innal":http://njyp.org/profile/NIcoleVinnal
ATTENDEE;ROLE=REQ-PARTICIPANT;PARTSTAT=ACCEPTED;RSVP=TRUE;CN=Caroline:
 http://njyp.org/profile/CarolineWesoly
ATTENDEE;ROLE=REQ-PARTICIPANT;PARTSTAT=ACCEPTED;RSVP=TRUE;CN=Nick:http
 ://njyp.org/profile/NickMadonia
ATTENDEE;ROLE=REQ-PARTICIPANT;PARTSTAT=ACCEPTED;RSVP=TRUE;CN=Christine
 :http://njyp.org/profile/ChristineMerson
ATTENDEE;ROLE=REQ-PARTICIPANT;PARTSTAT=ACCEPTED;RSVP=TRUE;CN=Kimberly:
 http://njyp.org/profile/Kimberly618
ATTENDEE;ROLE=REQ-PARTICIPANT;PARTSTAT=ACCEPTED;RSVP=TRUE;CN=Zakkiyya:
 http://njyp.org/profile/ZakkiyyaTaylor
ATTENDEE;ROLE=REQ-PARTICIPANT;PARTSTAT=ACCEPTED;RSVP=TRUE;CN=Tara:http
 ://njyp.org/profile/TaraMorey
ATTENDEE;ROLE=REQ-PARTICIPANT;PARTSTAT=ACCEPTED;RSVP=TRUE;CN="Ken S.":
 http://njyp.org/profile/KennethSirower
ATTENDEE;ROLE=REQ-PARTICIPANT;PARTSTAT=ACCEPTED;RSVP=TRUE;CN="Brian an
 d Mike":http://njyp.org/profile/BrianMike
ATTENDEE;ROLE=REQ-PARTICIPANT;PARTSTAT=TENTATIVE;RSVP=TRUE;CN=Jon:http
 ://njyp.org/profile/Jon
ATTENDEE;ROLE=REQ-PARTICIPANT;PARTSTAT=TENTATIVE;RSVP=TRUE;CN="Chris L
 ombardi":http://njyp.org/profile/ChrisLombardi
ATTENDEE;ROLE=REQ-PARTICIPANT;PARTSTAT=TENTATIVE;RSVP=TRUE;CN=Karla:ht
 tp://njyp.org/profile/Karla545
ATTENDEE;ROLE=REQ-PARTICIPANT;PARTSTAT=TENTATIVE;RSVP=TRUE;CN=Sandy:ht
 tp://njyp.org/profile/Sandy
ATTENDEE;ROLE=REQ-PARTICIPANT;PARTSTAT=TENTATIVE;RSVP=TRUE;CN="Michael
  Camerlengo":http://njyp.org/profile/MichaelCamerlengo
ATTENDEE;ROLE=REQ-PARTICIPANT;PARTSTAT=TENTATIVE;RSVP=TRUE;CN="Michael
  E":http://njyp.org/profile/MichaelEverhart
ATTENDEE;ROLE=REQ-PARTICIPANT;PARTSTAT=TENTATIVE;RSVP=TRUE;CN="Hany S 
 Estefanos":http://njyp.org/profile/HanySEstefanos
ATTENDEE;ROLE=REQ-PARTICIPANT;PARTSTAT=TENTATIVE;RSVP=TRUE;CN=Seema:ht
 tp://njyp.org/profile/SeemaRaykar
ATTENDEE;ROLE=REQ-PARTICIPANT;PARTSTAT=TENTATIVE;RSVP=TRUE;CN=Kimberly
 :http://njyp.org/profile/Kimberly
END:VEVENT
END:VCALENDAR
