BEGIN:VCALENDAR
PRODID:NingEventWidget-v1
VERSION:2.0
METHOD:PUBLISH
BEGIN:VTIMEZONE
TZID:America/New_York
X-LIC-LOCATION:America/New_York
BEGIN:DAYLIGHT
TZOFFSETFROM:-0500
TZOFFSETTO:-0400
TZNAME:EDT
DTSTART:19700308T020000
RRULE:FREQ=YEARLY;BYMONTH=3;BYDAY=2SU
END:DAYLIGHT
BEGIN:STANDARD
TZOFFSETFROM:-0400
TZOFFSETTO:-0500
TZNAME:EST
DTSTART:19701101T020000
RRULE:FREQ=YEARLY;BYMONTH=11;BYDAY=1SU
END:STANDARD
END:VTIMEZONE
BEGIN:VEVENT
UID:2938326:Event:13853
DTSTAMP:20260422T132057Z
SUMMARY:Speed Dating, 25-35 Year Olds
DESCRIPTION:What is Speed Dating? You will meet with someone of the op
 posite gender for a few minutes, then, at the ring of a bell, move to 
 the next person. Keep track of who you want to exchange information wi
 th on a scorecard that we provide and we will make the matches within 
 24 hours of the event! That's right, no awkward moments where you requ
 est digits. If they want to see you again and you want to see them aga
 in, we make the match!\n\nThis is a time sensitive event. If you arriv
 e after 7:30 we cannot seat you nor refund your ticket cost.\n\nAge Ra
 nge:\nSingles who 25-35 (+/- a year is ok).\nBring ID and make sure yo
 u are in our targeted age range.\nWe host these events monthly and we 
 do mix up the age range.\n\n2 Item Minimum:\nThere is a 2 item minimum
  purchase during this event. You can buy beer, wine, soda, bottled wat
 er, appetizers, etc.\n\n\nRSVP (to the right) and we will let you know
  when tix are almost gone, when prices are going up, if there are any 
 changes, etc.\n\nMember Cost:\n$5 for the first 5 to register\n$10 for
  the next 6 to 20 to register\n$15 for the next 21 to 40 to register\n
 $20 for walk-ins\n\nNon-Member Cost:\n$20 online and at the door\n\nTi
 ckets:\nThere are a limited number of Tickets for sale.\nTickets are n
 ot mailed, but your name will be kept at the door.\nAll sales are fina
 l.\n\nDirections:\nhttp://www.greenknollgrille.net/directions.php\nPle
 nty of free parking\n\nFinding the Group:\nAsk staff for NJYP/Speed Da
 ting.\nWe will be in one of the private party rooms.\n\nFor more infor
 mation visit http://njyp.org/events/speed-dating-2535-year-olds-1
DTSTART;TZID=America/New_York:20090915T190000
DTEND;TZID=America/New_York:20090915T210000
CATEGORIES:"somerset county", social
LOCATION:Green Knoll Grille
WEBSITE:http://www.greenknollgrille.net/directions.php
URL:http://www.greenknollgrille.net/directions.php
CONTACT:
ORGANIZER;CN="Brian and Mike":http://njyp.org/profile/BrianMike
ATTACH;FMTTYPE="image/jpeg":http://storage.ning.com/topology/rest/1.0/
 file/get/1088552093?profile=original
ATTENDEE;ROLE=REQ-PARTICIPANT;PARTSTAT=ACCEPTED;RSVP=TRUE;CN="Cindy B"
 :http://njyp.org/profile/CindyBale
ATTENDEE;ROLE=REQ-PARTICIPANT;PARTSTAT=ACCEPTED;RSVP=TRUE;CN="Scott L"
 :http://njyp.org/profile/ScottLeaman
ATTENDEE;ROLE=REQ-PARTICIPANT;PARTSTAT=ACCEPTED;RSVP=TRUE;CN="Sean Cof
 fey":http://njyp.org/profile/SeanCoffey
ATTENDEE;ROLE=REQ-PARTICIPANT;PARTSTAT=ACCEPTED;RSVP=TRUE;CN=Jay:http:
 //njyp.org/profile/WXYZ1234
ATTENDEE;ROLE=REQ-PARTICIPANT;PARTSTAT=ACCEPTED;RSVP=TRUE;CN=Jessica:h
 ttp://njyp.org/profile/Jessica251
ATTENDEE;ROLE=REQ-PARTICIPANT;PARTSTAT=ACCEPTED;RSVP=TRUE;CN="Emily La
 mbert":http://njyp.org/profile/EmilyLambert
ATTENDEE;ROLE=REQ-PARTICIPANT;PARTSTAT=ACCEPTED;RSVP=TRUE;CN=Sara:http
 ://njyp.org/profile/SaraLevenstein
ATTENDEE;ROLE=REQ-PARTICIPANT;PARTSTAT=ACCEPTED;RSVP=TRUE;CN="Heather 
 C":http://njyp.org/profile/HeatherComero
ATTENDEE;ROLE=REQ-PARTICIPANT;PARTSTAT=ACCEPTED;RSVP=TRUE;CN="Kristin 
 Campilango":http://njyp.org/profile/KristinCampilango
ATTENDEE;ROLE=REQ-PARTICIPANT;PARTSTAT=ACCEPTED;RSVP=TRUE;CN="Michael 
 Camerlengo":http://njyp.org/profile/MichaelCamerlengo
ATTENDEE;ROLE=REQ-PARTICIPANT;PARTSTAT=ACCEPTED;RSVP=TRUE;CN="Thomas B
 ozza":http://njyp.org/profile/ThomasBozza
ATTENDEE;ROLE=REQ-PARTICIPANT;PARTSTAT=ACCEPTED;RSVP=TRUE;CN=Sheena:ht
 tp://njyp.org/profile/NaSheenaPorter
ATTENDEE;ROLE=REQ-PARTICIPANT;PARTSTAT=ACCEPTED;RSVP=TRUE;CN="Don Dins
 more":http://njyp.org/profile/DonDinsmore
ATTENDEE;ROLE=REQ-PARTICIPANT;PARTSTAT=ACCEPTED;RSVP=TRUE;CN=Jen:http:
 //njyp.org/profile/JenniferGursky
ATTENDEE;ROLE=REQ-PARTICIPANT;PARTSTAT=ACCEPTED;RSVP=TRUE;CN="Thomas A
 braham":http://njyp.org/profile/ThomasAbraham
ATTENDEE;ROLE=REQ-PARTICIPANT;PARTSTAT=ACCEPTED;RSVP=TRUE;CN=Caleb:htt
 p://njyp.org/profile/Olebo
ATTENDEE;ROLE=REQ-PARTICIPANT;PARTSTAT=ACCEPTED;RSVP=TRUE;CN="Hemant P
 ats":http://njyp.org/profile/HemantPats
ATTENDEE;ROLE=REQ-PARTICIPANT;PARTSTAT=ACCEPTED;RSVP=TRUE;CN=Aqeela:ht
 tp://njyp.org/profile/AqeelaJabar
ATTENDEE;ROLE=REQ-PARTICIPANT;PARTSTAT=ACCEPTED;RSVP=TRUE;CN="Brian an
 d Mike":http://njyp.org/profile/BrianMike
ATTENDEE;ROLE=REQ-PARTICIPANT;PARTSTAT=TENTATIVE;RSVP=TRUE;CN="Allison
  Werst":http://njyp.org/profile/AllisonWerst
ATTENDEE;ROLE=REQ-PARTICIPANT;PARTSTAT=TENTATIVE;RSVP=TRUE;CN="Ayana C
 .":http://njyp.org/profile/AyanaCJoseph
ATTENDEE;ROLE=REQ-PARTICIPANT;PARTSTAT=TENTATIVE;RSVP=TRUE;CN="Ed Mako
 wski":http://njyp.org/profile/EdMakowski
ATTENDEE;ROLE=REQ-PARTICIPANT;PARTSTAT=TENTATIVE;RSVP=TRUE;CN="denise 
 b.":http://njyp.org/profile/denisebonnin
ATTENDEE;ROLE=REQ-PARTICIPANT;PARTSTAT=TENTATIVE;RSVP=TRUE;CN=David:ht
 tp://njyp.org/profile/DavidKuhn
END:VEVENT
END:VCALENDAR
