BEGIN:VCALENDAR
PRODID:NingEventWidget-v1
VERSION:2.0
METHOD:PUBLISH
BEGIN:VTIMEZONE
TZID:America/New_York
X-LIC-LOCATION:America/New_York
BEGIN:DAYLIGHT
TZOFFSETFROM:-0500
TZOFFSETTO:-0400
TZNAME:EDT
DTSTART:19700308T020000
RRULE:FREQ=YEARLY;BYMONTH=3;BYDAY=2SU
END:DAYLIGHT
BEGIN:STANDARD
TZOFFSETFROM:-0400
TZOFFSETTO:-0500
TZNAME:EST
DTSTART:19701101T020000
RRULE:FREQ=YEARLY;BYMONTH=11;BYDAY=1SU
END:STANDARD
END:VTIMEZONE
BEGIN:VEVENT
UID:2938326:Event:20796
DTSTAMP:20260420T123643Z
SUMMARY:Speed Dating, 25-35 Year Olds
DESCRIPTION:I am so sorry but we are going to have to cancel this Spee
 d Dating event. We need at least 10 men and 10 women to sign up but we
  did not get that.\n\nRefunds will be sent via Paypal.\n\nOther Upcomi
 ng Speed Dating Events:\nHoboken, http://www.eventbrite.com/event/4628
 74470\nBridgewater, http://www.eventbrite.com/event/456151361\n\n\nWha
 t is Speed Dating? You will meet with someone of the opposite gender f
 or a few minutes, then, at the ring of a bell, move to the next person
 . Keep track of who you want to exchange information with on a scoreca
 rd that we provide and we will make the matches within 24 hours of the
  event! That's right, no awkward moments where you request digits. If 
 they want to see you again and you want to see them again, we make the
  match!\n\nThis is a time sensitive event. If you arrive after 7:30 we
  cannot seat you nor refund your ticket cost.\n\nAge Range:\nSingles w
 ho 25-35 (+/- a year is ok).\nBring ID and make sure you are in our ta
 rgeted age range.\nWe host these events monthly and we do mix up the a
 ge range.\n\n2 Item Minimum:\nThere is a 2 item minimum purchase durin
 g this event. You can buy beer, wine, soda, bottled water, appetizers,
  etc.\n\n\nRSVP (to the right) and we will let you know when tix are a
 lmost gone, when prices are going up, if there are any changes, etc.\n
 \nMember Cost:\n$5 for the first 5 to register\n$10 for the next 6 to 
 20 to register\n$15 for the next 21 to 40 to register\n$20 for walk-in
 s\n\nNon-Member Cost:\n$20 online and at the door\n\nTickets:\nThere a
 re a limited number of Tickets for sale.\nTickets are not mailed, but 
 your name will be kept at the door.\nAll sales are final.\n\nFinding t
 he Group:\nAsk staff for NJYP/Speed Dating.\nWe will be in the dining 
 area.\n\nFor more information visit http://njyp.org/events/speed-datin
 g-2535-year-olds-3
DTSTART;TZID=America/New_York:20091104T190000
DTEND;TZID=America/New_York:20091104T210000
CATEGORIES:"passaic county", social
LOCATION:Red Cat Restaurant
WEBSITE:http://maps.google.com/maps?hl=en&sourceid=navclient-ff&rlz=1B
 3GGGL_enUS323US323&um=1&ie=UTF-8&q=red+cat+clifton,+nj&fb=1&gl=us&hq=r
 ed+cat&hnear=clifton,+nj&view=text&latlng=13253528208979589406
URL:http://maps.google.com/maps?hl=en&sourceid=navclient-ff&rlz=1B3GGG
 L_enUS323US323&um=1&ie=UTF-8&q=red+cat+clifton,+nj&fb=1&gl=us&hq=red+c
 at&hnear=clifton,+nj&view=text&latlng=13253528208979589406
CONTACT:
ORGANIZER;CN="Brian and Mike":http://njyp.org/profile/BrianMike
ATTACH;FMTTYPE="image/jpeg":http://storage.ning.com/topology/rest/1.0/
 file/get/1088564503?profile=original
ATTENDEE;ROLE=REQ-PARTICIPANT;PARTSTAT=ACCEPTED;RSVP=TRUE;CN=Michele:h
 ttp://njyp.org/profile/MicheleEsposito
ATTENDEE;ROLE=REQ-PARTICIPANT;PARTSTAT=ACCEPTED;RSVP=TRUE;CN="Doug Bem
 an":http://njyp.org/profile/DougBeman
ATTENDEE;ROLE=REQ-PARTICIPANT;PARTSTAT=ACCEPTED;RSVP=TRUE;CN="Brian an
 d Mike":http://njyp.org/profile/BrianMike
ATTENDEE;ROLE=REQ-PARTICIPANT;PARTSTAT=TENTATIVE;RSVP=TRUE;CN=Alessio:
 http://njyp.org/profile/Alessio
ATTENDEE;ROLE=REQ-PARTICIPANT;PARTSTAT=TENTATIVE;RSVP=TRUE;CN="AnnMari
 e Gervasio":http://njyp.org/profile/AnnMarieGervasio
ATTENDEE;ROLE=REQ-PARTICIPANT;PARTSTAT=TENTATIVE;RSVP=TRUE;CN="Daniel 
 Roberts":http://njyp.org/profile/DanielRoberts
ATTENDEE;ROLE=REQ-PARTICIPANT;PARTSTAT=TENTATIVE;RSVP=TRUE;CN=Frank:ht
 tp://njyp.org/profile/FrankAbreu
ATTENDEE;ROLE=REQ-PARTICIPANT;PARTSTAT=TENTATIVE;RSVP=TRUE;CN="Kevin H
 aughwout":http://njyp.org/profile/KevinHaughwout
END:VEVENT
END:VCALENDAR
