BEGIN:VCALENDAR
PRODID:NingEventWidget-v1
VERSION:2.0
METHOD:PUBLISH
BEGIN:VTIMEZONE
TZID:America/New_York
X-LIC-LOCATION:America/New_York
BEGIN:DAYLIGHT
TZOFFSETFROM:-0500
TZOFFSETTO:-0400
TZNAME:EDT
DTSTART:19700308T020000
RRULE:FREQ=YEARLY;BYMONTH=3;BYDAY=2SU
END:DAYLIGHT
BEGIN:STANDARD
TZOFFSETFROM:-0400
TZOFFSETTO:-0500
TZNAME:EST
DTSTART:19701101T020000
RRULE:FREQ=YEARLY;BYMONTH=11;BYDAY=1SU
END:STANDARD
END:VTIMEZONE
BEGIN:VEVENT
UID:2938326:Event:2991
DTSTAMP:20260420T042847Z
SUMMARY:Speed Dating, 25-35 Year Olds
DESCRIPTION:This event has been canceled as we needed 5 more people to
  sign up. Refunds will be sent via Paypal ASAP. Please check out this 
 event instead as so far it has had many sign-ups, http://www.njyp.org/
 events/single-mingle-2535-year-olds\n\nWhat is Speed Dating? You will 
 meet with someone of the opposite gender for a few minutes, then, at t
 he ring of a bell, move to the next person. Keep track of who you want
  to exchange information with and we will make the matches within 24 h
 ours of the event! That's right, no awkward moments where you request 
 digits. If they want to see you again and you want to see them again, 
 we make the match!\n\n\nRSVP (to the right) and we will let you know w
 hen tix are almost gone, when prices are going up, if there are any ch
 anges, etc.\n\nMember Cost:\n$5 for the first 10 to register\n$10 for 
 the next 11 to 40 to register\n$20 for walk-ins\n\nNon-Member Cost:\n$
 20 online and at the door\n\nPremium Member Cost:\nFREE but you must r
 egister on Eventbrite so we can keep the male to female ratio even.\n\
 nThis is a time sensitive event. If you arrive after 7:30 we cannot se
 at you nor refund your ticket cost.\n\nAge Range:\nSingles who 25-35 (
 +/- a year is ok).\nBring ID and make sure you are in our targeted age
  range.\nWe host these events monthly and we do mix up the age range.\
 n\n2 Item Minimum:\nThere is a 2 item minimum purchase during this eve
 nt. You can buy beer, wine, soda, bottled water, appetizers, etc.\n\nT
 ickets:\nThere are a limited number of Tickets for sale.\nTickets are 
 not mailed, but your name will be kept at the door.\nAll sales are fin
 al.\n\nDirections:\nhttp://coccolarestaurant.com/\nPlenty of free park
 ing\n\nFinding the Group:\nAsk staff for NJYP/Speed Dating\n\nFor more
  information visit http://njyp.org/events/speed-dating-2535-year-olds
DTSTART;TZID=America/New_York:20090616T190000
DTEND;TZID=America/New_York:20090616T210000
CATEGORIES:"somerset county", social
LOCATION:Coccola
WEBSITE:http://coccolarestaurant.com/
URL:http://coccolarestaurant.com/
CONTACT:
ORGANIZER;CN="Brian and Mike":http://njyp.org/profile/BrianMike
ATTACH;FMTTYPE="image/jpeg":http://storage.ning.com/topology/rest/1.0/
 file/get/1088526335?profile=original
ATTENDEE;ROLE=REQ-PARTICIPANT;PARTSTAT=ACCEPTED;RSVP=TRUE;CN="Chip Rob
 inson":http://njyp.org/profile/ChipRobinson
ATTENDEE;ROLE=REQ-PARTICIPANT;PARTSTAT=ACCEPTED;RSVP=TRUE;CN="Craig Wa
 ll":http://njyp.org/profile/CraigWall
ATTENDEE;ROLE=REQ-PARTICIPANT;PARTSTAT=ACCEPTED;RSVP=TRUE;CN="Heather 
  Kuhn":http://njyp.org/profile/HeatherKuhn
ATTENDEE;ROLE=REQ-PARTICIPANT;PARTSTAT=ACCEPTED;RSVP=TRUE;CN="Brian Do
 nnoe":http://njyp.org/profile/BrianDonnoe
ATTENDEE;ROLE=REQ-PARTICIPANT;PARTSTAT=ACCEPTED;RSVP=TRUE;CN="Marissa 
 Vitolo":http://njyp.org/profile/MarissaVitolo
ATTENDEE;ROLE=REQ-PARTICIPANT;PARTSTAT=ACCEPTED;RSVP=TRUE;CN="Sean Cof
 fey":http://njyp.org/profile/SeanCoffey
ATTENDEE;ROLE=REQ-PARTICIPANT;PARTSTAT=ACCEPTED;RSVP=TRUE;CN=Frank:htt
 p://njyp.org/profile/Frank
ATTENDEE;ROLE=REQ-PARTICIPANT;PARTSTAT=ACCEPTED;RSVP=TRUE;CN="Kate Ken
 nedy":http://njyp.org/profile/KateKennedy
ATTENDEE;ROLE=REQ-PARTICIPANT;PARTSTAT=ACCEPTED;RSVP=TRUE;CN="Brian an
 d Mike":http://njyp.org/profile/BrianMike
ATTENDEE;ROLE=REQ-PARTICIPANT;PARTSTAT=TENTATIVE;RSVP=TRUE;CN="George 
 Morcos":http://njyp.org/profile/GeorgeMorcos
ATTENDEE;ROLE=REQ-PARTICIPANT;PARTSTAT=TENTATIVE;RSVP=TRUE;CN="Steve B
 rown":http://njyp.org/profile/SteveBrown
ATTENDEE;ROLE=REQ-PARTICIPANT;PARTSTAT=TENTATIVE;RSVP=TRUE;CN="Ed Mako
 wski":http://njyp.org/profile/EdMakowski
ATTENDEE;ROLE=REQ-PARTICIPANT;PARTSTAT=TENTATIVE;RSVP=TRUE;CN="JW Sche
 rm":http://njyp.org/profile/JWScherm
END:VEVENT
END:VCALENDAR
