BEGIN:VCALENDAR
PRODID:NingEventWidget-v1
VERSION:2.0
METHOD:PUBLISH
BEGIN:VTIMEZONE
TZID:America/New_York
X-LIC-LOCATION:America/New_York
BEGIN:DAYLIGHT
TZOFFSETFROM:-0500
TZOFFSETTO:-0400
TZNAME:EDT
DTSTART:19700308T020000
RRULE:FREQ=YEARLY;BYMONTH=3;BYDAY=2SU
END:DAYLIGHT
BEGIN:STANDARD
TZOFFSETFROM:-0400
TZOFFSETTO:-0500
TZNAME:EST
DTSTART:19701101T020000
RRULE:FREQ=YEARLY;BYMONTH=11;BYDAY=1SU
END:STANDARD
END:VTIMEZONE
BEGIN:VEVENT
UID:2938326:Event:530379
DTSTAMP:20260419T221323Z
SUMMARY:Speed Dating: 30-Somethings
DESCRIPTION:Cut the agony out of first-dates with Speed Dating! You’
 ll have 10 to 15 dates in one night, each only lasting four minutes, s
 o make the time count. At the end of each mini-rendezvous, privately n
 ote whether you’d like to see your date again – simply circle Yes 
 or No on your scorecard. Enter your results online when you return hom
 e and within 24 hours, you’ll receive your matches from our system. 
 Setting up date number two is up to you!\n Age Range: Women and men wh
 o are 29 to 39 years old. Bring ID and make sure you are in our target
 ed age range. We host these events monthly and we do mix up the age ra
 nge.\n \n\n\nMember Cost:$15 Online$20 for walk-insNon-Member Cost:$2
 0 online and at the door 2 Item Minimum: Everyone must purchase 2 item
 s during this event; food and/or any drink but soda. Bottled water, ju
 ice, virgin drinks do count toward the minimum. Tickets: There are a l
 imited number of Tickets for sale. Tickets are not mailed, but your na
 me will be kept at the door. All sales are final. How to Find Us: Meet
  in Qube Lounge at the Hyatt. 7pm registration will occur in Qube and 
 then the group will move to a private room so please be on time. http:
 //www.morristown.hyatt.com/hyatt/hotels/index.jsp\n\nFor more informat
 ion visit http://njyp.org/events/speed-dating-30-somethings-2
DTSTART;TZID=America/New_York:20140324T190000
DTEND;TZID=America/New_York:20140324T210000
CATEGORIES:"morris county", social, singles
LOCATION:Qube Lounge at the Hyatt
WEBSITE:http://morristown.hyatt.com/hyatt/hotels/index.jsp
URL:http://morristown.hyatt.com/hyatt/hotels/index.jsp
CONTACT:
ORGANIZER;CN="Brian and Mike":http://njyp.org/profile/BrianMike
ATTACH;FMTTYPE="image/jpeg":http://storage.ning.com/topology/rest/1.0/
 file/get/1088789543?profile=original
ATTENDEE;ROLE=REQ-PARTICIPANT;PARTSTAT=ACCEPTED;RSVP=TRUE;CN=Lynn:http
 ://njyp.org/profile/Lynn399
ATTENDEE;ROLE=REQ-PARTICIPANT;PARTSTAT=ACCEPTED;RSVP=TRUE;CN=Jessica:h
 ttp://njyp.org/profile/Jessica916
ATTENDEE;ROLE=REQ-PARTICIPANT;PARTSTAT=ACCEPTED;RSVP=TRUE;CN=Chase:htt
 p://njyp.org/profile/Chase
ATTENDEE;ROLE=REQ-PARTICIPANT;PARTSTAT=ACCEPTED;RSVP=TRUE;CN=Avni:http
 ://njyp.org/profile/Avni
ATTENDEE;ROLE=REQ-PARTICIPANT;PARTSTAT=ACCEPTED;RSVP=TRUE;CN="Laura Si
 lvius":http://njyp.org/profile/LauraSilvius
ATTENDEE;ROLE=REQ-PARTICIPANT;PARTSTAT=ACCEPTED;RSVP=TRUE;CN=Hema:http
 ://njyp.org/profile/Hema
ATTENDEE;ROLE=REQ-PARTICIPANT;PARTSTAT=ACCEPTED;RSVP=TRUE;CN=Ashley:ht
 tp://njyp.org/profile/Ashley532
ATTENDEE;ROLE=REQ-PARTICIPANT;PARTSTAT=ACCEPTED;RSVP=TRUE;CN=Keith:htt
 p://njyp.org/profile/Keith873
ATTENDEE;ROLE=REQ-PARTICIPANT;PARTSTAT=ACCEPTED;RSVP=TRUE;CN=Samantha:
 http://njyp.org/profile/0mjyegzbot5nc
ATTENDEE;ROLE=REQ-PARTICIPANT;PARTSTAT=ACCEPTED;RSVP=TRUE;CN="Alie Mal
 loy":http://njyp.org/profile/AlisonMalloy
ATTENDEE;ROLE=REQ-PARTICIPANT;PARTSTAT=ACCEPTED;RSVP=TRUE;CN=Sharon:ht
 tp://njyp.org/profile/Sharon302
ATTENDEE;ROLE=REQ-PARTICIPANT;PARTSTAT=ACCEPTED;RSVP=TRUE;CN=James:htt
 p://njyp.org/profile/JamesShow
ATTENDEE;ROLE=REQ-PARTICIPANT;PARTSTAT=ACCEPTED;RSVP=TRUE;CN=Keith:htt
 p://njyp.org/profile/Keith613
ATTENDEE;ROLE=REQ-PARTICIPANT;PARTSTAT=ACCEPTED;RSVP=TRUE;CN=Kimberly:
 http://njyp.org/profile/Kimberly163
ATTENDEE;ROLE=REQ-PARTICIPANT;PARTSTAT=ACCEPTED;RSVP=TRUE;CN="Brian an
 d Mike":http://njyp.org/profile/BrianMike
ATTENDEE;ROLE=REQ-PARTICIPANT;PARTSTAT=TENTATIVE;RSVP=TRUE;CN=Tisha:ht
 tp://njyp.org/profile/Tisha
END:VEVENT
END:VCALENDAR
