BEGIN:VCALENDAR
PRODID:NingEventWidget-v1
VERSION:2.0
METHOD:PUBLISH
BEGIN:VTIMEZONE
TZID:America/New_York
X-LIC-LOCATION:America/New_York
BEGIN:DAYLIGHT
TZOFFSETFROM:-0500
TZOFFSETTO:-0400
TZNAME:EDT
DTSTART:19700308T020000
RRULE:FREQ=YEARLY;BYMONTH=3;BYDAY=2SU
END:DAYLIGHT
BEGIN:STANDARD
TZOFFSETFROM:-0400
TZOFFSETTO:-0500
TZNAME:EST
DTSTART:19701101T020000
RRULE:FREQ=YEARLY;BYMONTH=11;BYDAY=1SU
END:STANDARD
END:VTIMEZONE
BEGIN:VEVENT
UID:2938326:Event:570822
DTSTAMP:20260419T223700Z
SUMMARY:Speed Dating: 30-Somethings
DESCRIPTION:Holy Smokes! We are doing a $5 Speed Dating event!  $5 ti
 ckets are online only and for Members only.\n\nCut the agony out of fi
 rst-dates with Speed Dating! You’ll have 10 to 15 dates in one nig
 ht, each only lasting four minutes, so make the time count. At the end
  of each mini-rendezvous, privately note whether you’d like to see y
 our date again – simply circle Yes or No on your scorecard. Enter yo
 ur results online when you return home and within 24 hours, you’ll r
 eceive your matches from our system. Setting up date number two is up
  to you!  Age Range: Women who are 29 to 39 Men who are 30 to 40 Bring
  ID and make sure you are in our targeted age range. We host these eve
 nts monthly and we do mix up the age range.\n\n\n Member Cost: $5 Onli
 ne $20 for walk-ins  Non-Member Cost: $20 online and at the door  2 It
 em Minimum: Everyone must purchase 2 items during this event; food and
 /or any drink but soda. Bottled water, juice, virgin drinks do count t
 oward the minimum.  Tickets: There are a limited number of Tickets for
  sale. Tickets are not mailed, but your name will be kept at the door.
  All sales are final.  Directions: We will be in a private area. Ask s
 taff if you cannot find the sign-in table. http://hoboken.villagepour
 house.com/\n\nFor more information visit http://njyp.org/events/speed-
 dating-30-somethings-4
DTSTART;TZID=America/New_York:20140715T190000
DTEND;TZID=America/New_York:20140715T210000
CATEGORIES:"hudson county", social, singles
LOCATION:Village Pourhouse
WEBSITE:http://hoboken.villagepourhouse.com/
URL:http://hoboken.villagepourhouse.com/
CONTACT:
ORGANIZER;CN="Brian and Mike":http://njyp.org/profile/BrianMike
ATTACH;FMTTYPE="image/jpeg":http://storage.ning.com/topology/rest/1.0/
 file/get/1088886142?profile=original
ATTENDEE;ROLE=REQ-PARTICIPANT;PARTSTAT=ACCEPTED;RSVP=TRUE;CN=Uri:http:
 //njyp.org/profile/Uri
ATTENDEE;ROLE=REQ-PARTICIPANT;PARTSTAT=ACCEPTED;RSVP=TRUE;CN=Orin:http
 ://njyp.org/profile/Orin
ATTENDEE;ROLE=REQ-PARTICIPANT;PARTSTAT=ACCEPTED;RSVP=TRUE;CN=Michael:h
 ttp://njyp.org/profile/Mike
ATTENDEE;ROLE=REQ-PARTICIPANT;PARTSTAT=ACCEPTED;RSVP=TRUE;CN=Nisha:htt
 p://njyp.org/profile/Nisha588
ATTENDEE;ROLE=REQ-PARTICIPANT;PARTSTAT=ACCEPTED;RSVP=TRUE;CN=avanti:ht
 tp://njyp.org/profile/avanti
ATTENDEE;ROLE=REQ-PARTICIPANT;PARTSTAT=ACCEPTED;RSVP=TRUE;CN=Kathleen:
 http://njyp.org/profile/Kathleen943
ATTENDEE;ROLE=REQ-PARTICIPANT;PARTSTAT=ACCEPTED;RSVP=TRUE;CN=Kevin:htt
 p://njyp.org/profile/Kevin164
ATTENDEE;ROLE=REQ-PARTICIPANT;PARTSTAT=ACCEPTED;RSVP=TRUE;CN="Brian an
 d Mike":http://njyp.org/profile/BrianMike
ATTENDEE;ROLE=REQ-PARTICIPANT;PARTSTAT=TENTATIVE;RSVP=TRUE;CN="George 
 Morcos":http://njyp.org/profile/GeorgeMorcos
ATTENDEE;ROLE=REQ-PARTICIPANT;PARTSTAT=TENTATIVE;RSVP=TRUE;CN=Will:htt
 p://njyp.org/profile/William
END:VEVENT
END:VCALENDAR
