BEGIN:VCALENDAR
PRODID:NingEventWidget-v1
VERSION:2.0
METHOD:PUBLISH
BEGIN:VTIMEZONE
TZID:America/New_York
X-LIC-LOCATION:America/New_York
BEGIN:DAYLIGHT
TZOFFSETFROM:-0500
TZOFFSETTO:-0400
TZNAME:EDT
DTSTART:19700308T020000
RRULE:FREQ=YEARLY;BYMONTH=3;BYDAY=2SU
END:DAYLIGHT
BEGIN:STANDARD
TZOFFSETFROM:-0400
TZOFFSETTO:-0500
TZNAME:EST
DTSTART:19701101T020000
RRULE:FREQ=YEARLY;BYMONTH=11;BYDAY=1SU
END:STANDARD
END:VTIMEZONE
BEGIN:VEVENT
UID:2938326:Event:546204
DTSTAMP:20260419T193059Z
SUMMARY:Speed Dating: 30-Somethings in New Brunswick CANCELED
DESCRIPTION:So sorry all but due to illness we had to cancel this even
 t. We'll reschedule it for the summer but in the meantime refunds will
  be sent to all.\n\nCut the agony out of first-dates with Speed Dating
 ! You’ll have 10 to 15 dates in one night, each only lasting four mi
 nutes, so make the time count. At the end of each mini-rendezvous, pri
 vately note whether you’d like to see your date again – simply cir
 cle Yes or No on your scorecard. Enter your results online when you re
 turn home and within 24 hours, you’ll receive your matches from our 
 system. Setting up date number two is up to you!  Age Range: Women who
  are 29 to 39 Men who are 30 to 40 Bring ID and make sure you are in 
 our targeted age range. We host these events monthly and we do mix up 
 the age range.\n\n\n\n\nMember Cost: $15 Online $20 for walk-ins  Non-
 Member Cost: $20 online and at the door  2 Item Minimum: Everyone must
  purchase 2 items during this event; food and/or any drink but soda. B
 ottled water, juice, virgin drinks do count toward the minimum.  Ticke
 ts: There are a limited number of Tickets for sale. Tickets are not ma
 iled, but your name will be kept at the door. All sales are final.\n\n
 Directions: http://glonj.com/ Various street parking and big garage do
 wn the street. We will be the ONLY ones at Glo.\n\nPlease note: Glo al
 so has a $20 min credit card purchase so please bring cash if you are 
 not going to spend $20.\n\nFor more information visit http://njyp.org/
 events/speed-dating-30-somethings-in-new-brunswick
DTSTART;TZID=America/New_York:20140508T190000
DTEND;TZID=America/New_York:20140508T210000
CATEGORIES:"middlesex county", social, singles
LOCATION:Glo Lounge
WEBSITE:http://www.glonj.com/
URL:http://www.glonj.com/
CONTACT:
ORGANIZER;CN="Brian and Mike":http://njyp.org/profile/BrianMike
ATTACH;FMTTYPE="image/jpeg":http://storage.ning.com/topology/rest/1.0/
 file/get/1088886142?profile=original
ATTENDEE;ROLE=REQ-PARTICIPANT;PARTSTAT=ACCEPTED;RSVP=TRUE;CN=Uri:http:
 //njyp.org/profile/Uri
ATTENDEE;ROLE=REQ-PARTICIPANT;PARTSTAT=ACCEPTED;RSVP=TRUE;CN=Ash:http:
 //njyp.org/profile/Ash
ATTENDEE;ROLE=REQ-PARTICIPANT;PARTSTAT=ACCEPTED;RSVP=TRUE;CN=Kevin:htt
 p://njyp.org/profile/Kevin164
ATTENDEE;ROLE=REQ-PARTICIPANT;PARTSTAT=ACCEPTED;RSVP=TRUE;CN=Keith:htt
 p://njyp.org/profile/Keith873
ATTENDEE;ROLE=REQ-PARTICIPANT;PARTSTAT=ACCEPTED;RSVP=TRUE;CN=James:htt
 p://njyp.org/profile/JamesShow
ATTENDEE;ROLE=REQ-PARTICIPANT;PARTSTAT=ACCEPTED;RSVP=TRUE;CN=Colleen:h
 ttp://njyp.org/profile/Colleen52
ATTENDEE;ROLE=REQ-PARTICIPANT;PARTSTAT=ACCEPTED;RSVP=TRUE;CN="Brian an
 d Mike":http://njyp.org/profile/BrianMike
ATTENDEE;ROLE=REQ-PARTICIPANT;PARTSTAT=TENTATIVE;RSVP=TRUE;CN="Michell
 e V.":http://njyp.org/profile/Michelle
ATTENDEE;ROLE=REQ-PARTICIPANT;PARTSTAT=TENTATIVE;RSVP=TRUE;CN=Javier:h
 ttp://njyp.org/profile/Javier
ATTENDEE;ROLE=REQ-PARTICIPANT;PARTSTAT=TENTATIVE;RSVP=TRUE;CN=Ant:http
 ://njyp.org/profile/AnthonyAgonias
ATTENDEE;ROLE=REQ-PARTICIPANT;PARTSTAT=TENTATIVE;RSVP=TRUE;CN=Nikita:h
 ttp://njyp.org/profile/NikitaGohel
ATTENDEE;ROLE=REQ-PARTICIPANT;PARTSTAT=TENTATIVE;RSVP=TRUE;CN=Hugo:htt
 p://njyp.org/profile/Hugo899
ATTENDEE;ROLE=REQ-PARTICIPANT;PARTSTAT=TENTATIVE;RSVP=TRUE;CN=Dar:http
 ://njyp.org/profile/Darlene
END:VEVENT
END:VCALENDAR
