BEGIN:VCALENDAR
PRODID:NingEventWidget-v1
VERSION:2.0
METHOD:PUBLISH
BEGIN:VTIMEZONE
TZID:America/New_York
X-LIC-LOCATION:America/New_York
BEGIN:DAYLIGHT
TZOFFSETFROM:-0500
TZOFFSETTO:-0400
TZNAME:EDT
DTSTART:19700308T020000
RRULE:FREQ=YEARLY;BYMONTH=3;BYDAY=2SU
END:DAYLIGHT
BEGIN:STANDARD
TZOFFSETFROM:-0400
TZOFFSETTO:-0500
TZNAME:EST
DTSTART:19701101T020000
RRULE:FREQ=YEARLY;BYMONTH=11;BYDAY=1SU
END:STANDARD
END:VTIMEZONE
BEGIN:VEVENT
UID:2938326:Event:547450
DTSTAMP:20260420T002142Z
SUMMARY:Speed Dating: 30-Somethings in Paramus
DESCRIPTION:YES - WE CAN TAKE MALE WALK-INS\n \n\nOld Date: May 6\nNe
 w Date: May 13 \nIf you cannot make the new date please email Laura@N
 JYP.org for a refund by 5.10.14.\n\nCut the agony out of first-dates w
 ith Speed Dating! You’ll have 10 to 15 dates in one night, each only
  lasting four minutes, so make the time count. At the end of each mini
 -rendezvous, privately note whether you’d like to see your date agai
 n – simply circle Yes or No on your scorecard. Enter your results on
 line when you return home and within 24 hours, you’ll receive your m
 atches from our system. Setting up date number two is up to you!  Age 
 Range: Women who are 29 to 39 Men who are 30 to 40 Bring ID and make 
 sure you are in our targeted age range. We host these events monthly a
 nd we do mix up the age range.\n\n\n\n\nMember Cost: $15 Online $20 fo
 r walk-ins  Non-Member Cost: $20 online and at the door  2 Item Minimu
 m: Everyone must purchase 2 items during this event; food and/or any d
 rink but soda. Bottled water, juice, virgin drinks do count toward the
  minimum.  Tickets: There are a limited number of Tickets for sale. Ti
 ckets are not mailed, but your name will be kept at the door. All sale
 s are final.\n\nDirections: We will be in the cafe area of the Crown P
 laza. The cafe area is off the hotel lobby but also off the bar area o
 f Bonefish Grill. Ask the Bonefish Grill hostess for NJYP.  You can s
 ee the restaurant from the Parkway. You can also see the restaurant fr
 om the Paramus Park Mall if you are on the Macy’s side.\n\nFor more 
 information visit http://njyp.org/events/speed-dating-30-somethings-in
 -paramus
DTSTART;TZID=America/New_York:20140513T190000
DTEND;TZID=America/New_York:20140513T210000
CATEGORIES:"bergen county", social, singles
LOCATION:Bonefish Grill at the Crowne Plaza Hotel
WEBSITE:http://www.bonefishgrill.com/Locator/details/paramus-new-jerse
 y
URL:http://www.bonefishgrill.com/Locator/details/paramus-new-jersey
CONTACT:
ORGANIZER;CN="Brian and Mike":http://njyp.org/profile/BrianMike
ATTACH;FMTTYPE="image/jpeg":http://storage.ning.com/topology/rest/1.0/
 file/get/1088886142?profile=original
ATTENDEE;ROLE=REQ-PARTICIPANT;PARTSTAT=ACCEPTED;RSVP=TRUE;CN="NIcole V
 innal":http://njyp.org/profile/NIcoleVinnal
ATTENDEE;ROLE=REQ-PARTICIPANT;PARTSTAT=ACCEPTED;RSVP=TRUE;CN=Evelyn:ht
 tp://njyp.org/profile/Evelyn110
ATTENDEE;ROLE=REQ-PARTICIPANT;PARTSTAT=ACCEPTED;RSVP=TRUE;CN=Vonetta:h
 ttp://njyp.org/profile/Vonetta
ATTENDEE;ROLE=REQ-PARTICIPANT;PARTSTAT=ACCEPTED;RSVP=TRUE;CN=Thalia:ht
 tp://njyp.org/profile/Thalia
ATTENDEE;ROLE=REQ-PARTICIPANT;PARTSTAT=ACCEPTED;RSVP=TRUE;CN="Kenneth 
 Stewart":http://njyp.org/profile/KennethStewart
ATTENDEE;ROLE=REQ-PARTICIPANT;PARTSTAT=ACCEPTED;RSVP=TRUE;CN=Stephanie
 :http://njyp.org/profile/Stephanie17
ATTENDEE;ROLE=REQ-PARTICIPANT;PARTSTAT=ACCEPTED;RSVP=TRUE;CN="Brian an
 d Mike":http://njyp.org/profile/BrianMike
ATTENDEE;ROLE=REQ-PARTICIPANT;PARTSTAT=TENTATIVE;RSVP=TRUE;CN=Tina:htt
 p://njyp.org/profile/TinaGeorgiou
ATTENDEE;ROLE=REQ-PARTICIPANT;PARTSTAT=TENTATIVE;RSVP=TRUE;CN=Shauna:h
 ttp://njyp.org/profile/Shauna174
ATTENDEE;ROLE=REQ-PARTICIPANT;PARTSTAT=TENTATIVE;RSVP=TRUE;CN=Jenna:ht
 tp://njyp.org/profile/Jenna51
END:VEVENT
END:VCALENDAR
