BEGIN:VCALENDAR
PRODID:NingEventWidget-v1
VERSION:2.0
METHOD:PUBLISH
BEGIN:VTIMEZONE
TZID:America/New_York
X-LIC-LOCATION:America/New_York
BEGIN:DAYLIGHT
TZOFFSETFROM:-0500
TZOFFSETTO:-0400
TZNAME:EDT
DTSTART:19700308T020000
RRULE:FREQ=YEARLY;BYMONTH=3;BYDAY=2SU
END:DAYLIGHT
BEGIN:STANDARD
TZOFFSETFROM:-0400
TZOFFSETTO:-0500
TZNAME:EST
DTSTART:19701101T020000
RRULE:FREQ=YEARLY;BYMONTH=11;BYDAY=1SU
END:STANDARD
END:VTIMEZONE
BEGIN:VEVENT
UID:2938326:Event:516140
DTSTAMP:20260420T042923Z
SUMMARY:Speed Dating: Ages 25 to 35
DESCRIPTION:Cut the agony out of first-dates with Speed Dating! You’
 ll have 10 to 15 dates in one night, each only lasting four minutes, s
 o make the time count. At the end of each mini-rendezvous, privately n
 ote whether you’d like to see your date again – simply circle Yes 
 or No on your scorecard. Enter your results online when you return hom
 e and within 24 hours, you’ll receive your matches from our system. 
 Setting up date number two is up to you! Age Range: Women who are 25 t
 o 35 Men who are 25 to 35 Bring ID and make sure you are in our target
 ed age range. We host these events monthly and we do mix up the age ra
 nge. \n Member Cost: $15 Online $20 for walk-ins Non-Member Cost: $20 
 online and at the door 2 Item Minimum: Everyone must purchase 2 items 
 during this event; food and/or any drink but soda. Bottled water, juic
 e, virgin drinks do count toward the minimum. Tickets: There are a lim
 ited number of Tickets for sale. Tickets are not mailed, but your name
  will be kept at the door. All sales are final. Directions/Parking: We
  will be in the private party room. Ask the hostess for NJYP. http://w
 ww.greenknollgrill.com/directions/ There is a parking lot.\n\nFor more
  information visit http://njyp.org/events/speed-dating-age-25-to-35-2
DTSTART;TZID=America/New_York:20140217T190000
DTEND;TZID=America/New_York:20140217T210000
CATEGORIES:"somerset county", social, singles
LOCATION:Green Knoll Grill
WEBSITE:http://www.greenknollgrill.com/directions/
URL:http://www.greenknollgrill.com/directions/
CONTACT:
ORGANIZER;CN="Brian and Mike":http://njyp.org/profile/BrianMike
ATTACH;FMTTYPE="image/jpeg":http://storage.ning.com/topology/rest/1.0/
 file/get/1088886142?profile=original
ATTENDEE;ROLE=REQ-PARTICIPANT;PARTSTAT=ACCEPTED;RSVP=TRUE;CN=Meredith:
 http://njyp.org/profile/Meredith944
ATTENDEE;ROLE=REQ-PARTICIPANT;PARTSTAT=ACCEPTED;RSVP=TRUE;CN=Hema:http
 ://njyp.org/profile/Hema
ATTENDEE;ROLE=REQ-PARTICIPANT;PARTSTAT=ACCEPTED;RSVP=TRUE;CN=Mike:http
 ://njyp.org/profile/Mike915
ATTENDEE;ROLE=REQ-PARTICIPANT;PARTSTAT=ACCEPTED;RSVP=TRUE;CN="Brian Me
 lnick":http://njyp.org/profile/Brian1218
ATTENDEE;ROLE=REQ-PARTICIPANT;PARTSTAT=ACCEPTED;RSVP=TRUE;CN=Michelle:
 http://njyp.org/profile/Michelle183
ATTENDEE;ROLE=REQ-PARTICIPANT;PARTSTAT=ACCEPTED;RSVP=TRUE;CN=Samantha:
 http://njyp.org/profile/0mjyegzbot5nc
ATTENDEE;ROLE=REQ-PARTICIPANT;PARTSTAT=ACCEPTED;RSVP=TRUE;CN=Avni:http
 ://njyp.org/profile/Avni
ATTENDEE;ROLE=REQ-PARTICIPANT;PARTSTAT=ACCEPTED;RSVP=TRUE;CN=Jim:http:
 //njyp.org/profile/Jim450
ATTENDEE;ROLE=REQ-PARTICIPANT;PARTSTAT=ACCEPTED;RSVP=TRUE;CN=Colleen:h
 ttp://njyp.org/profile/Colleen52
ATTENDEE;ROLE=REQ-PARTICIPANT;PARTSTAT=ACCEPTED;RSVP=TRUE;CN="Brian an
 d Mike":http://njyp.org/profile/BrianMike
ATTENDEE;ROLE=REQ-PARTICIPANT;PARTSTAT=TENTATIVE;RSVP=TRUE;CN=Ardavan:
 http://njyp.org/profile/Ardavan
ATTENDEE;ROLE=REQ-PARTICIPANT;PARTSTAT=TENTATIVE;RSVP=TRUE;CN=Ivan:htt
 p://njyp.org/profile/Ivan236
ATTENDEE;ROLE=REQ-PARTICIPANT;PARTSTAT=TENTATIVE;RSVP=TRUE;CN=Diane:ht
 tp://njyp.org/profile/DianePalla
ATTENDEE;ROLE=REQ-PARTICIPANT;PARTSTAT=TENTATIVE;RSVP=TRUE;CN=Katie:ht
 tp://njyp.org/profile/Katie192
ATTENDEE;ROLE=REQ-PARTICIPANT;PARTSTAT=TENTATIVE;RSVP=TRUE;CN=Hugo:htt
 p://njyp.org/profile/Hugo899
END:VEVENT
END:VCALENDAR
