BEGIN:VCALENDAR
PRODID:NingEventWidget-v1
VERSION:2.0
METHOD:PUBLISH
BEGIN:VTIMEZONE
TZID:America/New_York
X-LIC-LOCATION:America/New_York
BEGIN:DAYLIGHT
TZOFFSETFROM:-0500
TZOFFSETTO:-0400
TZNAME:EDT
DTSTART:19700308T020000
RRULE:FREQ=YEARLY;BYMONTH=3;BYDAY=2SU
END:DAYLIGHT
BEGIN:STANDARD
TZOFFSETFROM:-0400
TZOFFSETTO:-0500
TZNAME:EST
DTSTART:19701101T020000
RRULE:FREQ=YEARLY;BYMONTH=11;BYDAY=1SU
END:STANDARD
END:VTIMEZONE
BEGIN:VEVENT
UID:2938326:Event:518157
DTSTAMP:20260420T060054Z
SUMMARY:Speed Dating: Age 25 to 35
DESCRIPTION:Cut the agony out of first-dates with Speed Dating! You’
 ll have 10 to 15 dates in one night, each only lasting four minutes, s
 o make the time count. At the end of each mini-rendezvous, privately n
 ote whether you’d like to see your date again – simply circle Yes 
 or No on your scorecard. Enter your results online when you return hom
 e and within 24 hours, you’ll receive your matches from our system. 
 Setting up date number two is up to you! Age Range: Women who are 25 t
 o 35. Men who are 25 to 35. Bring ID and make sure you are in our targ
 eted age range. We host these events monthly and we do mix up the age 
 range.\n Member Cost: $15 Online $20 for walk-ins Non-Member Cost: $20
  online and at the door 2 Item Minimum: Everyone must purchase 2 items
  during this event; food and/or any drink but soda. Bottled water, jui
 ce, virgin drinks do count toward the minimum. Tickets: There are a li
 mited number of Tickets for sale. Tickets are not mailed, but your nam
 e will be kept at the door. All sales are final. Directions: We will b
 e in the BACK of the restaurant. Ask staff if you cannot find the sign
 -in table. http://hoboken.villagepourhouse.com/\n\nFor more informatio
 n visit http://njyp.org/events/speed-dating-age-25-to-35-3
DTSTART;TZID=America/New_York:20140225T190000
DTEND;TZID=America/New_York:20140225T210000
CATEGORIES:"hudson county", social, singles
LOCATION:Village Pourhouse
WEBSITE:http://hoboken.villagepourhouse.com/
URL:http://hoboken.villagepourhouse.com/
CONTACT:
ORGANIZER;CN="Brian and Mike":http://njyp.org/profile/BrianMike
ATTACH;FMTTYPE="image/jpeg":http://storage.ning.com/topology/rest/1.0/
 file/get/1088886142?profile=original
ATTENDEE;ROLE=REQ-PARTICIPANT;PARTSTAT=ACCEPTED;RSVP=TRUE;CN=Alex:http
 ://njyp.org/profile/Alex679
ATTENDEE;ROLE=REQ-PARTICIPANT;PARTSTAT=ACCEPTED;RSVP=TRUE;CN=Jeremy:ht
 tp://njyp.org/profile/Jeremy501
ATTENDEE;ROLE=REQ-PARTICIPANT;PARTSTAT=ACCEPTED;RSVP=TRUE;CN="Laura La
 briola":http://njyp.org/profile/LauraLabriola
ATTENDEE;ROLE=REQ-PARTICIPANT;PARTSTAT=ACCEPTED;RSVP=TRUE;CN="Brian an
 d Mike":http://njyp.org/profile/BrianMike
ATTENDEE;ROLE=REQ-PARTICIPANT;PARTSTAT=TENTATIVE;RSVP=TRUE;CN=Avni:htt
 p://njyp.org/profile/Avni
END:VEVENT
END:VCALENDAR
