BEGIN:VCALENDAR
PRODID:NingEventWidget-v1
VERSION:2.0
METHOD:PUBLISH
BEGIN:VTIMEZONE
TZID:America/New_York
X-LIC-LOCATION:America/New_York
BEGIN:DAYLIGHT
TZOFFSETFROM:-0500
TZOFFSETTO:-0400
TZNAME:EDT
DTSTART:19700308T020000
RRULE:FREQ=YEARLY;BYMONTH=3;BYDAY=2SU
END:DAYLIGHT
BEGIN:STANDARD
TZOFFSETFROM:-0400
TZOFFSETTO:-0500
TZNAME:EST
DTSTART:19701101T020000
RRULE:FREQ=YEARLY;BYMONTH=11;BYDAY=1SU
END:STANDARD
END:VTIMEZONE
BEGIN:VEVENT
UID:2938326:Event:519190
DTSTAMP:20260420T013652Z
SUMMARY:Speed Dating: Ages 25 to 35
DESCRIPTION:Cut the agony out of first-dates with Speed Dating! You’
 ll have 10 to 15 dates in one night, each only lasting four minutes, s
 o make the time count. At the end of each mini-rendezvous, privately n
 ote whether you’d like to see your date again – simply circle Yes 
 or No on your scorecard. Enter your results online when you return hom
 e and within 24 hours, you’ll receive your matches from our system. 
 Setting up date number two is up to you! Age Range: Women who are 25 t
 o 35 Men who are 25 to 35 Bring ID and make sure you are in our target
 ed age range. We host these events monthly and we do mix up the age ra
 nge.\n\n\n\n\nMember Cost: $15 Online $20 for walk-ins Non-Member Cost
 : $20 online and at the door 2 Item Minimum: Everyone must purchase 2 
 items during this event; food and/or any drink but soda. Bottled water
 , juice, virgin drinks do count toward the minimum. Tickets: There are
  a limited number of Tickets for sale. Tickets are not mailed, but you
 r name will be kept at the door. All sales are final. Directions: http
 ://rednj.com/ Various street parking and decks. You can find the grou
 p UPSTAIRS at Red.\n\nFor more information visit http://njyp.org/event
 s/speed-dating-ages-25-to-35-13
DTSTART;TZID=America/New_York:20140227T190000
DTEND;TZID=America/New_York:20140227T210000
CATEGORIES:"monmouth county", social, singles
LOCATION:Red (meet upstairs)
WEBSITE:http://rednj.com/
URL:http://rednj.com/
CONTACT:
ORGANIZER;CN="Brian and Mike":http://njyp.org/profile/BrianMike
ATTACH;FMTTYPE="image/jpeg":http://storage.ning.com/topology/rest/1.0/
 file/get/1088886142?profile=original
ATTENDEE;ROLE=REQ-PARTICIPANT;PARTSTAT=ACCEPTED;RSVP=TRUE;CN=Elias:htt
 p://njyp.org/profile/Elias
ATTENDEE;ROLE=REQ-PARTICIPANT;PARTSTAT=ACCEPTED;RSVP=TRUE;CN="Samantha
  ":http://njyp.org/profile/Samantha602
ATTENDEE;ROLE=REQ-PARTICIPANT;PARTSTAT=ACCEPTED;RSVP=TRUE;CN=Erin:http
 ://njyp.org/profile/Erin250
ATTENDEE;ROLE=REQ-PARTICIPANT;PARTSTAT=ACCEPTED;RSVP=TRUE;CN=Cherise:h
 ttp://njyp.org/profile/Cherise
ATTENDEE;ROLE=REQ-PARTICIPANT;PARTSTAT=ACCEPTED;RSVP=TRUE;CN="Siobhan 
 Foley":http://njyp.org/profile/SiobhanFoley
ATTENDEE;ROLE=REQ-PARTICIPANT;PARTSTAT=ACCEPTED;RSVP=TRUE;CN=Elizabeth
 :http://njyp.org/profile/Elizabeth568
ATTENDEE;ROLE=REQ-PARTICIPANT;PARTSTAT=ACCEPTED;RSVP=TRUE;CN=Joe:http:
 //njyp.org/profile/JosephMazzone
ATTENDEE;ROLE=REQ-PARTICIPANT;PARTSTAT=ACCEPTED;RSVP=TRUE;CN=Jennifer:
 http://njyp.org/profile/Jennifer335
ATTENDEE;ROLE=REQ-PARTICIPANT;PARTSTAT=ACCEPTED;RSVP=TRUE;CN=Vinay:htt
 p://njyp.org/profile/Vinay961
ATTENDEE;ROLE=REQ-PARTICIPANT;PARTSTAT=ACCEPTED;RSVP=TRUE;CN=Sara:http
 ://njyp.org/profile/Sara263
ATTENDEE;ROLE=REQ-PARTICIPANT;PARTSTAT=ACCEPTED;RSVP=TRUE;CN=Cassandra
 :http://njyp.org/profile/Cassandra
ATTENDEE;ROLE=REQ-PARTICIPANT;PARTSTAT=ACCEPTED;RSVP=TRUE;CN="Brian an
 d Mike":http://njyp.org/profile/BrianMike
ATTENDEE;ROLE=REQ-PARTICIPANT;PARTSTAT=TENTATIVE;RSVP=TRUE;CN=marissa:
 http://njyp.org/profile/marissa
ATTENDEE;ROLE=REQ-PARTICIPANT;PARTSTAT=TENTATIVE;RSVP=TRUE;CN=Avni:htt
 p://njyp.org/profile/Avni
END:VEVENT
END:VCALENDAR
