BEGIN:VCALENDAR
PRODID:NingEventWidget-v1
VERSION:2.0
METHOD:PUBLISH
BEGIN:VTIMEZONE
TZID:America/New_York
X-LIC-LOCATION:America/New_York
BEGIN:DAYLIGHT
TZOFFSETFROM:-0500
TZOFFSETTO:-0400
TZNAME:EDT
DTSTART:19700308T020000
RRULE:FREQ=YEARLY;BYMONTH=3;BYDAY=2SU
END:DAYLIGHT
BEGIN:STANDARD
TZOFFSETFROM:-0400
TZOFFSETTO:-0500
TZNAME:EST
DTSTART:19701101T020000
RRULE:FREQ=YEARLY;BYMONTH=11;BYDAY=1SU
END:STANDARD
END:VTIMEZONE
BEGIN:VEVENT
UID:2938326:Event:320320
DTSTAMP:20260420T053904Z
SUMMARY:Speed Dating: Ages 25 to 35
DESCRIPTION:10 to 15 dates in one night! That is what you will get at 
 any of our Speed Dating events. You will meet one-on-one for 4 minutes
  with other single Young Professionals. At the end of each date you wi
 ll privately circle Yes or No on your scorecard; noting if you would w
 ant to see your date again. At the end of the night you will return ho
 me and enter your results online.  Within 24 hours you will receive y
 our mutual matches. Setting up real dates is then up to you!\n\n\nMemb
 er Cost: $10 for the first 20 to register $15 for the next 21 to 40 to
  register $20 for walk-ins Non-Member Cost: $20 online and at the door
  Age Range: Women  and men who are 25 to 35 years old Bring ID and ma
 ke sure you are in our targeted age range. We host these events monthl
 y and we do mix up the age range. 2 Item Minimum: Everyone must purcha
 se 2 items during this event; food and/or any drink but soda. Bottled 
 water, juice, virgin drinks do count toward the minimum. Tickets: Ther
 e are a limited number of Tickets for sale. Tickets are not mailed, bu
 t your name will be kept at the door. All sales are final. Finding the
  Group: We will meet in the bar area. Directions: http://www.nassauinn
 .com/princeton-restaurants/ Various street parking and decks.\n\nFor m
 ore information visit http://njyp.org/events/speed-dating-ages-25-to-3
 5-3
DTSTART;TZID=America/New_York:20120229T190000
DTEND;TZID=America/New_York:20120229T210000
CATEGORIES:"mercer county", social, singles
LOCATION:Yankee Doodle Tap Room (Nassau Inn)
WEBSITE:http://www.nassauinn.com/princeton-restaurants/
URL:http://www.nassauinn.com/princeton-restaurants/
CONTACT:
ORGANIZER;CN="Brian and Mike":http://njyp.org/profile/BrianMike
ATTACH;FMTTYPE="image/jpeg":http://storage.ning.com/topology/rest/1.0/
 file/get/1088709424?profile=original
ATTENDEE;ROLE=REQ-PARTICIPANT;PARTSTAT=ACCEPTED;RSVP=TRUE;CN="JoAnn Hu
 ebscher":http://njyp.org/profile/JoAnnHuebscher
ATTENDEE;ROLE=REQ-PARTICIPANT;PARTSTAT=ACCEPTED;RSVP=TRUE;CN="Allison 
 Werst":http://njyp.org/profile/AllisonWerst
ATTENDEE;ROLE=REQ-PARTICIPANT;PARTSTAT=ACCEPTED;RSVP=TRUE;CN=Morgan:ht
 tp://njyp.org/profile/Morgan191
ATTENDEE;ROLE=REQ-PARTICIPANT;PARTSTAT=ACCEPTED;RSVP=TRUE;CN=VIVEK:htt
 p://njyp.org/profile/VIVEK441
ATTENDEE;ROLE=REQ-PARTICIPANT;PARTSTAT=ACCEPTED;RSVP=TRUE;CN=Leah:http
 ://njyp.org/profile/LeahZ
ATTENDEE;ROLE=REQ-PARTICIPANT;PARTSTAT=ACCEPTED;RSVP=TRUE;CN=Edmund:ht
 tp://njyp.org/profile/Edmund
ATTENDEE;ROLE=REQ-PARTICIPANT;PARTSTAT=ACCEPTED;RSVP=TRUE;CN=Chris:htt
 p://njyp.org/profile/Chris663
ATTENDEE;ROLE=REQ-PARTICIPANT;PARTSTAT=ACCEPTED;RSVP=TRUE;CN=Heather:h
 ttp://njyp.org/profile/Heather160
ATTENDEE;ROLE=REQ-PARTICIPANT;PARTSTAT=ACCEPTED;RSVP=TRUE;CN="Jason Go
 lieb":http://njyp.org/profile/JasonGolieb
ATTENDEE;ROLE=REQ-PARTICIPANT;PARTSTAT=ACCEPTED;RSVP=TRUE;CN="Brian an
 d Mike":http://njyp.org/profile/BrianMike
ATTENDEE;ROLE=REQ-PARTICIPANT;PARTSTAT=TENTATIVE;RSVP=TRUE;CN=Amy:http
 ://njyp.org/profile/Amy215
ATTENDEE;ROLE=REQ-PARTICIPANT;PARTSTAT=TENTATIVE;RSVP=TRUE;CN=AnnMarie
 :http://njyp.org/profile/AnnMarieMcDonald
ATTENDEE;ROLE=REQ-PARTICIPANT;PARTSTAT=TENTATIVE;RSVP=TRUE;CN=Chisoo:h
 ttp://njyp.org/profile/Chisoo
ATTENDEE;ROLE=REQ-PARTICIPANT;PARTSTAT=TENTATIVE;RSVP=TRUE;CN=Robert:h
 ttp://njyp.org/profile/Robert882
END:VEVENT
END:VCALENDAR
