BEGIN:VCALENDAR
PRODID:NingEventWidget-v1
VERSION:2.0
METHOD:PUBLISH
BEGIN:VTIMEZONE
TZID:America/New_York
X-LIC-LOCATION:America/New_York
BEGIN:DAYLIGHT
TZOFFSETFROM:-0500
TZOFFSETTO:-0400
TZNAME:EDT
DTSTART:19700308T020000
RRULE:FREQ=YEARLY;BYMONTH=3;BYDAY=2SU
END:DAYLIGHT
BEGIN:STANDARD
TZOFFSETFROM:-0400
TZOFFSETTO:-0500
TZNAME:EST
DTSTART:19701101T020000
RRULE:FREQ=YEARLY;BYMONTH=11;BYDAY=1SU
END:STANDARD
END:VTIMEZONE
BEGIN:VEVENT
UID:2938326:Event:374389
DTSTAMP:20260419T223715Z
SUMMARY:Speed Dating: Ages 25 to 35
DESCRIPTION:10 to 15 dates in one night! That is what you will get at 
 any of our Speed Dating events. You will meet one-on-one for 4 minutes
  with other single Young Professionals. At the end of each date you wi
 ll privately circle Yes or No on your scorecard; noting if you would w
 ant to see your date again. At the end of the night you will return ho
 me and enter your results online.  Within 24 hours you will receive y
 our mutual matches. Setting up real dates is then up to you!  Age Rang
 e: Women and men who are 25 to 35 years old. Bring ID and make sure yo
 u are in our targeted age range. We host these events monthly and we d
 o mix up the age range. \n  Member Cost: $10 for the first 20 to regis
 ter $15 for the next 21 to 40 to register $20 for walk-ins if there is
  space  Non-Member Cost: $20 online and at the door if there is space 
  2 Item Minimum: Everyone must purchase 2 items during this event; foo
 d and/or any drink but soda. Bottled water, juice, virgin drinks do co
 unt toward the minimum.  Tickets: There are a limited number of Ticket
 s for sale. Tickets are not mailed, but your name will be kept at the 
 door. All sales are final.  How to Find Us: Meet in Qube Lounge at the
  Hyatt. 7pm registration will occur in Qube and then the group will mo
 ve to a private room so please be on time. http://www.morristown.hyatt
 .com/hyatt/hotels/index.jsp\n\nFor more information visit http://njyp.
 org/events/speed-dating-ages-25-to-35-5
DTSTART;TZID=America/New_York:20120910T190000
DTEND;TZID=America/New_York:20120910T210000
CATEGORIES:"morris county", social, singles
LOCATION:Qube Lounge at the Hyatt
WEBSITE:http://morristown.hyatt.com/hyatt/hotels/index.jsp
URL:http://morristown.hyatt.com/hyatt/hotels/index.jsp
CONTACT:
ORGANIZER;CN="Brian and Mike":http://njyp.org/profile/BrianMike
ATTACH;FMTTYPE="image/jpeg":http://storage.ning.com/topology/rest/1.0/
 file/get/1088789543?profile=original
ATTENDEE;ROLE=REQ-PARTICIPANT;PARTSTAT=ACCEPTED;RSVP=TRUE;CN=Vikram:ht
 tp://njyp.org/profile/Vikram
ATTENDEE;ROLE=REQ-PARTICIPANT;PARTSTAT=ACCEPTED;RSVP=TRUE;CN="Lynn Fio
 re":http://njyp.org/profile/LynnFiore
ATTENDEE;ROLE=REQ-PARTICIPANT;PARTSTAT=ACCEPTED;RSVP=TRUE;CN=Diana:htt
 p://njyp.org/profile/Diana19
ATTENDEE;ROLE=REQ-PARTICIPANT;PARTSTAT=ACCEPTED;RSVP=TRUE;CN=Courtney:
 http://njyp.org/profile/Courtney445
ATTENDEE;ROLE=REQ-PARTICIPANT;PARTSTAT=ACCEPTED;RSVP=TRUE;CN=Katrina:h
 ttp://njyp.org/profile/Katrina
ATTENDEE;ROLE=REQ-PARTICIPANT;PARTSTAT=ACCEPTED;RSVP=TRUE;CN=Ken:http:
 //njyp.org/profile/Ken547
ATTENDEE;ROLE=REQ-PARTICIPANT;PARTSTAT=ACCEPTED;RSVP=TRUE;CN=Kiran:htt
 p://njyp.org/profile/Kiran
ATTENDEE;ROLE=REQ-PARTICIPANT;PARTSTAT=ACCEPTED;RSVP=TRUE;CN=Jeff:http
 ://njyp.org/profile/Jeff410
ATTENDEE;ROLE=REQ-PARTICIPANT;PARTSTAT=ACCEPTED;RSVP=TRUE;CN=Karen:htt
 p://njyp.org/profile/Karen367
ATTENDEE;ROLE=REQ-PARTICIPANT;PARTSTAT=ACCEPTED;RSVP=TRUE;CN="Lori Sin
 clair":http://njyp.org/profile/LoriSinclair
ATTENDEE;ROLE=REQ-PARTICIPANT;PARTSTAT=ACCEPTED;RSVP=TRUE;CN="Jenna Cl
 ausen":http://njyp.org/profile/JennaClausen
ATTENDEE;ROLE=REQ-PARTICIPANT;PARTSTAT=ACCEPTED;RSVP=TRUE;CN="Brian an
 d Mike":http://njyp.org/profile/BrianMike
ATTENDEE;ROLE=REQ-PARTICIPANT;PARTSTAT=TENTATIVE;RSVP=TRUE;CN=Joe:http
 ://njyp.org/profile/Joe933
ATTENDEE;ROLE=REQ-PARTICIPANT;PARTSTAT=TENTATIVE;RSVP=TRUE;CN=Daniel:h
 ttp://njyp.org/profile/joeblogs
ATTENDEE;ROLE=REQ-PARTICIPANT;PARTSTAT=TENTATIVE;RSVP=TRUE;CN=Mike:htt
 p://njyp.org/profile/Mike220
ATTENDEE;ROLE=REQ-PARTICIPANT;PARTSTAT=TENTATIVE;RSVP=TRUE;CN=Tiffany:
 http://njyp.org/profile/TLM
ATTENDEE;ROLE=REQ-PARTICIPANT;PARTSTAT=TENTATIVE;RSVP=TRUE;CN=MISTI:ht
 tp://njyp.org/profile/MISTI
ATTENDEE;ROLE=REQ-PARTICIPANT;PARTSTAT=TENTATIVE;RSVP=TRUE;CN="Khyati 
 Rana":http://njyp.org/profile/KhyatiRana
END:VEVENT
END:VCALENDAR
