BEGIN:VCALENDAR
PRODID:NingEventWidget-v1
VERSION:2.0
METHOD:PUBLISH
BEGIN:VTIMEZONE
TZID:America/New_York
X-LIC-LOCATION:America/New_York
BEGIN:DAYLIGHT
TZOFFSETFROM:-0500
TZOFFSETTO:-0400
TZNAME:EDT
DTSTART:19700308T020000
RRULE:FREQ=YEARLY;BYMONTH=3;BYDAY=2SU
END:DAYLIGHT
BEGIN:STANDARD
TZOFFSETFROM:-0400
TZOFFSETTO:-0500
TZNAME:EST
DTSTART:19701101T020000
RRULE:FREQ=YEARLY;BYMONTH=11;BYDAY=1SU
END:STANDARD
END:VTIMEZONE
BEGIN:VEVENT
UID:2938326:Event:570633
DTSTAMP:20260420T123928Z
SUMMARY:Speed Dating: Ages 25 to 35 in Red Bank
DESCRIPTION:Holy Smokes! For the first time ever we are doing a $5 Spe
 ed Dating event!  $5 tickets are online only and for Members only.\n\
 n10 to 15 dates in one night! That is what you will get at any of our 
 Speed Dating events. You will meet one-on-one for 4 minutes with other
  single Young Professionals. At the end of each date you will privatel
 y circle Yes or No on your scorecard; noting if you would want to see 
 your date again. At the end of the night you will return home and ente
 r your results online. Within 24 hours you will receive your mutual ma
 tches. Setting up real dates is then up to you!  Age Range: Women who 
 are 25 to 35 Men who are 25 to 35 Bring ID and make sure you are in ou
 r targeted age range. We host these events monthly and we do mix up th
 e age range.  \n Member Cost: $5 online $20 for walk-ins if there is s
 pace  Non-Member Cost: $20 online and at the door if there is space  2
  Item Minimum: Everyone must purchase 2 items during this event; food 
 and/or any drink but soda. Bottled water, juice, virgin drinks do coun
 t toward the minimum.  Tickets: There are a limited number of Tickets 
 for sale. Tickets are not mailed, but your name will be kept at the do
 or. All sales are final.  Finding the Group: Ask staff for NJYP/Speed 
 Dating. We will be upstairs at Red.  Directions: http://rednj.com/ Var
 ious free start parking spots.\n\nFor more information visit http://nj
 yp.org/events/speed-dating-ages-25-to-35-in-red-bank
DTSTART;TZID=America/New_York:20140731T190000
DTEND;TZID=America/New_York:20140731T210000
CATEGORIES:"monmouth county", social, singles
LOCATION:Red
WEBSITE:http://www.rednj.com/
URL:http://www.rednj.com/
CONTACT:
ORGANIZER;CN="Brian and Mike":http://njyp.org/profile/BrianMike
ATTACH;FMTTYPE="image/jpeg":http://storage.ning.com/topology/rest/1.0/
 file/get/1088981809?profile=original
ATTENDEE;ROLE=REQ-PARTICIPANT;PARTSTAT=ACCEPTED;RSVP=TRUE;CN=Ray:http:
 //njyp.org/profile/Ray10
ATTENDEE;ROLE=REQ-PARTICIPANT;PARTSTAT=ACCEPTED;RSVP=TRUE;CN="Gregory 
 Egan":http://njyp.org/profile/GregoryEgan
ATTENDEE;ROLE=REQ-PARTICIPANT;PARTSTAT=ACCEPTED;RSVP=TRUE;CN=Heather:h
 ttp://njyp.org/profile/Heather940
ATTENDEE;ROLE=REQ-PARTICIPANT;PARTSTAT=ACCEPTED;RSVP=TRUE;CN="Brian an
 d Mike":http://njyp.org/profile/BrianMike
ATTENDEE;ROLE=REQ-PARTICIPANT;PARTSTAT=TENTATIVE;RSVP=TRUE;CN="Christo
 pher Dingman":http://njyp.org/profile/ChristopherDingman
ATTENDEE;ROLE=REQ-PARTICIPANT;PARTSTAT=TENTATIVE;RSVP=TRUE;CN="Daniell
 e Gazonas":http://njyp.org/profile/Danielle873
ATTENDEE;ROLE=REQ-PARTICIPANT;PARTSTAT=TENTATIVE;RSVP=TRUE;CN="Christi
 ne Migton":http://njyp.org/profile/ChristineMigton
ATTENDEE;ROLE=REQ-PARTICIPANT;PARTSTAT=TENTATIVE;RSVP=TRUE;CN=Edward:h
 ttp://njyp.org/profile/EKotwica
ATTENDEE;ROLE=REQ-PARTICIPANT;PARTSTAT=TENTATIVE;RSVP=TRUE;CN="Lorrain
 e Weitz":http://njyp.org/profile/LorraineWeitz
ATTENDEE;ROLE=REQ-PARTICIPANT;PARTSTAT=TENTATIVE;RSVP=TRUE;CN=Diana:ht
 tp://njyp.org/profile/Diana437
ATTENDEE;ROLE=REQ-PARTICIPANT;PARTSTAT=TENTATIVE;RSVP=TRUE;CN=Kevin:ht
 tp://njyp.org/profile/Kevin164
ATTENDEE;ROLE=REQ-PARTICIPANT;PARTSTAT=TENTATIVE;RSVP=TRUE;CN=Matt:htt
 p://njyp.org/profile/Matthew411
ATTENDEE;ROLE=REQ-PARTICIPANT;PARTSTAT=TENTATIVE;RSVP=TRUE;CN=Melissa:
 http://njyp.org/profile/Melissa27
END:VEVENT
END:VCALENDAR
