BEGIN:VCALENDAR
PRODID:NingEventWidget-v1
VERSION:2.0
METHOD:PUBLISH
BEGIN:VTIMEZONE
TZID:America/New_York
X-LIC-LOCATION:America/New_York
BEGIN:DAYLIGHT
TZOFFSETFROM:-0500
TZOFFSETTO:-0400
TZNAME:EDT
DTSTART:19700308T020000
RRULE:FREQ=YEARLY;BYMONTH=3;BYDAY=2SU
END:DAYLIGHT
BEGIN:STANDARD
TZOFFSETFROM:-0400
TZOFFSETTO:-0500
TZNAME:EST
DTSTART:19701101T020000
RRULE:FREQ=YEARLY;BYMONTH=11;BYDAY=1SU
END:STANDARD
END:VTIMEZONE
BEGIN:VEVENT
UID:2938326:Event:732347
DTSTAMP:20260421T033950Z
SUMMARY:Speed Dating at Qube in Morristown
DESCRIPTION:\r\nCut the agony out of first-dates with Speed Dating!  
 You’ll have 10 to 15 dates in one night, each only lasting four minu
 tes, so make the time count.  At the end of each mini-rendezvous, pri
 vately note whether you’d like to see your date again – simply cir
 cle Yes or No on your scorecard.  Enter your results online when you 
 return home and within 24 hours, you’ll receive your matches from ou
 r system.  Setting up date number two is up to you!\r\n Age Range: W
 omen and Men who are 26 to 38 Bring ID and make sure you are in our ta
 rgeted age range. We host these events monthly and we do mix up the ag
 e range.\r\nMember Cost: $15 Online, $20 for walk-ins Non-Member Cos
 t: $25 online and at the door\r\n2 Item Minimum: Everyone must purch
 ase 2 items during this event; food and/or any drink but soda. Bottled
  water, juice, virgin drinks do count toward the minimum.  Tickets: T
 here are a limited number of Tickets for sale. Tickets are not mailed,
  but your name will be kept at the door. All sales are final, with no
  refunds or exchanges.  Directions: Meet in Qube Lounge at the Hyatt.
  7pm registration will occur in Qube and then the group will move to a
  private room so please be on time. http://www.morristown.hyatt.com/hy
 att/hotels/index.jsp\n\nFor more information visit http://njyp.org/eve
 nts/speed-dating-at-qube-in-morristown-2
DTSTART;TZID=America/New_York:20170925T190000
DTEND;TZID=America/New_York:20170925T213000
CATEGORIES:"morris county", social, singles, speed, dating
LOCATION:Qube Lounge at the Hyatt
WEBSITE:http://morristown.hyatt.com/en/hotel/home.html
URL:http://morristown.hyatt.com/en/hotel/home.html
CONTACT:Brian Melnick
ORGANIZER;CN="Michael Park":http://njyp.org/profile/MichaelPark
ATTACH;FMTTYPE="image/jpeg":http://storage.ning.com/topology/rest/1.0/
 file/get/1088978622?profile=original
ATTENDEE;ROLE=REQ-PARTICIPANT;PARTSTAT=ACCEPTED;RSVP=TRUE;CN=Jason:htt
 p://njyp.org/profile/Jasonnn
ATTENDEE;ROLE=REQ-PARTICIPANT;PARTSTAT=ACCEPTED;RSVP=TRUE;CN=Lisa:http
 ://njyp.org/profile/Lisa874
ATTENDEE;ROLE=REQ-PARTICIPANT;PARTSTAT=ACCEPTED;RSVP=TRUE;CN=Nafees:ht
 tp://njyp.org/profile/Nafees
ATTENDEE;ROLE=REQ-PARTICIPANT;PARTSTAT=ACCEPTED;RSVP=TRUE;CN="Michael 
 Park":http://njyp.org/profile/MichaelPark
ATTENDEE;ROLE=REQ-PARTICIPANT;PARTSTAT=TENTATIVE;RSVP=TRUE;CN="Jordan 
 Chester":http://njyp.org/profile/JordanChester
ATTENDEE;ROLE=REQ-PARTICIPANT;PARTSTAT=TENTATIVE;RSVP=TRUE;CN="Vinnie 
 Romano":http://njyp.org/profile/VinnieRomano
END:VEVENT
END:VCALENDAR
