BEGIN:VCALENDAR
PRODID:NingEventWidget-v1
VERSION:2.0
METHOD:PUBLISH
BEGIN:VTIMEZONE
TZID:America/New_York
X-LIC-LOCATION:America/New_York
BEGIN:DAYLIGHT
TZOFFSETFROM:-0500
TZOFFSETTO:-0400
TZNAME:EDT
DTSTART:19700308T020000
RRULE:FREQ=YEARLY;BYMONTH=3;BYDAY=2SU
END:DAYLIGHT
BEGIN:STANDARD
TZOFFSETFROM:-0400
TZOFFSETTO:-0500
TZNAME:EST
DTSTART:19701101T020000
RRULE:FREQ=YEARLY;BYMONTH=11;BYDAY=1SU
END:STANDARD
END:VTIMEZONE
BEGIN:VEVENT
UID:2938326:Event:740717
DTSTAMP:20260420T134143Z
SUMMARY:Speed Dating in Morristown
DESCRIPTION:\r\nCut the agony out of first-dates with Speed Dating!  
 You’ll have 10 to 15 dates in one night, each only lasting four minu
 tes, so make the time count.  At the end of each mini-rendezvous, pri
 vately note whether you’d like to see your date again – simply cir
 cle Yes or No on your scorecard.  Enter your results online when you 
 return home and within 24 hours, you’ll receive your matches from ou
 r system.  Setting up date number two is up to you!\r\n Age Range: W
 omen and Men who are 23 to 37 Bring ID and make sure you are in our ta
 rgeted age range. We host these events monthly and we do mix up the ag
 e range.\r\nMember Cost: $20 Men/$15 Women Online, (+$5 at the door)
  Non-Member Cost: $30 Men/$25 Women online and at the door.\r\n\r\n2 
 Item Minimum: Everyone must purchase 2 items during this event; food 
 and/or any drink but soda. Bottled water, juice, virgin drinks do coun
 t toward the minimum.\r\n\r\nDirections: Meet in Qube Lounge at the H
 yatt. 8pm registration will occur in Qube and then the group will move
  to a private room so please be on time. http://www.morristown.hyatt.c
 om/hyatt/hotels/index.jsp\n\nFor more information visit http://njyp.or
 g/events/speed-dating-at-qube-in-morristown-3
DTSTART;TZID=America/New_York:20190121T200000
DTEND;TZID=America/New_York:20190121T220000
CATEGORIES:"morris county", social, singles, speed, dating
LOCATION:Qube Lounge at the Hyatt
WEBSITE:http://morristown.hyatt.com/en/hotel/home.html
URL:http://morristown.hyatt.com/en/hotel/home.html
CONTACT:
ORGANIZER;CN="Brian Melnick":http://njyp.org/profile/Brian1218
ATTACH;FMTTYPE="image/jpeg":http://storage.ning.com/topology/rest/1.0/
 file/get/1088978622?profile=original
ATTENDEE;ROLE=REQ-PARTICIPANT;PARTSTAT=ACCEPTED;RSVP=TRUE;CN=Greg:http
 ://njyp.org/profile/Greg754
ATTENDEE;ROLE=REQ-PARTICIPANT;PARTSTAT=ACCEPTED;RSVP=TRUE;CN=Michael:h
 ttp://njyp.org/profile/Michael190
ATTENDEE;ROLE=REQ-PARTICIPANT;PARTSTAT=ACCEPTED;RSVP=TRUE;CN="Brian Me
 lnick":http://njyp.org/profile/Brian1218
ATTENDEE;ROLE=REQ-PARTICIPANT;PARTSTAT=ACCEPTED;RSVP=TRUE;CN=Atish:htt
 p://njyp.org/profile/Atish
END:VEVENT
END:VCALENDAR
