BEGIN:VCALENDAR
PRODID:NingEventWidget-v1
VERSION:2.0
METHOD:PUBLISH
BEGIN:VTIMEZONE
TZID:America/New_York
X-LIC-LOCATION:America/New_York
BEGIN:DAYLIGHT
TZOFFSETFROM:-0500
TZOFFSETTO:-0400
TZNAME:EDT
DTSTART:19700308T020000
RRULE:FREQ=YEARLY;BYMONTH=3;BYDAY=2SU
END:DAYLIGHT
BEGIN:STANDARD
TZOFFSETFROM:-0400
TZOFFSETTO:-0500
TZNAME:EST
DTSTART:19701101T020000
RRULE:FREQ=YEARLY;BYMONTH=11;BYDAY=1SU
END:STANDARD
END:VTIMEZONE
BEGIN:VEVENT
UID:2938326:Event:730512
DTSTAMP:20260421T014346Z
SUMMARY:Speed Dating at VPH in Hoboken
DESCRIPTION:Speed Dating is back in HOBOKEN!\r\nForget those dating ap
 ps, this event will give you real conversations with real matches at V
 illage Pourhouse. Get tix early as this sells out!\r\nYou’ll have 1
 0 to 20+ dates in one night, each only lasting four minutes. At the e
 nd of each mini-rendezvous, privately note whether you’d like to see
  your date again – simply circle Yes or No on your scorecard. You’
 ll receive your matches from our system. Setting up date number two is
  up to you!\r\n Age Range: Women and Men who are 27 to 37. \r\n\r\nMe
 mber Cost: $20.99 Online, $23.99 for walk-ins\r\nNon-Member Cost: $
 24.99 online and at the door\r\n2 Item Minimum:\r\nEveryone must purch
 ase 2 items during this event; food and/or any drink but soda. Bottled
  water, juice, virgin drinks do count toward the minimum.\r\nSpecials:
  Buy one get one on food and $10 buckets of Coors Light during first h
 alf of MNF game  Tickets: There are a limited number of Tickets for sa
 le. Tickets are not mailed, but your name will be kept at the door. Al
 l sales are final, with no refunds or exchanges. We will start promptl
 y at 7:30PM, but feel free to come at 7:00PM.\r\n Directions: We will 
 be in the left private area of the restaurant. Ask staff if you cannot
  find the sign-in table.\r\n\n\nFor more information visit http://njyp
 .org/events/speed-dating-at-vph-in-hoboken
DTSTART;TZID=America/New_York:20171009T190000
DTEND;TZID=America/New_York:20171009T213000
CATEGORIES:"hudson county", social, singles, speed, dating
LOCATION:Village Pourhouse
WEBSITE:
URL:
CONTACT:
ORGANIZER;CN="Michael Park":http://njyp.org/profile/MichaelPark
ATTACH;FMTTYPE="image/jpeg":http://storage.ning.com/topology/rest/1.0/
 file/get/1089143706?profile=original
ATTENDEE;ROLE=REQ-PARTICIPANT;PARTSTAT=ACCEPTED;RSVP=TRUE;CN=Antonio:h
 ttp://njyp.org/profile/Antonio
ATTENDEE;ROLE=REQ-PARTICIPANT;PARTSTAT=ACCEPTED;RSVP=TRUE;CN=Sarah:htt
 p://njyp.org/profile/Sarah40
ATTENDEE;ROLE=REQ-PARTICIPANT;PARTSTAT=ACCEPTED;RSVP=TRUE;CN=Nafees:ht
 tp://njyp.org/profile/Nafees
ATTENDEE;ROLE=REQ-PARTICIPANT;PARTSTAT=ACCEPTED;RSVP=TRUE;CN="Michael 
 Park":http://njyp.org/profile/MichaelPark
ATTENDEE;ROLE=REQ-PARTICIPANT;PARTSTAT=TENTATIVE;RSVP=TRUE;CN="Bhanuj 
 Bawdhane":http://njyp.org/profile/BhanujBawdhane
ATTENDEE;ROLE=REQ-PARTICIPANT;PARTSTAT=TENTATIVE;RSVP=TRUE;CN=Andrea:h
 ttp://njyp.org/profile/DrayaLisa
ATTENDEE;ROLE=REQ-PARTICIPANT;PARTSTAT=TENTATIVE;RSVP=TRUE;CN=Zee:http
 ://njyp.org/profile/Zee687
ATTENDEE;ROLE=REQ-PARTICIPANT;PARTSTAT=TENTATIVE;RSVP=TRUE;CN=Michael:
 http://njyp.org/profile/Michael586
ATTENDEE;ROLE=REQ-PARTICIPANT;PARTSTAT=TENTATIVE;RSVP=TRUE;CN=Tim:http
 ://njyp.org/profile/0ba7sta1qw6hz
END:VEVENT
END:VCALENDAR
