BEGIN:VCALENDAR
PRODID:NingEventWidget-v1
VERSION:2.0
METHOD:PUBLISH
BEGIN:VTIMEZONE
TZID:America/New_York
X-LIC-LOCATION:America/New_York
BEGIN:DAYLIGHT
TZOFFSETFROM:-0500
TZOFFSETTO:-0400
TZNAME:EDT
DTSTART:19700308T020000
RRULE:FREQ=YEARLY;BYMONTH=3;BYDAY=2SU
END:DAYLIGHT
BEGIN:STANDARD
TZOFFSETFROM:-0400
TZOFFSETTO:-0500
TZNAME:EST
DTSTART:19701101T020000
RRULE:FREQ=YEARLY;BYMONTH=11;BYDAY=1SU
END:STANDARD
END:VTIMEZONE
BEGIN:VEVENT
UID:2938326:Event:716118
DTSTAMP:20260420T013834Z
SUMMARY:CANCELED: Speed Dating in Hoboken at The Dubliner
DESCRIPTION:Hi Speed Daters,\nUnfortunately, we need to cancel tonight
 's Hoboken Speed Dating (Wed. 5/4) at Dubliner.\nGood thing is, we hav
 e another Hoboken Speed Dating at Little Town Social on Wed. 7/27, a
 nd if you bought a ticket, we have transferred your credit to there. I
 n addition, we will give you $10.00 off of ANY additional event of you
 r choosing. See your email for the discount code.\nForget those dating
  apps, this event will give you real conversations with real matches a
 t The Dubliner (2nd floor).\nYou’ll have 10 to 20+ dates in one ni
 ght, each only lasting four minutes. At the end of each mini-rendezvou
 s, privately note whether you’d like to see your date again – simp
 ly circle Yes or No on your scorecard. You’ll receive your matches f
 rom our system. Setting up date number two is up to you!\n\nMember Cos
 t: $19.99 Online, $23.99 for walk-ins\nNon-Member Cost: $24.99 online
  and at the door  WOMEN get $5 off with code: meetup5  MEN get $3 of
 f with code: dating3\nAge Range: Women who are 23 to 34. Men who are
  25 to 36. We host these events frequently and we do mix up the age ra
 nge.\n2 Item Minimum: Everyone must purchase 2 items during this even
 t; food and/or any drink but soda. Bottled water, juice, virgin drinks
  do count toward the minimum.\nNJYP-only Specials: $3 Beers, $5 Mixed
  Drinks, $6 personal pizza ($2 off regular price)\nTickets are not ma
 iled, but your name will be kept at the door. All sales are final. We 
 will start at 7:30PM, but feel free to come at 7:00PM.\n Directions: 
 We will be in the left private area of the restaurant. Ask staff if yo
 u cannot find the sign-in table.\n\n\nFor more information visit http:
 //njyp.org/events/speed-dating-in-hoboken-at-the-dubliner
DTSTART;TZID=America/New_York:20160504T191500
DTEND;TZID=America/New_York:20160504T213000
CATEGORIES:"hudson county", social, singles, speed, dating
LOCATION:The Dubliner
WEBSITE:
URL:
CONTACT:
ORGANIZER;CN="Michael Park":http://njyp.org/profile/MichaelPark
ATTACH;FMTTYPE="image/jpeg":http://storage.ning.com/topology/rest/1.0/
 file/get/1089112146?profile=original
ATTENDEE;ROLE=REQ-PARTICIPANT;PARTSTAT=ACCEPTED;RSVP=TRUE;CN=Stanley:h
 ttp://njyp.org/profile/Stanley
ATTENDEE;ROLE=REQ-PARTICIPANT;PARTSTAT=ACCEPTED;RSVP=TRUE;CN=David:htt
 p://njyp.org/profile/David847
ATTENDEE;ROLE=REQ-PARTICIPANT;PARTSTAT=ACCEPTED;RSVP=TRUE;CN=Alireza:h
 ttp://njyp.org/profile/Alireza
ATTENDEE;ROLE=REQ-PARTICIPANT;PARTSTAT=ACCEPTED;RSVP=TRUE;CN="Christop
 her Nadarajah":http://njyp.org/profile/ChristopherNadarajah
ATTENDEE;ROLE=REQ-PARTICIPANT;PARTSTAT=ACCEPTED;RSVP=TRUE;CN=Jason:htt
 p://njyp.org/profile/Jasonnn
ATTENDEE;ROLE=REQ-PARTICIPANT;PARTSTAT=ACCEPTED;RSVP=TRUE;CN="Brian Me
 lnick":http://njyp.org/profile/Brian1218
ATTENDEE;ROLE=REQ-PARTICIPANT;PARTSTAT=ACCEPTED;RSVP=TRUE;CN="Michael 
 Park":http://njyp.org/profile/MichaelPark
ATTENDEE;ROLE=REQ-PARTICIPANT;PARTSTAT=TENTATIVE;RSVP=TRUE;CN="Jorge D
 ":http://njyp.org/profile/JorgeD
ATTENDEE;ROLE=REQ-PARTICIPANT;PARTSTAT=TENTATIVE;RSVP=TRUE;CN="Marisa 
 Nogueira":http://njyp.org/profile/Marisa
ATTENDEE;ROLE=REQ-PARTICIPANT;PARTSTAT=TENTATIVE;RSVP=TRUE;CN=Elizabet
 h:http://njyp.org/profile/ElizabethFoster
ATTENDEE;ROLE=REQ-PARTICIPANT;PARTSTAT=TENTATIVE;RSVP=TRUE;CN=Angelica
 :http://njyp.org/profile/AngelicaAJ
END:VEVENT
END:VCALENDAR
