BEGIN:VCALENDAR
PRODID:NingEventWidget-v1
VERSION:2.0
METHOD:PUBLISH
BEGIN:VTIMEZONE
TZID:America/New_York
X-LIC-LOCATION:America/New_York
BEGIN:DAYLIGHT
TZOFFSETFROM:-0500
TZOFFSETTO:-0400
TZNAME:EDT
DTSTART:19700308T020000
RRULE:FREQ=YEARLY;BYMONTH=3;BYDAY=2SU
END:DAYLIGHT
BEGIN:STANDARD
TZOFFSETFROM:-0400
TZOFFSETTO:-0500
TZNAME:EST
DTSTART:19701101T020000
RRULE:FREQ=YEARLY;BYMONTH=11;BYDAY=1SU
END:STANDARD
END:VTIMEZONE
BEGIN:VEVENT
UID:2938326:Event:712598
DTSTAMP:20260419T172307Z
SUMMARY:Speed Dating in New Brunswick
DESCRIPTION:\n\n\n\nUpdate: Sold Out for Men!\n\n\nCut the agony out o
 f first-dates with Speed Dating! Youâ€™ll haveÂ 10 to 15 datesÂ in one
  night, each only lasting four minutes, so make the time count. At the
  end of each mini-rendezvous, privately note whether youâ€™d like to s
 ee your date again â€“ simply circle Yes or No on your scorecard.Â Ent
 er your results onlineÂ when you return home and within 24 hours, youâ
 €™ll receive your matches from our system. Setting up date number two 
 is up to you!  Age Range: Women who are 25 to 35 Men who are 25 to 35 
 Bring ID and make sure you are in our targeted age range. We host thes
 e events monthly and we do mix up the age range.\nMember Cost:Â $15 On
 line,Â $20 for walk-ins\nNon-Member Cost:Â $20 online and at the door 
  2 Item Minimum:Â Everyone must purchase 2 items during this event; fo
 od and/or any drink but soda. Bottled water, juice, virgin drinks do c
 ount toward the minimum.\nNJYP-only Drink Specials: $4 beer, $5 mixed 
 drinks (7-8pm)  Tickets:Â There are a limited number of Tickets for sa
 le. Tickets are not mailed, but your name will be kept at the door. Al
 l sales are final.\nDirections:http://glonj.com/\nVarious street parki
 ng and big garage down the street. We will be the ONLY ones at Glo.\nP
 lease note: Glo also has a $20 min credit card purchase so please brin
 g cash if you are not going to spend $20.\n\nFor more information visi
 t http://njyp.org/events/speed-dating-in-new-brunswick
DTSTART;TZID=America/New_York:20160126T190000
DTEND;TZID=America/New_York:20160126T210000
CATEGORIES:"middlesex county", social, singles, speed, dating
LOCATION:Glo Lounge
WEBSITE:http://www.glonj.com/
URL:http://www.glonj.com/
CONTACT:
ORGANIZER;CN="Brian Melnick":http://njyp.org/profile/Brian1218
ATTACH;FMTTYPE="image/jpeg":http://storage.ning.com/topology/rest/1.0/
 file/get/1088886142?profile=original
ATTENDEE;ROLE=REQ-PARTICIPANT;PARTSTAT=ACCEPTED;RSVP=TRUE;CN=George:ht
 tp://njyp.org/profile/George
ATTENDEE;ROLE=REQ-PARTICIPANT;PARTSTAT=ACCEPTED;RSVP=TRUE;CN="Brian Me
 lnick":http://njyp.org/profile/Brian1218
ATTENDEE;ROLE=REQ-PARTICIPANT;PARTSTAT=ACCEPTED;RSVP=TRUE;CN=Mike:http
 ://njyp.org/profile/Mike568
ATTENDEE;ROLE=REQ-PARTICIPANT;PARTSTAT=ACCEPTED;RSVP=TRUE;CN="Rashee V
 asudeva":http://njyp.org/profile/RasheeVasudeva
ATTENDEE;ROLE=REQ-PARTICIPANT;PARTSTAT=ACCEPTED;RSVP=TRUE;CN="Michael 
 Park":http://njyp.org/profile/MichaelPark
ATTENDEE;ROLE=REQ-PARTICIPANT;PARTSTAT=ACCEPTED;RSVP=TRUE;CN=Mikael:ht
 tp://njyp.org/profile/Mikael
ATTENDEE;ROLE=REQ-PARTICIPANT;PARTSTAT=ACCEPTED;RSVP=TRUE;CN="Andri Ma
 tos":http://njyp.org/profile/AndriMatos
ATTENDEE;ROLE=REQ-PARTICIPANT;PARTSTAT=TENTATIVE;RSVP=TRUE;CN=Angelica
 :http://njyp.org/profile/AngelicaAJ
END:VEVENT
END:VCALENDAR
