BEGIN:VCALENDAR
PRODID:NingEventWidget-v1
VERSION:2.0
METHOD:PUBLISH
BEGIN:VTIMEZONE
TZID:America/New_York
X-LIC-LOCATION:America/New_York
BEGIN:DAYLIGHT
TZOFFSETFROM:-0500
TZOFFSETTO:-0400
TZNAME:EDT
DTSTART:19700308T020000
RRULE:FREQ=YEARLY;BYMONTH=3;BYDAY=2SU
END:DAYLIGHT
BEGIN:STANDARD
TZOFFSETFROM:-0400
TZOFFSETTO:-0500
TZNAME:EST
DTSTART:19701101T020000
RRULE:FREQ=YEARLY;BYMONTH=11;BYDAY=1SU
END:STANDARD
END:VTIMEZONE
BEGIN:VEVENT
UID:2938326:Event:40063
DTSTAMP:20260420T042923Z
SUMMARY:Speed Dating, Jewish Singles
DESCRIPTION:So sorry but there was not enough interest in this event a
 nd it has been canceled.\n\nDo you want to see another type of niche S
 peed Dating event? Submit requests here, http://www.surveymonkey.com/s
 /536ZR5L\n\n10 to 15 dates in one night! That is what you will get at 
 any of our Speed Dating events. You will meet one-on-one for 4 minutes
  with other single Young Professionals. At the end of each date you wi
 ll privately circle Yes or No on your scorecard; letting us know if yo
 u would want to see your date again. At the end of the night we collec
 t your scorecards and within 24 hours we will send you the contact inf
 ormation of your mutual matches. Setting up real dates is then up to y
 ou!\n\nThis is a time sensitive event. If you arrive after 7:30 we can
 not seat you nor refund your ticket cost.\n\nAge Range:\nJewish Single
 s who are 25-35 years old (+/- a year is ok).\nBring ID and make sure 
 you are in our targeted age range.\nWe host these events monthly and w
 e do mix up the age range.\n\n2 Item Minimum:\nThere is a 2 item minim
 um purchase during this event. You can buy beer, wine, soda, bottled w
 ater, appetizers, etc.\n\n\nRSVP (to the right) and we will let you kn
 ow when tix are almost gone, when prices are going up, if there are an
 y changes, etc.\n\nMember Cost:\n$5 for the first 5 to register\n$10 f
 or the next 6 to 20 to register\n$15 for the next 21 to 40 to register
 \n$20 for walk-ins\n\nNon-Member Cost:\n$20 online and at the door\n\n
 Tickets:\nThere are a limited number of Tickets for sale. Tickets are 
 not mailed, but your name will be kept at the door. All sales are fina
 l.\n\nHost:\nBibi will be hosting this event.\n\nDirections:\nWe will 
 be meeting on the Venetian Grill side of Central Pizzeria. If you ente
 r via Central Pizzeria head to the very back where the bar is.\nLots o
 f public parking behind the buildings.\nhttp://www.centralpizzeria.com
 /\n\nFor more information visit http://njyp.org/events/speed-dating-je
 wish-singles
DTSTART;TZID=America/New_York:20100216T190000
DTEND;TZID=America/New_York:20100216T210000
CATEGORIES:"somerset county", social
LOCATION:Venetian Grill - enter via Central Pizzeria
WEBSITE:
URL:
CONTACT:
ORGANIZER;CN="Brian and Mike":http://njyp.org/profile/BrianMike
ATTACH;FMTTYPE="image/jpeg":http://storage.ning.com/topology/rest/1.0/
 file/get/1088592947?profile=original
ATTENDEE;ROLE=REQ-PARTICIPANT;PARTSTAT=ACCEPTED;RSVP=TRUE;CN="Ronen Co
 hen":http://njyp.org/profile/RonenCohen
ATTENDEE;ROLE=REQ-PARTICIPANT;PARTSTAT=ACCEPTED;RSVP=TRUE;CN=Noah:http
 ://njyp.org/profile/Noah
ATTENDEE;ROLE=REQ-PARTICIPANT;PARTSTAT=ACCEPTED;RSVP=TRUE;CN=Steve:htt
 p://njyp.org/profile/SteveTimmerman
ATTENDEE;ROLE=REQ-PARTICIPANT;PARTSTAT=ACCEPTED;RSVP=TRUE;CN=Daniel:ht
 tp://njyp.org/profile/joeblogs
ATTENDEE;ROLE=REQ-PARTICIPANT;PARTSTAT=ACCEPTED;RSVP=TRUE;CN="Brian an
 d Mike":http://njyp.org/profile/BrianMike
ATTENDEE;ROLE=REQ-PARTICIPANT;PARTSTAT=TENTATIVE;RSVP=TRUE;CN="Karen S
 .":http://njyp.org/profile/KarenS
END:VEVENT
END:VCALENDAR
