BEGIN:VCALENDAR
PRODID:NingEventWidget-v1
VERSION:2.0
METHOD:PUBLISH
BEGIN:VTIMEZONE
TZID:America/New_York
X-LIC-LOCATION:America/New_York
BEGIN:DAYLIGHT
TZOFFSETFROM:-0500
TZOFFSETTO:-0400
TZNAME:EDT
DTSTART:19700308T020000
RRULE:FREQ=YEARLY;BYMONTH=3;BYDAY=2SU
END:DAYLIGHT
BEGIN:STANDARD
TZOFFSETFROM:-0400
TZOFFSETTO:-0500
TZNAME:EST
DTSTART:19701101T020000
RRULE:FREQ=YEARLY;BYMONTH=11;BYDAY=1SU
END:STANDARD
END:VTIMEZONE
BEGIN:VEVENT
UID:2938326:Event:21941
DTSTAMP:20260420T091025Z
SUMMARY:Speed Dating, Mixed Age Range
DESCRIPTION:What is Speed Dating? You will meet with someone of the op
 posite gender for a few minutes, then, at the ring of a bell, move to 
 the next person. Keep track of who you want to exchange information wi
 th on a scorecard that we provide and we will make the matches within 
 24 hours of the event! That's right, no awkward moments where you requ
 est digits. If they want to see you again and you want to see them aga
 in, we make the match!\n\nThis is a time sensitive event. If you arriv
 e after 7:30 we cannot seat you nor refund your ticket cost.\n\nAge Ra
 nge:\nMen MUST be 35-45 years old.\nWomen MUST be 32-42 years old\nBri
 ng ID and make sure you are in our targeted age range.\nWe host these 
 events often and we do mix up the age range.\n\n2 Item Minimum:\nThere
  is a 2 item minimum purchase during this event. You can buy beer, win
 e, soda, bottled water, appetizers, etc.\n\n\nRSVP (to the right) and 
 we will let you know when tix are almost gone, when prices are going u
 p, if there are any changes, etc.\n\nMember Cost:\n$5 for the first 5 
 to register\n$10 for the next 6 to 20 to register\n$15 for the next 21
  to 40 to register\n$20 for walk-ins\n\nNon-Member Cost:\n$20 online a
 nd at the door\n\nTickets:\nThere are a limited number of Tickets for 
 sale.\nTickets are not mailed, but your name will be kept at the door.
 \nAll sales are final.\n\nFinding the Group:\nAsk staff for the Speed 
 Dating event.\nWe will be in the private room.\n\nFor more information
  visit http://njyp.org/events/speed-dating-mixed-age-range
DTSTART;TZID=America/New_York:20091103T190000
DTEND;TZID=America/New_York:20091103T210000
CATEGORIES:"somerset county", social
LOCATION:Houlihans
WEBSITE:
URL:
CONTACT:
ORGANIZER;CN="Brian and Mike":http://njyp.org/profile/BrianMike
ATTACH;FMTTYPE="image/jpeg":http://storage.ning.com/topology/rest/1.0/
 file/get/1088563659?profile=original
ATTENDEE;ROLE=REQ-PARTICIPANT;PARTSTAT=ACCEPTED;RSVP=TRUE;CN=Caroline:
 http://njyp.org/profile/CarolineWesoly
ATTENDEE;ROLE=REQ-PARTICIPANT;PARTSTAT=ACCEPTED;RSVP=TRUE;CN=Michele:h
 ttp://njyp.org/profile/MicheleEsposito
ATTENDEE;ROLE=REQ-PARTICIPANT;PARTSTAT=ACCEPTED;RSVP=TRUE;CN="Kate Swe
 eney":http://njyp.org/profile/KateSweeney
ATTENDEE;ROLE=REQ-PARTICIPANT;PARTSTAT=ACCEPTED;RSVP=TRUE;CN="Doug Bem
 an":http://njyp.org/profile/DougBeman
ATTENDEE;ROLE=REQ-PARTICIPANT;PARTSTAT=ACCEPTED;RSVP=TRUE;CN="Brian an
 d Mike":http://njyp.org/profile/BrianMike
ATTENDEE;ROLE=REQ-PARTICIPANT;PARTSTAT=TENTATIVE;RSVP=TRUE;CN=Frank:ht
 tp://njyp.org/profile/FrankAbreu
END:VEVENT
END:VCALENDAR
