BEGIN:VCALENDAR
PRODID:NingEventWidget-v1
VERSION:2.0
METHOD:PUBLISH
BEGIN:VTIMEZONE
TZID:America/New_York
X-LIC-LOCATION:America/New_York
BEGIN:DAYLIGHT
TZOFFSETFROM:-0500
TZOFFSETTO:-0400
TZNAME:EDT
DTSTART:19700308T020000
RRULE:FREQ=YEARLY;BYMONTH=3;BYDAY=2SU
END:DAYLIGHT
BEGIN:STANDARD
TZOFFSETFROM:-0400
TZOFFSETTO:-0500
TZNAME:EST
DTSTART:19701101T020000
RRULE:FREQ=YEARLY;BYMONTH=11;BYDAY=1SU
END:STANDARD
END:VTIMEZONE
BEGIN:VEVENT
UID:2938326:Event:328376
DTSTAMP:20260419T205104Z
SUMMARY:Speed Dating: Mixed Ages
DESCRIPTION:10 to 15 dates in one night! That is what you will get at 
 any of our Speed Dating events. You will meet one-on-one for 4 minutes
  with other single Young Professionals. At the end of each date you wi
 ll privately circle Yes or No on your scorecard; noting if you would w
 ant to see your date again. At the end of the night you will return ho
 me and enter your results online.  Within 24 hours you will receive y
 our mutual matches. Setting up real dates is then up to you!  Age Rang
 e: Women who are 25 to 35 Men who are 29 to 39 Bring ID and make sure 
 you are in our targeted age range. We host these events monthly and we
  do mix up the age range.\n \n Member Cost: $10 for the first 20 to re
 gister online $15 for the next 21 to 40 to register online $20 for wal
 k-ins  Non-Member Cost: $20 online and at the door  2 Item Minimum: Ev
 eryone must purchase 2 drinks during this event; any drink but soda. c
 ounts.  Bottled water, juice, virgin drinks do count toward the minim
 um.  Tickets: There are a limited number of Tickets for sale. Tickets 
 are not mailed, but your name will be kept at the door. All sales are 
 final.  Finding the Group: We will be the ONLY ones at Glo.  Direction
 s: http://glonj.com/ Various street parking and big garage down the st
 reet.\n\nFor more information visit http://njyp.org/events/speed-datin
 g-mixed-ages-14
DTSTART;TZID=America/New_York:20120403T190000
DTEND;TZID=America/New_York:20120403T210000
CATEGORIES:"middlesex county", social, singles
LOCATION:Glo Lounge
WEBSITE:http://www.glonj.com/
URL:http://www.glonj.com/
CONTACT:
ORGANIZER;CN="Brian and Mike":http://njyp.org/profile/BrianMike
ATTACH;FMTTYPE="image/jpeg":http://storage.ning.com/topology/rest/1.0/
 file/get/1088619326?profile=original
ATTENDEE;ROLE=REQ-PARTICIPANT;PARTSTAT=ACCEPTED;RSVP=TRUE;CN=JD:http:/
 /njyp.org/profile/JD
ATTENDEE;ROLE=REQ-PARTICIPANT;PARTSTAT=ACCEPTED;RSVP=TRUE;CN="Jason Go
 lieb":http://njyp.org/profile/JasonGolieb
ATTENDEE;ROLE=REQ-PARTICIPANT;PARTSTAT=ACCEPTED;RSVP=TRUE;CN=denise:ht
 tp://njyp.org/profile/denise453
ATTENDEE;ROLE=REQ-PARTICIPANT;PARTSTAT=ACCEPTED;RSVP=TRUE;CN=Jennifer:
 http://njyp.org/profile/Jennifer930
ATTENDEE;ROLE=REQ-PARTICIPANT;PARTSTAT=ACCEPTED;RSVP=TRUE;CN="eefrin a
 ka \"E\"":http://njyp.org/profile/Eefrin
ATTENDEE;ROLE=REQ-PARTICIPANT;PARTSTAT=ACCEPTED;RSVP=TRUE;CN=Vikram:ht
 tp://njyp.org/profile/Vikram
ATTENDEE;ROLE=REQ-PARTICIPANT;PARTSTAT=ACCEPTED;RSVP=TRUE;CN="Brian an
 d Mike":http://njyp.org/profile/BrianMike
ATTENDEE;ROLE=REQ-PARTICIPANT;PARTSTAT=TENTATIVE;RSVP=TRUE;CN=Madelein
 e:http://njyp.org/profile/Madeleine
ATTENDEE;ROLE=REQ-PARTICIPANT;PARTSTAT=TENTATIVE;RSVP=TRUE;CN=James:ht
 tp://njyp.org/profile/JamesShow
END:VEVENT
END:VCALENDAR
