BEGIN:VCALENDAR
PRODID:NingEventWidget-v1
VERSION:2.0
METHOD:PUBLISH
BEGIN:VTIMEZONE
TZID:America/New_York
X-LIC-LOCATION:America/New_York
BEGIN:DAYLIGHT
TZOFFSETFROM:-0500
TZOFFSETTO:-0400
TZNAME:EDT
DTSTART:19700308T020000
RRULE:FREQ=YEARLY;BYMONTH=3;BYDAY=2SU
END:DAYLIGHT
BEGIN:STANDARD
TZOFFSETFROM:-0400
TZOFFSETTO:-0500
TZNAME:EST
DTSTART:19701101T020000
RRULE:FREQ=YEARLY;BYMONTH=11;BYDAY=1SU
END:STANDARD
END:VTIMEZONE
BEGIN:VEVENT
UID:2938326:Event:94353
DTSTAMP:20260420T141243Z
SUMMARY:Speed Dating: Mixed Ages
DESCRIPTION:10 to 15 dates in one night! That is what you will get at 
 any of our Speed Dating events. You will meet one-on-one for 4 minutes
  with other single Professionals. At the end of each date you will pri
 vately circle Yes or No on your scorecard; letting us know if you woul
 d want to see your date again. At the end of the night we collect your
  scorecards and within 24 hours we will send you the contact informati
 on of your mutual matches. Setting up real dates is then up to you!\n\
 n\n\nAge Range:\nWOMEN - Ages 34 to 44\nMEN - Ages 37 to 47\nBring ID 
 and make sure you are in our targeted age range.\nWe host these events
  monthly and we do mix up the age range.\n\n2 Item Minimum:\nThere is 
 a 2 item minimum drink/food purchase during this event. You can buy be
 er, wine, soda, bottled water, appetizers, etc.\n\nMember Cost:\n$10 f
 or the first 20 to register\n$15 for the next 21 to 40 to register\n$2
 0 for walk-ins\n\nNon-Member Cost:\n$20 online and at the door\n\nTick
 ets:\nThere are a limited number of Tickets for sale. Tickets are not 
 mailed, but your name will be kept at the door. All sales are final.\n
 \nFinding the Group:\nWe will meet in Qube Lounge first then head over
  to a private room at 7:30. Ask staff if you cannot find us.\n\nDirect
 ions:\nhttp://morristown.hyatt.com/hyatt/hotels/index.jsp\nVarious str
 eet parking and decks.\n\nFor more information visit http://njyp.org/e
 vents/speed-dating-mixed-ages-2
DTSTART;TZID=America/New_York:20100929T190000
DTEND;TZID=America/New_York:20100929T210000
CATEGORIES:"morris county", social, singles
LOCATION:Qube Lounge at the Hyatt
WEBSITE:http://morristown.hyatt.com/hyatt/hotels/index.jsp
URL:http://morristown.hyatt.com/hyatt/hotels/index.jsp
CONTACT:
ORGANIZER;CN="Brian and Mike":http://njyp.org/profile/BrianMike
ATTACH;FMTTYPE="image/jpeg":http://storage.ning.com/topology/rest/1.0/
 file/get/1088636477?profile=original
ATTENDEE;ROLE=REQ-PARTICIPANT;PARTSTAT=ACCEPTED;RSVP=TRUE;CN="Vincent 
 Pittaro":http://njyp.org/profile/VincentPittaroJr
ATTENDEE;ROLE=REQ-PARTICIPANT;PARTSTAT=ACCEPTED;RSVP=TRUE;CN="Deya Mat
 os":http://njyp.org/profile/DeyaMatos
ATTENDEE;ROLE=REQ-PARTICIPANT;PARTSTAT=ACCEPTED;RSVP=TRUE;CN="Jenna Cl
 ausen":http://njyp.org/profile/JennaClausen
ATTENDEE;ROLE=REQ-PARTICIPANT;PARTSTAT=ACCEPTED;RSVP=TRUE;CN=Jessica:h
 ttp://njyp.org/profile/Jessica0707
ATTENDEE;ROLE=REQ-PARTICIPANT;PARTSTAT=ACCEPTED;RSVP=TRUE;CN=Amar:http
 ://njyp.org/profile/Amar
ATTENDEE;ROLE=REQ-PARTICIPANT;PARTSTAT=ACCEPTED;RSVP=TRUE;CN="Michael 
 Camerlengo":http://njyp.org/profile/MichaelCamerlengo
ATTENDEE;ROLE=REQ-PARTICIPANT;PARTSTAT=ACCEPTED;RSVP=TRUE;CN=Meredith:
 http://njyp.org/profile/MeredithC
ATTENDEE;ROLE=REQ-PARTICIPANT;PARTSTAT=ACCEPTED;RSVP=TRUE;CN="Brian an
 d Mike":http://njyp.org/profile/BrianMike
ATTENDEE;ROLE=REQ-PARTICIPANT;PARTSTAT=TENTATIVE;RSVP=TRUE;CN=Caroline
 :http://njyp.org/profile/CarolineWesoly
ATTENDEE;ROLE=REQ-PARTICIPANT;PARTSTAT=TENTATIVE;RSVP=TRUE;CN=Larry:ht
 tp://njyp.org/profile/LarryYang
ATTENDEE;ROLE=REQ-PARTICIPANT;PARTSTAT=TENTATIVE;RSVP=TRUE;CN="Sarah M
 iddleton":http://njyp.org/profile/SarahM
END:VEVENT
END:VCALENDAR
