BEGIN:VCALENDAR
PRODID:NingEventWidget-v1
VERSION:2.0
METHOD:PUBLISH
BEGIN:VTIMEZONE
TZID:America/New_York
X-LIC-LOCATION:America/New_York
BEGIN:DAYLIGHT
TZOFFSETFROM:-0500
TZOFFSETTO:-0400
TZNAME:EDT
DTSTART:19700308T020000
RRULE:FREQ=YEARLY;BYMONTH=3;BYDAY=2SU
END:DAYLIGHT
BEGIN:STANDARD
TZOFFSETFROM:-0400
TZOFFSETTO:-0500
TZNAME:EST
DTSTART:19701101T020000
RRULE:FREQ=YEARLY;BYMONTH=11;BYDAY=1SU
END:STANDARD
END:VTIMEZONE
BEGIN:VEVENT
UID:2938326:Event:524752
DTSTAMP:20260422T065017Z
SUMMARY:Speed Dating: Mixed Ages in Paramus
DESCRIPTION:Due to the pending snow storm this event has been moved fr
 om 3.3.14 to 3.11.14. Â If you cannot make the new date please send re
 fund requests to Laura@NJYP.org by 3.4.14.\nÂ \nCut the agony out of f
 irst-dates with Speed Dating! Â Youâ€™ll have 10 to 15 dates in one ni
 ght, each only lasting four minutes, so make the time count. Â At the 
 end of each mini-rendezvous, privately note whether youâ€™d like to se
 e your date again â€“ simply circle Yes or No on your scorecard. Â Ent
 er your results online when you return home and within 24 hours, youâ€
 ™ll receive your matches from our system. Â Setting up date number two
  is up to you!\n Age Range: Women who are 21 to 31 Men who areÂ 24 to 
 34 Bring ID and make sure you are in our targeted age range. We host t
 hese events monthly and we do mix up the age range.\n\n\nÂ \nMember Co
 st: $15 Online $20 for walk-ins Non-Member Cost: $20 online and at the
  door 2 Item Minimum: Everyone must purchase 2 items during this event
 ; food and/or any drink but soda. Bottled water, juice, virgin drinks 
 do count toward the minimum. Tickets: There are a limited number of Ti
 ckets for sale. Tickets are not mailed, but your name will be kept at 
 the door. All sales are final. Directions: We will be in theÂ cafe are
 aÂ that is off the hotel lobby. The Bonefish Grill is connected to the
  Crowne Plaza Hotel. You can see the restaurant from the Parkway. You 
 can also see the restaurant from the Paramus Park Mall if you are on t
 he Macyâ€™s side.\n\nFor more information visit http://njyp.org/events
 /speed-dating-mixed-ages-22
DTSTART;TZID=America/New_York:20140311T190000
DTEND;TZID=America/New_York:20140311T210000
CATEGORIES:"bergen county", social, singles
LOCATION:Bonefish Grill at the Crowne Plaza Hotel
WEBSITE:
URL:
CONTACT:
ORGANIZER;CN="Brian and Mike":http://njyp.org/profile/BrianMike
ATTACH;FMTTYPE="image/jpeg":http://storage.ning.com/topology/rest/1.0/
 file/get/1088886142?profile=original
ATTENDEE;ROLE=REQ-PARTICIPANT;PARTSTAT=ACCEPTED;RSVP=TRUE;CN=Jeremy:ht
 tp://njyp.org/profile/Jeremy501
ATTENDEE;ROLE=REQ-PARTICIPANT;PARTSTAT=ACCEPTED;RSVP=TRUE;CN=Joseph:ht
 tp://njyp.org/profile/JosephTakach
ATTENDEE;ROLE=REQ-PARTICIPANT;PARTSTAT=ACCEPTED;RSVP=TRUE;CN=Jeff:http
 ://njyp.org/profile/JeffK
ATTENDEE;ROLE=REQ-PARTICIPANT;PARTSTAT=ACCEPTED;RSVP=TRUE;CN=Karyn:htt
 p://njyp.org/profile/Karyn
ATTENDEE;ROLE=REQ-PARTICIPANT;PARTSTAT=ACCEPTED;RSVP=TRUE;CN="Brian an
 d Mike":http://njyp.org/profile/BrianMike
ATTENDEE;ROLE=REQ-PARTICIPANT;PARTSTAT=TENTATIVE;RSVP=TRUE;CN=Fran:htt
 p://njyp.org/profile/Fran
ATTENDEE;ROLE=REQ-PARTICIPANT;PARTSTAT=TENTATIVE;RSVP=TRUE;CN=Avni:htt
 p://njyp.org/profile/Avni
ATTENDEE;ROLE=REQ-PARTICIPANT;PARTSTAT=TENTATIVE;RSVP=TRUE;CN="Janet M
 urray":http://njyp.org/profile/JanetMurray
ATTENDEE;ROLE=REQ-PARTICIPANT;PARTSTAT=TENTATIVE;RSVP=TRUE;CN=Richard:
 http://njyp.org/profile/RichardSeifert
ATTENDEE;ROLE=REQ-PARTICIPANT;PARTSTAT=TENTATIVE;RSVP=TRUE;CN=Kaitlyn:
 http://njyp.org/profile/Kaitlyn666
END:VEVENT
END:VCALENDAR
