BEGIN:VCALENDAR
PRODID:NingEventWidget-v1
VERSION:2.0
METHOD:PUBLISH
BEGIN:VTIMEZONE
TZID:America/New_York
X-LIC-LOCATION:America/New_York
BEGIN:DAYLIGHT
TZOFFSETFROM:-0500
TZOFFSETTO:-0400
TZNAME:EDT
DTSTART:19700308T020000
RRULE:FREQ=YEARLY;BYMONTH=3;BYDAY=2SU
END:DAYLIGHT
BEGIN:STANDARD
TZOFFSETFROM:-0400
TZOFFSETTO:-0500
TZNAME:EST
DTSTART:19701101T020000
RRULE:FREQ=YEARLY;BYMONTH=11;BYDAY=1SU
END:STANDARD
END:VTIMEZONE
BEGIN:VEVENT
UID:2938326:Event:530642
DTSTAMP:20260419T221323Z
SUMMARY:Speed Dating: Mixed Ages
DESCRIPTION:Cut the agony out of first-dates with Speed Dating! You’
 ll have 10 to 15 dates in one night, each only lasting four minutes, s
 o make the time count. At the end of each mini-rendezvous, privately n
 ote whether you’d like to see your date again – simply circle Yes 
 or No on your scorecard. Enter your results online when you return hom
 e and within 24 hours, you’ll receive your matches from our system. 
 Setting up date number two is up to you! Age Range: Women who are 23 t
 o 33 Men who are 27 to 37 Bring ID and make sure you are in our target
 ed age range. We host these events monthly and we do mix up the age ra
 nge.\n \n\nMember Cost: $15 Online $20 for walk-ins Non-Member Cost: 
 $20 online and at the door 2 Item Minimum: Everyone must purchase 2 it
 ems during this event; food and/or any drink but soda. Bottled water, 
 juice, virgin drinks do count toward the minimum. Tickets: There are a
  limited number of Tickets for sale. Tickets are not mailed, but your 
 name will be kept at the door. All sales are final. Directions: http:/
 /rednj.com/ Various street parking and decks. You can find the group 
 UPSTAIRS at Red.\n\nFor more information visit http://njyp.org/events/
 speed-dating-mixed-ages-24
DTSTART;TZID=America/New_York:20140320T190000
DTEND;TZID=America/New_York:20140320T210000
CATEGORIES:"monmouth county", social, singles
LOCATION:Red (meet upstairs)
WEBSITE:http://rednj.com/
URL:http://rednj.com/
CONTACT:
ORGANIZER;CN="Brian and Mike":http://njyp.org/profile/BrianMike
ATTACH;FMTTYPE="image/jpeg":http://storage.ning.com/topology/rest/1.0/
 file/get/1088886142?profile=original
ATTENDEE;ROLE=REQ-PARTICIPANT;PARTSTAT=ACCEPTED;RSVP=TRUE;CN=Keith:htt
 p://njyp.org/profile/Keith873
ATTENDEE;ROLE=REQ-PARTICIPANT;PARTSTAT=ACCEPTED;RSVP=TRUE;CN=Nicole:ht
 tp://njyp.org/profile/Nicole267
ATTENDEE;ROLE=REQ-PARTICIPANT;PARTSTAT=ACCEPTED;RSVP=TRUE;CN="Danielle
  Gazonas":http://njyp.org/profile/Danielle873
ATTENDEE;ROLE=REQ-PARTICIPANT;PARTSTAT=ACCEPTED;RSVP=TRUE;CN=Kara:http
 ://njyp.org/profile/Kara393
ATTENDEE;ROLE=REQ-PARTICIPANT;PARTSTAT=ACCEPTED;RSVP=TRUE;CN=Cassandra
 :http://njyp.org/profile/Cassandra
ATTENDEE;ROLE=REQ-PARTICIPANT;PARTSTAT=ACCEPTED;RSVP=TRUE;CN="Brian an
 d Mike":http://njyp.org/profile/BrianMike
ATTENDEE;ROLE=REQ-PARTICIPANT;PARTSTAT=TENTATIVE;RSVP=TRUE;CN=Iyeshia:
 http://njyp.org/profile/Iyeshia
ATTENDEE;ROLE=REQ-PARTICIPANT;PARTSTAT=TENTATIVE;RSVP=TRUE;CN="Lindsey
  Schneider":http://njyp.org/profile/LindseySchneider
ATTENDEE;ROLE=REQ-PARTICIPANT;PARTSTAT=TENTATIVE;RSVP=TRUE;CN=Caela:ht
 tp://njyp.org/profile/Caela
ATTENDEE;ROLE=REQ-PARTICIPANT;PARTSTAT=TENTATIVE;RSVP=TRUE;CN=Tia:http
 ://njyp.org/profile/Tia192
ATTENDEE;ROLE=REQ-PARTICIPANT;PARTSTAT=TENTATIVE;RSVP=TRUE;CN=Emily:ht
 tp://njyp.org/profile/Emily269
ATTENDEE;ROLE=REQ-PARTICIPANT;PARTSTAT=TENTATIVE;RSVP=TRUE;CN=Michele:
 http://njyp.org/profile/MicheleSanto
END:VEVENT
END:VCALENDAR
