BEGIN:VCALENDAR
PRODID:NingEventWidget-v1
VERSION:2.0
METHOD:PUBLISH
BEGIN:VTIMEZONE
TZID:America/New_York
X-LIC-LOCATION:America/New_York
BEGIN:DAYLIGHT
TZOFFSETFROM:-0500
TZOFFSETTO:-0400
TZNAME:EDT
DTSTART:19700308T020000
RRULE:FREQ=YEARLY;BYMONTH=3;BYDAY=2SU
END:DAYLIGHT
BEGIN:STANDARD
TZOFFSETFROM:-0400
TZOFFSETTO:-0500
TZNAME:EST
DTSTART:19701101T020000
RRULE:FREQ=YEARLY;BYMONTH=11;BYDAY=1SU
END:STANDARD
END:VTIMEZONE
BEGIN:VEVENT
UID:2938326:Event:536842
DTSTAMP:20260420T215720Z
SUMMARY:Speed Dating: Mixed Ages in Bloomfield
DESCRIPTION:Cut the agony out of first-dates with Speed Dating! Â Youâ
 €™ll have 10 to 15 dates in one night, each only lasting four minutes,
  so make the time count. Â At the end of each mini-rendezvous, private
 ly note whether youâ€™d like to see your date again â€“ simply circle 
 Yes or No on your scorecard. Â Enter your results online when you retu
 rn home and within 24 hours, youâ€™ll receive your matches from our sy
 stem. Â Setting up date number two is up to you!\n Age Range: Women wh
 o are 24 to 34 Men who areÂ 27 to 37 Bring ID and make sure you are in
  our targeted age range. We host these events monthly and we do mix up
  the age range.\nÂ \n\nMember Cost: $15 Online $20 for walk-ins Non-Me
 mber Cost: $20 online and at the door 2 Item Minimum: Everyone must pu
 rchase 2 items during this event; food and/or any drink but soda. Bott
 led water, juice, virgin drinks do count toward the minimum. Tickets: 
 There are a limited number of Tickets for sale. Tickets are not mailed
 , but your name will be kept at the door. All sales are final.\n\nFind
 ing the Group: We will meet upstairs for registration. Ask staff if yo
 u cannot find us.\n\nDirections: http://www.senoritasmexicangrill.com/
  - Bloomfield location Various street parking and train station lot.\n
 \nFor more information visit http://njyp.org/events/speed-dating-mixed
 -ages-in-bloomfield-1
DTSTART;TZID=America/New_York:20140422T190000
DTEND;TZID=America/New_York:20140422T210000
CATEGORIES:"essex county", social, singles
LOCATION:Senorita's Mexican Restaurant
WEBSITE:http://www.senoritasmexicangrill.com/
URL:http://www.senoritasmexicangrill.com/
CONTACT:
ORGANIZER;CN="Brian and Mike":http://njyp.org/profile/BrianMike
ATTACH;FMTTYPE="image/jpeg":http://storage.ning.com/topology/rest/1.0/
 file/get/1088886142?profile=original
ATTENDEE;ROLE=REQ-PARTICIPANT;PARTSTAT=ACCEPTED;RSVP=TRUE;CN=Lionel:ht
 tp://njyp.org/profile/Lionel
ATTENDEE;ROLE=REQ-PARTICIPANT;PARTSTAT=ACCEPTED;RSVP=TRUE;CN=David:htt
 p://njyp.org/profile/DavidKasten
ATTENDEE;ROLE=REQ-PARTICIPANT;PARTSTAT=ACCEPTED;RSVP=TRUE;CN=Melanie:h
 ttp://njyp.org/profile/Melanie971
ATTENDEE;ROLE=REQ-PARTICIPANT;PARTSTAT=ACCEPTED;RSVP=TRUE;CN=Michael:h
 ttp://njyp.org/profile/Michael95
ATTENDEE;ROLE=REQ-PARTICIPANT;PARTSTAT=ACCEPTED;RSVP=TRUE;CN=Karyn:htt
 p://njyp.org/profile/Karyn
ATTENDEE;ROLE=REQ-PARTICIPANT;PARTSTAT=ACCEPTED;RSVP=TRUE;CN=Ameer:htt
 p://njyp.org/profile/AmeerElkorany
ATTENDEE;ROLE=REQ-PARTICIPANT;PARTSTAT=ACCEPTED;RSVP=TRUE;CN=Evelyn:ht
 tp://njyp.org/profile/Evelyn110
ATTENDEE;ROLE=REQ-PARTICIPANT;PARTSTAT=ACCEPTED;RSVP=TRUE;CN="alyssa R
 ego":http://njyp.org/profile/Alyssa177
ATTENDEE;ROLE=REQ-PARTICIPANT;PARTSTAT=ACCEPTED;RSVP=TRUE;CN="Brian an
 d Mike":http://njyp.org/profile/BrianMike
ATTENDEE;ROLE=REQ-PARTICIPANT;PARTSTAT=TENTATIVE;RSVP=TRUE;CN=Jonathan
 :http://njyp.org/profile/Jonathan581
ATTENDEE;ROLE=REQ-PARTICIPANT;PARTSTAT=TENTATIVE;RSVP=TRUE;CN=Edward:h
 ttp://njyp.org/profile/EKotwica
ATTENDEE;ROLE=REQ-PARTICIPANT;PARTSTAT=TENTATIVE;RSVP=TRUE;CN=Ogechi:h
 ttp://njyp.org/profile/Ogechi
ATTENDEE;ROLE=REQ-PARTICIPANT;PARTSTAT=TENTATIVE;RSVP=TRUE;CN=Michelle
 :http://njyp.org/profile/MichelleBell
ATTENDEE;ROLE=REQ-PARTICIPANT;PARTSTAT=TENTATIVE;RSVP=TRUE;CN=Vishal:h
 ttp://njyp.org/profile/Vishal
ATTENDEE;ROLE=REQ-PARTICIPANT;PARTSTAT=TENTATIVE;RSVP=TRUE;CN=Michael:
 http://njyp.org/profile/Michael858
ATTENDEE;ROLE=REQ-PARTICIPANT;PARTSTAT=TENTATIVE;RSVP=TRUE;CN=Jessica:
 http://njyp.org/profile/Jessica543
END:VEVENT
END:VCALENDAR
