BEGIN:VCALENDAR
PRODID:NingEventWidget-v1
VERSION:2.0
METHOD:PUBLISH
BEGIN:VTIMEZONE
TZID:America/New_York
X-LIC-LOCATION:America/New_York
BEGIN:DAYLIGHT
TZOFFSETFROM:-0500
TZOFFSETTO:-0400
TZNAME:EDT
DTSTART:19700308T020000
RRULE:FREQ=YEARLY;BYMONTH=3;BYDAY=2SU
END:DAYLIGHT
BEGIN:STANDARD
TZOFFSETFROM:-0400
TZOFFSETTO:-0500
TZNAME:EST
DTSTART:19701101T020000
RRULE:FREQ=YEARLY;BYMONTH=11;BYDAY=1SU
END:STANDARD
END:VTIMEZONE
BEGIN:VEVENT
UID:2938326:Event:246924
DTSTAMP:20260422T095601Z
SUMMARY:Speed Dating: Mixed Ages in Hoboken
DESCRIPTION:10 to 15 dates in one night! That is what you will get at 
 any of our Speed Dating events. You will meet one-on-one for 4 minutes
  with other single Young Professionals. At the end of each date you wi
 ll privately circle Yes or No on your scorecard; noting if you would w
 ant to see your date again. At the end of the night you will return ho
 me and enter your results online.  Within 24 hours you will receive y
 our mutual matches. Setting up real dates is then up to you!\nBonus!St
 ick around after 9pm for Game Night and Taco Tuesday (buy a drink, get
  a free taco).\n Member Cost:$10 for the first 20 to register$15 for t
 he next 21 to 40 to register$20 for walk-insNon-Member Cost:$20 online
  and at the doorAge Range:Women who are 21 to 31 years oldMen who are 
 25 to 35 years oldBring ID and make sure you are in our targeted age r
 ange.We host these events monthly and we do mix up the age range.2 Ite
 m Minimum:Everyone must purchase 2 items during this event; food and/o
 r any drink but soda. Bottled water, juice, virgin drinks do count tow
 ard the minimum.Tickets:There are a limited number of Tickets for sale
 .Tickets are not mailed, but your name will be kept at the door. All s
 ales are final.Directions:We will be in the BACK of the restaurant.  
 Ask staff if you cannot find the sign-in table. http://hoboken.village
 pourhouse.com/\n\nFor more information visit http://njyp.org/events/sp
 eed-dating-mixed-ages-in-hob
DTSTART;TZID=America/New_York:20110920T190000
DTEND;TZID=America/New_York:20110920T210000
CATEGORIES:"hudson county", social, singles
LOCATION:Village Pourhouse
WEBSITE:http://hoboken.villagepourhouse.com/?p=specials
URL:http://hoboken.villagepourhouse.com/?p=specials
CONTACT:
ORGANIZER;CN="Brian and Mike":http://njyp.org/profile/BrianMike
ATTACH;FMTTYPE="image/jpeg":http://storage.ning.com/topology/rest/1.0/
 file/get/1088709424?profile=original
ATTENDEE;ROLE=REQ-PARTICIPANT;PARTSTAT=ACCEPTED;RSVP=TRUE;CN="Lynn Ada
 mo":http://njyp.org/profile/LynnAdamo
ATTENDEE;ROLE=REQ-PARTICIPANT;PARTSTAT=ACCEPTED;RSVP=TRUE;CN="Brittany
  Burke":http://njyp.org/profile/BrittanyBurke
ATTENDEE;ROLE=REQ-PARTICIPANT;PARTSTAT=ACCEPTED;RSVP=TRUE;CN=Peter:htt
 p://njyp.org/profile/Peter778
ATTENDEE;ROLE=REQ-PARTICIPANT;PARTSTAT=ACCEPTED;RSVP=TRUE;CN=John:http
 ://njyp.org/profile/John483
ATTENDEE;ROLE=REQ-PARTICIPANT;PARTSTAT=ACCEPTED;RSVP=TRUE;CN=Diana:htt
 p://njyp.org/profile/Diana437
ATTENDEE;ROLE=REQ-PARTICIPANT;PARTSTAT=ACCEPTED;RSVP=TRUE;CN=Marco:htt
 p://njyp.org/profile/MarcoFranco
ATTENDEE;ROLE=REQ-PARTICIPANT;PARTSTAT=ACCEPTED;RSVP=TRUE;CN=Anup:http
 ://njyp.org/profile/Anup
ATTENDEE;ROLE=REQ-PARTICIPANT;PARTSTAT=ACCEPTED;RSVP=TRUE;CN=Patricia:
 http://njyp.org/profile/Patricia685
ATTENDEE;ROLE=REQ-PARTICIPANT;PARTSTAT=ACCEPTED;RSVP=TRUE;CN=Amanda:ht
 tp://njyp.org/profile/Amanda710
ATTENDEE;ROLE=REQ-PARTICIPANT;PARTSTAT=ACCEPTED;RSVP=TRUE;CN=Nancy:htt
 p://njyp.org/profile/Nancy307
ATTENDEE;ROLE=REQ-PARTICIPANT;PARTSTAT=ACCEPTED;RSVP=TRUE;CN="Jenna Cl
 ausen":http://njyp.org/profile/JennaClausen
ATTENDEE;ROLE=REQ-PARTICIPANT;PARTSTAT=ACCEPTED;RSVP=TRUE;CN="Brian an
 d Mike":http://njyp.org/profile/BrianMike
ATTENDEE;ROLE=REQ-PARTICIPANT;PARTSTAT=TENTATIVE;RSVP=TRUE;CN=Joshua:h
 ttp://njyp.org/profile/Joshua007
ATTENDEE;ROLE=REQ-PARTICIPANT;PARTSTAT=TENTATIVE;RSVP=TRUE;CN="Michael
  Maloof":http://njyp.org/profile/MichaelMaloof
ATTENDEE;ROLE=REQ-PARTICIPANT;PARTSTAT=TENTATIVE;RSVP=TRUE;CN=Digant:h
 ttp://njyp.org/profile/Digant
ATTENDEE;ROLE=REQ-PARTICIPANT;PARTSTAT=TENTATIVE;RSVP=TRUE;CN=Maurice:
 http://njyp.org/profile/Maurice
ATTENDEE;ROLE=REQ-PARTICIPANT;PARTSTAT=TENTATIVE;RSVP=TRUE;CN=Jeff:htt
 p://njyp.org/profile/Jeff203
ATTENDEE;ROLE=REQ-PARTICIPANT;PARTSTAT=TENTATIVE;RSVP=TRUE;CN=junette:
 http://njyp.org/profile/junette
ATTENDEE;ROLE=REQ-PARTICIPANT;PARTSTAT=TENTATIVE;RSVP=TRUE;CN="Devika 
 Bakhshi":http://njyp.org/profile/Devika
ATTENDEE;ROLE=REQ-PARTICIPANT;PARTSTAT=TENTATIVE;RSVP=TRUE;CN="Jeff Ka
 lison":http://njyp.org/profile/JeffKalison
ATTENDEE;ROLE=REQ-PARTICIPANT;PARTSTAT=TENTATIVE;RSVP=TRUE;CN=Janene:h
 ttp://njyp.org/profile/Janene
ATTENDEE;ROLE=REQ-PARTICIPANT;PARTSTAT=TENTATIVE;RSVP=TRUE;CN="Anne Ma
 rie":http://njyp.org/profile/AnneMarie376
END:VEVENT
END:VCALENDAR
