BEGIN:VCALENDAR
PRODID:NingEventWidget-v1
VERSION:2.0
METHOD:PUBLISH
BEGIN:VTIMEZONE
TZID:America/New_York
X-LIC-LOCATION:America/New_York
BEGIN:DAYLIGHT
TZOFFSETFROM:-0500
TZOFFSETTO:-0400
TZNAME:EDT
DTSTART:19700308T020000
RRULE:FREQ=YEARLY;BYMONTH=3;BYDAY=2SU
END:DAYLIGHT
BEGIN:STANDARD
TZOFFSETFROM:-0400
TZOFFSETTO:-0500
TZNAME:EST
DTSTART:19701101T020000
RRULE:FREQ=YEARLY;BYMONTH=11;BYDAY=1SU
END:STANDARD
END:VTIMEZONE
BEGIN:VEVENT
UID:2938326:Event:327787
DTSTAMP:20260420T041201Z
SUMMARY:Speed Dating: Mixed Ages in Montgomery
DESCRIPTION:So sorry, not enough sign-ups so we will have to cancel. R
 efunds will be sent via Paypal.\n10 to 15 dates in one night! That is 
 what you will get at any of our Speed Dating events. You will meet one
 -on-one for 4 minutes with other single Young Professionals. At the en
 d of each date you will privately circle Yes or No on your scorecard; 
 noting if you would want to see your date again. At the end of the nig
 ht you will return home and enter your results online.  Within 24 hou
 rs you will receive your mutual matches. Setting up real dates is then
  up to you!  Age Range: Women who are 25 to 35 Men who are 29 to 39 Br
 ing ID and make sure you are in our targeted age range. We host these 
 events monthly and we do mix up the age range.  \n Member Cost: $10 fo
 r the first 20 to register online $15 for the next 21 to 40 to registe
 r online $20 for walk-ins  Non-Member Cost: $20 online and at the door
   2 Item Minimum: Everyone must purchase 2 items during this event; an
 y drink but soda. counts.  Bottled water, juice, virgin drinks do cou
 nt toward the minimum.  Tickets: There are a limited number of Tickets
  for sale. Tickets are not mailed, but your name will be kept at the d
 oor. All sales are final.  Finding the Group: We will meet in LOUNGE. 
 Ask staff if you cannot find us.  Directions: http://tuskrestaurant.co
 m/ Plenty of parking.\n\nFor more information visit http://njyp.org/ev
 ents/speed-dating-mixed-ages-in-montgomery-1
DTSTART;TZID=America/New_York:20120327T190000
DTEND;TZID=America/New_York:20120327T210000
CATEGORIES:"somerset county", "mercer county", singles
LOCATION:Tusk Restaurant and Lounge
WEBSITE:http://tuskrestaurant.com/
URL:http://tuskrestaurant.com/
CONTACT:
ORGANIZER;CN="Brian and Mike":http://njyp.org/profile/BrianMike
ATTACH;FMTTYPE="image/jpeg":http://storage.ning.com/topology/rest/1.0/
 file/get/1088763074?profile=original
ATTENDEE;ROLE=REQ-PARTICIPANT;PARTSTAT=ACCEPTED;RSVP=TRUE;CN=Jennifer:
 http://njyp.org/profile/Jennifer930
ATTENDEE;ROLE=REQ-PARTICIPANT;PARTSTAT=ACCEPTED;RSVP=TRUE;CN=Fernando:
 http://njyp.org/profile/Fernando530
ATTENDEE;ROLE=REQ-PARTICIPANT;PARTSTAT=ACCEPTED;RSVP=TRUE;CN=Chisoo:ht
 tp://njyp.org/profile/Chisoo
ATTENDEE;ROLE=REQ-PARTICIPANT;PARTSTAT=ACCEPTED;RSVP=TRUE;CN=denise:ht
 tp://njyp.org/profile/denise453
ATTENDEE;ROLE=REQ-PARTICIPANT;PARTSTAT=ACCEPTED;RSVP=TRUE;CN="Brian an
 d Mike":http://njyp.org/profile/BrianMike
ATTENDEE;ROLE=REQ-PARTICIPANT;PARTSTAT=TENTATIVE;RSVP=TRUE;CN="Allison
  Werst":http://njyp.org/profile/AllisonWerst
ATTENDEE;ROLE=REQ-PARTICIPANT;PARTSTAT=TENTATIVE;RSVP=TRUE;CN=VIVEK:ht
 tp://njyp.org/profile/VIVEK441
END:VEVENT
END:VCALENDAR
