BEGIN:VCALENDAR
PRODID:NingEventWidget-v1
VERSION:2.0
METHOD:PUBLISH
BEGIN:VTIMEZONE
TZID:America/New_York
X-LIC-LOCATION:America/New_York
BEGIN:DAYLIGHT
TZOFFSETFROM:-0500
TZOFFSETTO:-0400
TZNAME:EDT
DTSTART:19700308T020000
RRULE:FREQ=YEARLY;BYMONTH=3;BYDAY=2SU
END:DAYLIGHT
BEGIN:STANDARD
TZOFFSETFROM:-0400
TZOFFSETTO:-0500
TZNAME:EST
DTSTART:19701101T020000
RRULE:FREQ=YEARLY;BYMONTH=11;BYDAY=1SU
END:STANDARD
END:VTIMEZONE
BEGIN:VEVENT
UID:2938326:Event:566140
DTSTAMP:20260421T052634Z
SUMMARY:Speed Dating: Mixed Ages in Morristown
DESCRIPTION:Cut the agony out of first-dates with Speed Dating! Â Youâ
 €™ll have 10 to 15 dates in one night, each only lasting four minutes,
  so make the time count. Â At the end of each mini-rendezvous, private
 ly note whether youâ€™d like to see your date again â€“ simply circle 
 Yes or No on your scorecard. Â Enter your results online when you retu
 rn home and within 24 hours, youâ€™ll receive your matches from our sy
 stem. Â Setting up date number two is up to you!\n Age Range: Women wh
 o are 25 to 35 Men who areÂ 29 to 39 Bring ID and make sure you are in
  our targeted age range. We host these events monthly and we do mix up
  the age range.\nÂ \n\nMember Cost: $15 Online $20 for walk-ins  Non-M
 ember Cost: $20 online and at the door  2 Item Minimum: Everyone must 
 purchase 2 items during this event; food and/or any drink but soda. Bo
 ttled water, juice, virgin drinks do count toward the minimum.  Ticket
 s: There are a limited number of Tickets for sale. Tickets are not mai
 led, but your name will be kept at the door. All sales are final.  Dir
 ections: Meet in Qube Lounge at the Hyatt. 7pm registration will occur
  in Qube and then the group will move to a private room so please be o
 n time. http://www.morristown.hyatt.com/hyatt/hotels/index.jsp\n\nFor 
 more information visit http://njyp.org/events/speed-dating-mixed-ages-
 in-morristown
DTSTART;TZID=America/New_York:20140623T190000
DTEND;TZID=America/New_York:20140623T210000
CATEGORIES:"morris county", social, singles
LOCATION:Qube Lounge at the Hyatt
WEBSITE:http://morristown.hyatt.com/en/hotel/home.html
URL:http://morristown.hyatt.com/en/hotel/home.html
CONTACT:
ORGANIZER;CN="Brian and Mike":http://njyp.org/profile/BrianMike
ATTACH;FMTTYPE="image/jpeg":http://storage.ning.com/topology/rest/1.0/
 file/get/1088978622?profile=original
ATTENDEE;ROLE=REQ-PARTICIPANT;PARTSTAT=ACCEPTED;RSVP=TRUE;CN=Rachel:ht
 tp://njyp.org/profile/Rachel912
ATTENDEE;ROLE=REQ-PARTICIPANT;PARTSTAT=ACCEPTED;RSVP=TRUE;CN=Janel:htt
 p://njyp.org/profile/JanelCraine
ATTENDEE;ROLE=REQ-PARTICIPANT;PARTSTAT=ACCEPTED;RSVP=TRUE;CN=Kitanya:h
 ttp://njyp.org/profile/Kitanya
ATTENDEE;ROLE=REQ-PARTICIPANT;PARTSTAT=ACCEPTED;RSVP=TRUE;CN=Mae:http:
 //njyp.org/profile/Mae
ATTENDEE;ROLE=REQ-PARTICIPANT;PARTSTAT=ACCEPTED;RSVP=TRUE;CN=Steven:ht
 tp://njyp.org/profile/Steven66
ATTENDEE;ROLE=REQ-PARTICIPANT;PARTSTAT=ACCEPTED;RSVP=TRUE;CN=Courtney:
 http://njyp.org/profile/Courtney660
ATTENDEE;ROLE=REQ-PARTICIPANT;PARTSTAT=ACCEPTED;RSVP=TRUE;CN=Carmine:h
 ttp://njyp.org/profile/Carmine
ATTENDEE;ROLE=REQ-PARTICIPANT;PARTSTAT=ACCEPTED;RSVP=TRUE;CN=Kevin:htt
 p://njyp.org/profile/Kevin164
ATTENDEE;ROLE=REQ-PARTICIPANT;PARTSTAT=ACCEPTED;RSVP=TRUE;CN=Lynn:http
 ://njyp.org/profile/Lynn399
ATTENDEE;ROLE=REQ-PARTICIPANT;PARTSTAT=ACCEPTED;RSVP=TRUE;CN="Brian an
 d Mike":http://njyp.org/profile/BrianMike
ATTENDEE;ROLE=REQ-PARTICIPANT;PARTSTAT=TENTATIVE;RSVP=TRUE;CN=Matt:htt
 p://njyp.org/profile/MatthewRodman
ATTENDEE;ROLE=REQ-PARTICIPANT;PARTSTAT=TENTATIVE;RSVP=TRUE;CN=Will:htt
 p://njyp.org/profile/William
ATTENDEE;ROLE=REQ-PARTICIPANT;PARTSTAT=TENTATIVE;RSVP=TRUE;CN=Weiying:
 http://njyp.org/profile/Weiying
ATTENDEE;ROLE=REQ-PARTICIPANT;PARTSTAT=TENTATIVE;RSVP=TRUE;CN=Valerie:
 http://njyp.org/profile/Valerie266
END:VEVENT
END:VCALENDAR
