BEGIN:VCALENDAR
PRODID:NingEventWidget-v1
VERSION:2.0
METHOD:PUBLISH
BEGIN:VTIMEZONE
TZID:America/New_York
X-LIC-LOCATION:America/New_York
BEGIN:DAYLIGHT
TZOFFSETFROM:-0500
TZOFFSETTO:-0400
TZNAME:EDT
DTSTART:19700308T020000
RRULE:FREQ=YEARLY;BYMONTH=3;BYDAY=2SU
END:DAYLIGHT
BEGIN:STANDARD
TZOFFSETFROM:-0400
TZOFFSETTO:-0500
TZNAME:EST
DTSTART:19701101T020000
RRULE:FREQ=YEARLY;BYMONTH=11;BYDAY=1SU
END:STANDARD
END:VTIMEZONE
BEGIN:VEVENT
UID:2938326:Event:566118
DTSTAMP:20260421T014341Z
SUMMARY:Speed Dating: Mixed Ages in Princeton
DESCRIPTION:Cut the agony out of first-dates with Speed Dating! Â Youâ
 €™ll have 10 to 15 dates in one night, each only lasting four minutes,
  so make the time count. Â At the end of each mini-rendezvous, private
 ly note whether youâ€™d like to see your date again â€“ simply circle 
 Yes or No on your scorecard. Â Enter your results online when you retu
 rn home and within 24 hours, youâ€™ll receive your matches from our sy
 stem. Â Setting up date number two is up to you!\n Age Range: Women wh
 o are 25 to 35 Men who areÂ 29 to 39 Bring ID and make sure you are in
  our targeted age range. We host these events monthly and we do mix up
  the age range.\nÂ \n\nMember Cost: $15 Online $20 for walk-ins  Non-M
 ember Cost: $20 online and at the door  2 Item Minimum: Everyone must 
 purchase 2 items during this event; food and/or any drink but soda. Bo
 ttled water, juice, virgin drinks do count toward the minimum.  Ticket
 s: There are a limited number of Tickets for sale. Tickets are not mai
 led, but your name will be kept at the door. All sales are final.  Dir
 ections: Register at our sign in table; ask staff. Free Parking. Pure 
 is connected to theÂ Clarion Palmer Inn.\nhttp://www.pureprinceton.com
 /contact-us/\n\nFor more information visit http://njyp.org/events/spee
 d-dating-mixed-ages-in-princeton-1
DTSTART;TZID=America/New_York:20140617T190000
DTEND;TZID=America/New_York:20140617T210000
CATEGORIES:"mercer county", social, singles
LOCATION:PURE at the Clarion Palmer Inn
WEBSITE:http://www.pureprinceton.com/contact-us/
URL:http://www.pureprinceton.com/contact-us/
CONTACT:
ORGANIZER;CN="Brian and Mike":http://njyp.org/profile/BrianMike
ATTACH;FMTTYPE="image/jpeg":http://storage.ning.com/topology/rest/1.0/
 file/get/1088977491?profile=original
ATTENDEE;ROLE=REQ-PARTICIPANT;PARTSTAT=ACCEPTED;RSVP=TRUE;CN="Carlton 
 Hurdle Jr":http://njyp.org/profile/CarltonHurdleJr
ATTENDEE;ROLE=REQ-PARTICIPANT;PARTSTAT=ACCEPTED;RSVP=TRUE;CN=abhilash:
 http://njyp.org/profile/abhilash
ATTENDEE;ROLE=REQ-PARTICIPANT;PARTSTAT=ACCEPTED;RSVP=TRUE;CN=Heather:h
 ttp://njyp.org/profile/Heather940
ATTENDEE;ROLE=REQ-PARTICIPANT;PARTSTAT=ACCEPTED;RSVP=TRUE;CN=Kim:http:
 //njyp.org/profile/Kim126
ATTENDEE;ROLE=REQ-PARTICIPANT;PARTSTAT=ACCEPTED;RSVP=TRUE;CN=Karim:htt
 p://njyp.org/profile/Karim984
ATTENDEE;ROLE=REQ-PARTICIPANT;PARTSTAT=ACCEPTED;RSVP=TRUE;CN=Colleen:h
 ttp://njyp.org/profile/Colleen52
ATTENDEE;ROLE=REQ-PARTICIPANT;PARTSTAT=ACCEPTED;RSVP=TRUE;CN=James:htt
 p://njyp.org/profile/JamesShow
ATTENDEE;ROLE=REQ-PARTICIPANT;PARTSTAT=ACCEPTED;RSVP=TRUE;CN="Brian an
 d Mike":http://njyp.org/profile/BrianMike
ATTENDEE;ROLE=REQ-PARTICIPANT;PARTSTAT=TENTATIVE;RSVP=TRUE;CN=Manish:h
 ttp://njyp.org/profile/Manish
ATTENDEE;ROLE=REQ-PARTICIPANT;PARTSTAT=TENTATIVE;RSVP=TRUE;CN=Tara:htt
 p://njyp.org/profile/Tara15
ATTENDEE;ROLE=REQ-PARTICIPANT;PARTSTAT=TENTATIVE;RSVP=TRUE;CN=Katie:ht
 tp://njyp.org/profile/Katie192
END:VEVENT
END:VCALENDAR
